BEGIN:VCALENDAR
VERSION:2.0
PRODID:-//Uptown Westerville Inc - ECPv6.15.20//NONSGML v1.0//EN
CALSCALE:GREGORIAN
METHOD:PUBLISH
X-WR-CALNAME:Uptown Westerville Inc
X-ORIGINAL-URL:https://uptownwestervilleinc.com
X-WR-CALDESC:Events for Uptown Westerville Inc
REFRESH-INTERVAL;VALUE=DURATION:PT1H
X-Robots-Tag:noindex
X-PUBLISHED-TTL:PT1H
BEGIN:VTIMEZONE
TZID:America/New_York
BEGIN:DAYLIGHT
TZOFFSETFROM:-0500
TZOFFSETTO:-0400
TZNAME:EDT
DTSTART:20250309T070000
END:DAYLIGHT
BEGIN:STANDARD
TZOFFSETFROM:-0400
TZOFFSETTO:-0500
TZNAME:EST
DTSTART:20251102T060000
END:STANDARD
BEGIN:DAYLIGHT
TZOFFSETFROM:-0500
TZOFFSETTO:-0400
TZNAME:EDT
DTSTART:20260308T070000
END:DAYLIGHT
BEGIN:STANDARD
TZOFFSETFROM:-0400
TZOFFSETTO:-0500
TZNAME:EST
DTSTART:20261101T060000
END:STANDARD
BEGIN:DAYLIGHT
TZOFFSETFROM:-0500
TZOFFSETTO:-0400
TZNAME:EDT
DTSTART:20270314T070000
END:DAYLIGHT
BEGIN:STANDARD
TZOFFSETFROM:-0400
TZOFFSETTO:-0500
TZNAME:EST
DTSTART:20271107T060000
END:STANDARD
END:VTIMEZONE
BEGIN:VEVENT
DTSTART;TZID=America/New_York:20260423T180000
DTEND;TZID=America/New_York:20260423T200000
DTSTAMP:20260423T053653
CREATED:20260405T235101Z
LAST-MODIFIED:20260405T235101Z
UID:990003083-1776967200-1776974400@uptownwestervilleinc.com
SUMMARY:Plant Pot Paint & Sip
DESCRIPTION:unleash your inner artist and give your beloved plants a home that’s as unique as they are! in this creative workshop\, we’re skipping the pre-made pots and diving into the fun of designing and painting your very own planter. you’ll be provided with a planter pot\, paint\, brushes\, and all the necessary supplies to bring your vision to life. included in the ticket is also a drink! \n*must be 21+ to attend*
URL:https://uptownwestervilleinc.com/event/plant-pot-paint-sip-3/
LOCATION:over grown\, 10 N State Street\, Westerville\, OH\, 43081\, United States
CATEGORIES:arts workshop
ATTACH;FMTTYPE=image/png:https://uptownwestervilleinc.com/wp-content/uploads/2026/03/5-2.png
GEO:40.1262554;-82.9315565
X-APPLE-STRUCTURED-LOCATION;VALUE=URI;X-ADDRESS=over grown 10 N State Street Westerville OH 43081 United States;X-APPLE-RADIUS=500;X-TITLE=10 N State Street:geo:-82.9315565,40.1262554
END:VEVENT
END:VCALENDAR