BEGIN:VCALENDAR
VERSION:2.0
PRODID:-//Uptown Westerville Inc - ECPv6.15.20//NONSGML v1.0//EN
CALSCALE:GREGORIAN
METHOD:PUBLISH
X-WR-CALNAME:Uptown Westerville Inc
X-ORIGINAL-URL:https://uptownwestervilleinc.com
X-WR-CALDESC:Events for Uptown Westerville Inc
REFRESH-INTERVAL;VALUE=DURATION:PT1H
X-Robots-Tag:noindex
X-PUBLISHED-TTL:PT1H
BEGIN:VTIMEZONE
TZID:America/New_York
BEGIN:DAYLIGHT
TZOFFSETFROM:-0500
TZOFFSETTO:-0400
TZNAME:EDT
DTSTART:20240310T070000
END:DAYLIGHT
BEGIN:STANDARD
TZOFFSETFROM:-0400
TZOFFSETTO:-0500
TZNAME:EST
DTSTART:20241103T060000
END:STANDARD
BEGIN:DAYLIGHT
TZOFFSETFROM:-0500
TZOFFSETTO:-0400
TZNAME:EDT
DTSTART:20250309T070000
END:DAYLIGHT
BEGIN:STANDARD
TZOFFSETFROM:-0400
TZOFFSETTO:-0500
TZNAME:EST
DTSTART:20251102T060000
END:STANDARD
BEGIN:DAYLIGHT
TZOFFSETFROM:-0500
TZOFFSETTO:-0400
TZNAME:EDT
DTSTART:20260308T070000
END:DAYLIGHT
BEGIN:STANDARD
TZOFFSETFROM:-0400
TZOFFSETTO:-0500
TZNAME:EST
DTSTART:20261101T060000
END:STANDARD
END:VTIMEZONE
BEGIN:VEVENT
DTSTART;TZID=America/New_York:20251228T163000
DTEND;TZID=America/New_York:20251228T173000
DTSTAMP:20260421T214848
CREATED:20251124T191413Z
LAST-MODIFIED:20251124T191449Z
UID:990002611-1766939400-1766943000@uptownwestervilleinc.com
SUMMARY:Plant Your New Year Intentions
DESCRIPTION:Start the new year with a beautiful blend of mindfulness and greenery! Join us for our new year intention potting class\, a creative way to set your goals and plant the seeds for a fantastic year ahead. \nWe’ll start by taking a few moments to reflect on the intentions\, hopes\, or goals you have for the upcoming year. you’ll write these intentions down\, then we will guide you through the process of carefully planting your intentions into the soil along with a beautiful new houseplant.
URL:https://uptownwestervilleinc.com/event/plant-your-new-year-intentions/
LOCATION:over grown\, 10 N State Street\, Westerville\, OH\, 43081\, United States
CATEGORIES:arts workshop
ATTACH;FMTTYPE=image/webp:https://uptownwestervilleinc.com/wp-content/uploads/2025/11/12-28-25-plant-new-year.webp
GEO:40.1262554;-82.9315565
X-APPLE-STRUCTURED-LOCATION;VALUE=URI;X-ADDRESS=over grown 10 N State Street Westerville OH 43081 United States;X-APPLE-RADIUS=500;X-TITLE=10 N State Street:geo:-82.9315565,40.1262554
END:VEVENT
END:VCALENDAR