BEGIN:VCALENDAR
VERSION:2.0
PRODID:-//Uptown Westerville Inc - ECPv6.15.20//NONSGML v1.0//EN
CALSCALE:GREGORIAN
METHOD:PUBLISH
X-WR-CALNAME:Uptown Westerville Inc
X-ORIGINAL-URL:https://uptownwestervilleinc.com
X-WR-CALDESC:Events for Uptown Westerville Inc
REFRESH-INTERVAL;VALUE=DURATION:PT1H
X-Robots-Tag:noindex
X-PUBLISHED-TTL:PT1H
BEGIN:VTIMEZONE
TZID:America/New_York
BEGIN:DAYLIGHT
TZOFFSETFROM:-0500
TZOFFSETTO:-0400
TZNAME:EDT
DTSTART:20250309T070000
END:DAYLIGHT
BEGIN:STANDARD
TZOFFSETFROM:-0400
TZOFFSETTO:-0500
TZNAME:EST
DTSTART:20251102T060000
END:STANDARD
BEGIN:DAYLIGHT
TZOFFSETFROM:-0500
TZOFFSETTO:-0400
TZNAME:EDT
DTSTART:20260308T070000
END:DAYLIGHT
BEGIN:STANDARD
TZOFFSETFROM:-0400
TZOFFSETTO:-0500
TZNAME:EST
DTSTART:20261101T060000
END:STANDARD
BEGIN:DAYLIGHT
TZOFFSETFROM:-0500
TZOFFSETTO:-0400
TZNAME:EDT
DTSTART:20270314T070000
END:DAYLIGHT
BEGIN:STANDARD
TZOFFSETFROM:-0400
TZOFFSETTO:-0500
TZNAME:EST
DTSTART:20271107T060000
END:STANDARD
END:VTIMEZONE
BEGIN:VEVENT
DTSTART;TZID=America/New_York:20260517T090000
DTEND;TZID=America/New_York:20260517T110000
DTSTAMP:20260421T142026
CREATED:20260421T160146Z
LAST-MODIFIED:20260421T161154Z
UID:990003140-1779008400-1779015600@uptownwestervilleinc.com
SUMMARY:Tunnel to Towers 5K Run & Walk
DESCRIPTION:The Tunnel to Towers Run & Walk Series was created to honor the heroic life and death of Stephen Siller\, a New York City firefighter (FDNY) who lost his life on September 11\, 2001 after strapping on his gear and running through the Brooklyn Battery Tunnel to the Twin Towers. Honor all of those who lost their lives on September 11\, 2001 and support our first responders and military who make extraordinary sacrifices in the line of duty! For more information on the Tunnel to Towers Foundation please visit www.t2t.org. \nWe are excited to once again bring together the community to honor first responders\, remember 9/11\, and raise funds for the Tunnel to Towers programs.
URL:https://uptownwestervilleinc.com/event/tunnel-to-towers-5k-run-walk/
LOCATION:Westerville Sports Complex\, North Cleveland Avenue\, Westerville\, Ohio\, 43081\, United States
CATEGORIES:Fundraisers,Health & Wellness
ATTACH;FMTTYPE=image/png:https://uptownwestervilleinc.com/wp-content/uploads/2026/04/tunnel-to-towers.png
ORGANIZER;CN="Tunnel to Towers Foundation":MAILTO:westerville@t2t.org
GEO:40.133764;-82.9480896
X-APPLE-STRUCTURED-LOCATION;VALUE=URI;X-ADDRESS=Westerville Sports Complex North Cleveland Avenue Westerville Ohio 43081 United States;X-APPLE-RADIUS=500;X-TITLE=North Cleveland Avenue:geo:-82.9480896,40.133764
END:VEVENT
END:VCALENDAR