BEGIN:VCALENDAR
VERSION:2.0
PRODID:-//Uptown Westerville Inc - ECPv6.15.20//NONSGML v1.0//EN
CALSCALE:GREGORIAN
METHOD:PUBLISH
X-ORIGINAL-URL:https://uptownwestervilleinc.com
X-WR-CALDESC:Events for Uptown Westerville Inc
REFRESH-INTERVAL;VALUE=DURATION:PT1H
X-Robots-Tag:noindex
X-PUBLISHED-TTL:PT1H
BEGIN:VTIMEZONE
TZID:America/New_York
BEGIN:DAYLIGHT
TZOFFSETFROM:-0500
TZOFFSETTO:-0400
TZNAME:EDT
DTSTART:20250309T070000
END:DAYLIGHT
BEGIN:STANDARD
TZOFFSETFROM:-0400
TZOFFSETTO:-0500
TZNAME:EST
DTSTART:20251102T060000
END:STANDARD
BEGIN:DAYLIGHT
TZOFFSETFROM:-0500
TZOFFSETTO:-0400
TZNAME:EDT
DTSTART:20260308T070000
END:DAYLIGHT
BEGIN:STANDARD
TZOFFSETFROM:-0400
TZOFFSETTO:-0500
TZNAME:EST
DTSTART:20261101T060000
END:STANDARD
BEGIN:DAYLIGHT
TZOFFSETFROM:-0500
TZOFFSETTO:-0400
TZNAME:EDT
DTSTART:20270314T070000
END:DAYLIGHT
BEGIN:STANDARD
TZOFFSETFROM:-0400
TZOFFSETTO:-0500
TZNAME:EST
DTSTART:20271107T060000
END:STANDARD
END:VTIMEZONE
BEGIN:VEVENT
DTSTART;TZID=America/New_York:20260711T100000
DTEND;TZID=America/New_York:20260712T160000
DTSTAMP:20260419T234046
CREATED:20260302T165824Z
LAST-MODIFIED:20260302T165824Z
UID:990002807-1783764000-1783872000@uptownwestervilleinc.com
SUMMARY:Westerville Music & Arts Festival
DESCRIPTION:The festival features 125 fine arts and crafts exhibitors\, 20+ food trucks\, 30 musical performances\, kids entertainment\, and more!
URL:https://uptownwestervilleinc.com/event/westerville-music-arts-festival/
LOCATION:Everal Barn and Homestead in Heritage Park\, North Cleveland Avenue 60\, Westerville\, OH\, 43081\, United States
CATEGORIES:Art event,In the area,Live Music
ORGANIZER;CN="Westerville Area Chamber of Commerce":MAILTO:info@westervillechamber.com
GEO:40.1266242;-82.9477286
X-APPLE-STRUCTURED-LOCATION;VALUE=URI;X-ADDRESS=Everal Barn and Homestead in Heritage Park North Cleveland Avenue 60 Westerville OH 43081 United States;X-APPLE-RADIUS=500;X-TITLE=North Cleveland Avenue 60:geo:-82.9477286,40.1266242
END:VEVENT
END:VCALENDAR