BEGIN:VCALENDAR
VERSION:2.0
PRODID:-//Uptown Westerville Inc - ECPv6.15.20//NONSGML v1.0//EN
CALSCALE:GREGORIAN
METHOD:PUBLISH
X-WR-CALNAME:Uptown Westerville Inc
X-ORIGINAL-URL:https://uptownwestervilleinc.com
X-WR-CALDESC:Events for Uptown Westerville Inc
REFRESH-INTERVAL;VALUE=DURATION:PT1H
X-Robots-Tag:noindex
X-PUBLISHED-TTL:PT1H
BEGIN:VTIMEZONE
TZID:America/New_York
BEGIN:DAYLIGHT
TZOFFSETFROM:-0500
TZOFFSETTO:-0400
TZNAME:EDT
DTSTART:20240310T070000
END:DAYLIGHT
BEGIN:STANDARD
TZOFFSETFROM:-0400
TZOFFSETTO:-0500
TZNAME:EST
DTSTART:20241103T060000
END:STANDARD
BEGIN:DAYLIGHT
TZOFFSETFROM:-0500
TZOFFSETTO:-0400
TZNAME:EDT
DTSTART:20250309T070000
END:DAYLIGHT
BEGIN:STANDARD
TZOFFSETFROM:-0400
TZOFFSETTO:-0500
TZNAME:EST
DTSTART:20251102T060000
END:STANDARD
BEGIN:DAYLIGHT
TZOFFSETFROM:-0500
TZOFFSETTO:-0400
TZNAME:EDT
DTSTART:20260308T070000
END:DAYLIGHT
BEGIN:STANDARD
TZOFFSETFROM:-0400
TZOFFSETTO:-0500
TZNAME:EST
DTSTART:20261101T060000
END:STANDARD
END:VTIMEZONE
BEGIN:VEVENT
DTSTART;TZID=America/New_York:20251025T173000
DTEND;TZID=America/New_York:20251025T223000
DTSTAMP:20260420T130530
CREATED:20251008T103956Z
LAST-MODIFIED:20251008T103956Z
UID:990002182-1761413400-1761431400@uptownwestervilleinc.com
SUMMARY:Wicked Westerville
DESCRIPTION:Ease on down the yellow brick road and into an evening of magic\, music\, and celebration.\n\n\n\nThis year\, the Westerville Symphony’s annual gala becomes Wicked Westerville\, a dazzling Oz-themed experience filled with color\, character\, and symphonic sparkle. Whether you’re dreaming of Kansas or ready to dance in the Emerald City\, this is your moment to click your heels\, dress to impress\, and celebrate the power of music in our community. \nGuests will enjoy cocktails\, dinner\, live performances\, and a themed afterparty straight out of the Ozdust Ballroom. Proceeds support the Symphony’s mission to keep orchestral music vibrant\, accessible\, and alive in the heart of Westerville. \nWhat to Expect – Dinner/Corporate Table Ticket\n    •    Cocktail hour with a prosecco toast \n    •    Plated dinner accompanied by a string quartet \n    •    Immersive Oz-inspired entertainment \n    •    Curated silent auction open throughout the evening \n    •    Afterparty at the Ozdust Ballroom including: dancing\, karaoke\, trivia\, and desserts \n    •    Carriage Rides \n    •    and MORE! \nWhat to Expect – Afterparty Ticket\n    •    Immersive Oz-inspired entertainment \n    •    Curated silent auction open throughout the evening \n    •    Afterparty at the Ozdust Ballroom including: dancing\, karaoke\, trivia\, and desserts \n    •    Carriage Rides \n    •    and MORE! \nFormal attire encouraged. Think “Over the Rainbow” elegance or Glinda-level sparkle. This is not a costume party\, but it is a perfect excuse to have a little fun with your style. \nThere’s no place like Westerville. Join us for an unforgettable evening with your Westerville Symphony and help us keep the music playing for years to come.
URL:https://uptownwestervilleinc.com/event/wicked-westerville/
LOCATION:The Lakes Golf and Country Club\, 6740 Worthington Rd\, Westerville\, 43082
CATEGORIES:Art event,In the area,Live Music
ATTACH;FMTTYPE=image/webp:https://uptownwestervilleinc.com/wp-content/uploads/2025/10/10-25-25-Wicked-Westerville-16x9-1.webp
ORGANIZER;CN="Westerville Symphony":MAILTO:info@westervillesymphony.org
GEO:40.1651388;-82.9453163
X-APPLE-STRUCTURED-LOCATION;VALUE=URI;X-ADDRESS=The Lakes Golf and Country Club 6740 Worthington Rd Westerville 43082;X-APPLE-RADIUS=500;X-TITLE=6740 Worthington Rd:geo:-82.9453163,40.1651388
END:VEVENT
END:VCALENDAR