BEGIN:VCALENDAR
VERSION:2.0
PRODID:-//Uptown Westerville Inc - ECPv6.15.20//NONSGML v1.0//EN
CALSCALE:GREGORIAN
METHOD:PUBLISH
X-WR-CALNAME:Uptown Westerville Inc
X-ORIGINAL-URL:https://uptownwestervilleinc.com
X-WR-CALDESC:Events for Uptown Westerville Inc
REFRESH-INTERVAL;VALUE=DURATION:PT1H
X-Robots-Tag:noindex
X-PUBLISHED-TTL:PT1H
BEGIN:VTIMEZONE
TZID:America/New_York
BEGIN:DAYLIGHT
TZOFFSETFROM:-0500
TZOFFSETTO:-0400
TZNAME:EDT
DTSTART:20240310T070000
END:DAYLIGHT
BEGIN:STANDARD
TZOFFSETFROM:-0400
TZOFFSETTO:-0500
TZNAME:EST
DTSTART:20241103T060000
END:STANDARD
BEGIN:DAYLIGHT
TZOFFSETFROM:-0500
TZOFFSETTO:-0400
TZNAME:EDT
DTSTART:20250309T070000
END:DAYLIGHT
BEGIN:STANDARD
TZOFFSETFROM:-0400
TZOFFSETTO:-0500
TZNAME:EST
DTSTART:20251102T060000
END:STANDARD
BEGIN:DAYLIGHT
TZOFFSETFROM:-0500
TZOFFSETTO:-0400
TZNAME:EDT
DTSTART:20260308T070000
END:DAYLIGHT
BEGIN:STANDARD
TZOFFSETFROM:-0400
TZOFFSETTO:-0500
TZNAME:EST
DTSTART:20261101T060000
END:STANDARD
END:VTIMEZONE
BEGIN:VEVENT
DTSTART;TZID=America/New_York:20250607T170000
DTEND;TZID=America/New_York:20250607T200000
DTSTAMP:20260421T122446
CREATED:20250331T021615Z
LAST-MODIFIED:20250331T021615Z
UID:990001209-1749315600-1749326400@uptownwestervilleinc.com
SUMMARY:Westerville Queer Collective Pride
DESCRIPTION:Celebrate queer\, celebrate local! Food trucks\, local businesses\, artists\, and crafters together for one evening of fun and community. \n Connect with your local resource groups and make friends with your Westerville LGBTQIA+ family! From 5pm-8pm at the corner of State St and E Home St.
URL:https://uptownwestervilleinc.com/event/westerville-queer-collective-pride/
LOCATION:Uptown Westerville District\, 21 S. State St.\, Westerville\, OH\, 43081\, United States
CATEGORIES:Holiday events
ATTACH;FMTTYPE=image/webp:https://uptownwestervilleinc.com/wp-content/uploads/2025/03/6-7-25-Pride-Banner.webp
ORGANIZER;CN="Westerville Queer Collective":MAILTO:thewestervillequeercollective@gmail.com
GEO:40.1252264;-82.9317573
X-APPLE-STRUCTURED-LOCATION;VALUE=URI;X-ADDRESS=Uptown Westerville District 21 S. State St. Westerville OH 43081 United States;X-APPLE-RADIUS=500;X-TITLE=21 S. State St.:geo:-82.9317573,40.1252264
END:VEVENT
END:VCALENDAR