BEGIN:VCALENDAR
VERSION:2.0
PRODID:-//Uptown Westerville Inc - ECPv6.15.20//NONSGML v1.0//EN
CALSCALE:GREGORIAN
METHOD:PUBLISH
X-WR-CALNAME:Uptown Westerville Inc
X-ORIGINAL-URL:https://uptownwestervilleinc.com
X-WR-CALDESC:Events for Uptown Westerville Inc
REFRESH-INTERVAL;VALUE=DURATION:PT1H
X-Robots-Tag:noindex
X-PUBLISHED-TTL:PT1H
BEGIN:VTIMEZONE
TZID:America/New_York
BEGIN:DAYLIGHT
TZOFFSETFROM:-0500
TZOFFSETTO:-0400
TZNAME:EDT
DTSTART:20250309T070000
END:DAYLIGHT
BEGIN:STANDARD
TZOFFSETFROM:-0400
TZOFFSETTO:-0500
TZNAME:EST
DTSTART:20251102T060000
END:STANDARD
BEGIN:DAYLIGHT
TZOFFSETFROM:-0500
TZOFFSETTO:-0400
TZNAME:EDT
DTSTART:20260308T070000
END:DAYLIGHT
BEGIN:STANDARD
TZOFFSETFROM:-0400
TZOFFSETTO:-0500
TZNAME:EST
DTSTART:20261101T060000
END:STANDARD
BEGIN:DAYLIGHT
TZOFFSETFROM:-0500
TZOFFSETTO:-0400
TZNAME:EDT
DTSTART:20270314T070000
END:DAYLIGHT
BEGIN:STANDARD
TZOFFSETFROM:-0400
TZOFFSETTO:-0500
TZNAME:EST
DTSTART:20271107T060000
END:STANDARD
END:VTIMEZONE
BEGIN:VEVENT
DTSTART;TZID=America/New_York:20260509T080000
DTEND;TZID=America/New_York:20260509T160000
DTSTAMP:20260420T012114
CREATED:20251230T182242Z
LAST-MODIFIED:20251230T182242Z
UID:990002620-1778313600-1778342400@uptownwestervilleinc.com
SUMMARY:Westerville Garden Club 2026 Plant Sale
DESCRIPTION:The Westerville Garden Club’s 2026 annual plant sale brings a large variety of annuals\, perennials\, vegetables\, garden treasures\, etc. It is held at the Masonic Lodge rain or shine.
URL:https://uptownwestervilleinc.com/event/westerville-garden-club-2026-plant-sale/
LOCATION:Masonic Lodge\, 130 S. State St.\, Westerville\, OH\, 43081\, United States
CATEGORIES:In the area,State Street News
ATTACH;FMTTYPE=image/webp:https://uptownwestervilleinc.com/wp-content/uploads/2025/12/2026-plant-sale.webp
GEO:40.1224775;-82.9298081
X-APPLE-STRUCTURED-LOCATION;VALUE=URI;X-ADDRESS=Masonic Lodge 130 S. State St. Westerville OH 43081 United States;X-APPLE-RADIUS=500;X-TITLE=130 S. State St.:geo:-82.9298081,40.1224775
END:VEVENT
END:VCALENDAR