BEGIN:VCALENDAR
VERSION:2.0
PRODID:-//Uptown Westerville Inc - ECPv6.15.20//NONSGML v1.0//EN
CALSCALE:GREGORIAN
METHOD:PUBLISH
X-WR-CALNAME:Uptown Westerville Inc
X-ORIGINAL-URL:https://uptownwestervilleinc.com
X-WR-CALDESC:Events for Uptown Westerville Inc
REFRESH-INTERVAL;VALUE=DURATION:PT1H
X-Robots-Tag:noindex
X-PUBLISHED-TTL:PT1H
BEGIN:VTIMEZONE
TZID:America/New_York
BEGIN:DAYLIGHT
TZOFFSETFROM:-0500
TZOFFSETTO:-0400
TZNAME:EDT
DTSTART:20240310T070000
END:DAYLIGHT
BEGIN:STANDARD
TZOFFSETFROM:-0400
TZOFFSETTO:-0500
TZNAME:EST
DTSTART:20241103T060000
END:STANDARD
BEGIN:DAYLIGHT
TZOFFSETFROM:-0500
TZOFFSETTO:-0400
TZNAME:EDT
DTSTART:20250309T070000
END:DAYLIGHT
BEGIN:STANDARD
TZOFFSETFROM:-0400
TZOFFSETTO:-0500
TZNAME:EST
DTSTART:20251102T060000
END:STANDARD
BEGIN:DAYLIGHT
TZOFFSETFROM:-0500
TZOFFSETTO:-0400
TZNAME:EDT
DTSTART:20260308T070000
END:DAYLIGHT
BEGIN:STANDARD
TZOFFSETFROM:-0400
TZOFFSETTO:-0500
TZNAME:EST
DTSTART:20261101T060000
END:STANDARD
END:VTIMEZONE
BEGIN:VEVENT
DTSTART;TZID=America/New_York:20251109T140000
DTEND;TZID=America/New_York:20251109T160000
DTSTAMP:20260421T011946
CREATED:20250902T214610Z
LAST-MODIFIED:20250902T232648Z
UID:990001963-1762696800-1762704000@uptownwestervilleinc.com
SUMMARY:Historical Society Annual Meeting & Program: Hoover Reservoir
DESCRIPTION:Annual Meeting and Program \nThe Westerville Historical Society will hold its annual meeting and special program Sunday\, Nov. 9\, in McVay Halt at the Church of the Messiah\, 51 N. State St. \nGary Houtz and John Bokros will present a program about Hoover Reservoir\, including information about the land before the construction\, the impetus for the project and the construction and impact of the dam. \nThis is the Westerville Historical Society’s annual meeting and dessert buffet. Reservations are required and will be accepted after the society’s newsletter goes out in October. \n 
URL:https://uptownwestervilleinc.com/event/historical-society-annual-meeting-program-hoover-reservoir/
LOCATION:Church of the Messiah\, 51 N. State St.\, Westerville\, OH\, 43081\, United States
CATEGORIES:Local history,State Street News
ATTACH;FMTTYPE=image/webp:https://uptownwestervilleinc.com/wp-content/uploads/2025/09/West-Historical-Soci-logo-800x450_calendar.webp
ORGANIZER;CN="Westerville Historical Society":MAILTO:WHSpres@westervillehistory.org
GEO:40.127434;-82.932593
X-APPLE-STRUCTURED-LOCATION;VALUE=URI;X-ADDRESS=Church of the Messiah 51 N. State St. Westerville OH 43081 United States;X-APPLE-RADIUS=500;X-TITLE=51 N. State St.:geo:-82.932593,40.127434
END:VEVENT
END:VCALENDAR