BEGIN:VCALENDAR
VERSION:2.0
PRODID:-//Uptown Westerville Inc - ECPv6.15.20//NONSGML v1.0//EN
CALSCALE:GREGORIAN
METHOD:PUBLISH
X-ORIGINAL-URL:https://uptownwestervilleinc.com
X-WR-CALDESC:Events for Uptown Westerville Inc
REFRESH-INTERVAL;VALUE=DURATION:PT1H
X-Robots-Tag:noindex
X-PUBLISHED-TTL:PT1H
BEGIN:VTIMEZONE
TZID:America/New_York
BEGIN:DAYLIGHT
TZOFFSETFROM:-0500
TZOFFSETTO:-0400
TZNAME:EDT
DTSTART:20240310T070000
END:DAYLIGHT
BEGIN:STANDARD
TZOFFSETFROM:-0400
TZOFFSETTO:-0500
TZNAME:EST
DTSTART:20241103T060000
END:STANDARD
BEGIN:DAYLIGHT
TZOFFSETFROM:-0500
TZOFFSETTO:-0400
TZNAME:EDT
DTSTART:20250309T070000
END:DAYLIGHT
BEGIN:STANDARD
TZOFFSETFROM:-0400
TZOFFSETTO:-0500
TZNAME:EST
DTSTART:20251102T060000
END:STANDARD
BEGIN:DAYLIGHT
TZOFFSETFROM:-0500
TZOFFSETTO:-0400
TZNAME:EDT
DTSTART:20260308T070000
END:DAYLIGHT
BEGIN:STANDARD
TZOFFSETFROM:-0400
TZOFFSETTO:-0500
TZNAME:EST
DTSTART:20261101T060000
END:STANDARD
END:VTIMEZONE
BEGIN:VEVENT
DTSTART;VALUE=DATE:20251207
DTEND;VALUE=DATE:20251208
DTSTAMP:20260420T005900
CREATED:20251106T010348Z
LAST-MODIFIED:20251106T010348Z
UID:990002566-1765065600-1765151999@uptownwestervilleinc.com
SUMMARY:Uptown Scrooge: Abridged!
DESCRIPTION:Fast\, funny\, and full of heart—this is A Christmas Carol like you’ve never seen it before. In Uptown Scrooge: Abridged!\, the audience is Scrooge\, calling the shots and deciding what happens next. It’s a whirlwind one-hour adventure packed with laughter\, surprises\, and just enough holiday magic to warm even the grumpiest heart.
URL:https://uptownwestervilleinc.com/event/uptown-scrooge-abridged-2/2025-12-07/
LOCATION:Java Central\, 20 S. State St. #B\, Westerville\, OH\, 43081\, United States
CATEGORIES:Holiday events
ATTACH;FMTTYPE=image/jpeg:https://uptownwestervilleinc.com/wp-content/uploads/2025/11/Final-Pose-and-audience.jpg
ORGANIZER;CN="Good Medicine Productions":MAILTO:GoodMedicineProductionsED@gmail.com
GEO:40.12542;-82.93129
X-APPLE-STRUCTURED-LOCATION;VALUE=URI;X-ADDRESS=Java Central 20 S. State St. #B Westerville OH 43081 United States;X-APPLE-RADIUS=500;X-TITLE=20 S. State St. #B:geo:-82.93129,40.12542
END:VEVENT
BEGIN:VEVENT
DTSTART;TZID=America/New_York:20251207T193000
DTEND;TZID=America/New_York:20251207T213000
DTSTAMP:20260420T005900
CREATED:20251008T104620Z
LAST-MODIFIED:20251008T104620Z
UID:990002183-1765135800-1765143000@uptownwestervilleinc.com
SUMMARY:Handel's Messiah Sing-A-Long
DESCRIPTION:Join the mighty chorus. The Westerville Symphony invites you to the second annual Messiah Sing-A-Long\, where the audience becomes the choir. Whether you sang last year or this is your first time\, you are welcome. \nConductor John McClain returns to lead this powerful\, participatory performance of Handel’s masterpiece in the beautiful setting of St. Paul the Apostle Catholic Church. \nBring your heart\, bring your voice\, and bring a friend! \nTickets:\n\n\nGeneral Admission: $30 \n\n\nSeniors (age 60+): $25 \n**Add a printed vocal score: $15 (must be reserved by November 15\, 2025)** \n\n\nYou may bring your own score\, or we’ll have one waiting at check-in when you purchase by the deadline (November 15th) \nGeneral admission seating is open and unassigned. \nEvent Info:\n\n\nDoors open at 7:00 PM \n\n\nPerformance begins at 7:30 PM \n\n\nFree parking available on-site \n\n\nVocal scores distributed to those who pre-ordered upon arrival \n\n\n 
URL:https://uptownwestervilleinc.com/event/handels-messiah-sing-a-long/
LOCATION:St. Paul the Apostle Catholic Church\, 313 N State St\, Westerville\, 43082
CATEGORIES:Holiday events,Live Music
ATTACH;FMTTYPE=image/webp:https://uptownwestervilleinc.com/wp-content/uploads/2025/10/12-7-25-Messiah-16x9-1.webp
ORGANIZER;CN="Westerville Symphony":MAILTO:info@westervillesymphony.org
GEO:40.1343992;-82.9342562
X-APPLE-STRUCTURED-LOCATION;VALUE=URI;X-ADDRESS=St. Paul the Apostle Catholic Church 313 N State St Westerville 43082;X-APPLE-RADIUS=500;X-TITLE=313 N State St:geo:-82.9342562,40.1343992
END:VEVENT
END:VCALENDAR