BEGIN:VCALENDAR
VERSION:2.0
PRODID:-//Uptown Westerville Inc - ECPv6.15.20//NONSGML v1.0//EN
CALSCALE:GREGORIAN
METHOD:PUBLISH
X-WR-CALNAME:Uptown Westerville Inc
X-ORIGINAL-URL:https://uptownwestervilleinc.com
X-WR-CALDESC:Events for Uptown Westerville Inc
REFRESH-INTERVAL;VALUE=DURATION:PT1H
X-Robots-Tag:noindex
X-PUBLISHED-TTL:PT1H
BEGIN:VTIMEZONE
TZID:America/New_York
BEGIN:DAYLIGHT
TZOFFSETFROM:-0500
TZOFFSETTO:-0400
TZNAME:EDT
DTSTART:20250309T070000
END:DAYLIGHT
BEGIN:STANDARD
TZOFFSETFROM:-0400
TZOFFSETTO:-0500
TZNAME:EST
DTSTART:20251102T060000
END:STANDARD
BEGIN:DAYLIGHT
TZOFFSETFROM:-0500
TZOFFSETTO:-0400
TZNAME:EDT
DTSTART:20260308T070000
END:DAYLIGHT
BEGIN:STANDARD
TZOFFSETFROM:-0400
TZOFFSETTO:-0500
TZNAME:EST
DTSTART:20261101T060000
END:STANDARD
BEGIN:DAYLIGHT
TZOFFSETFROM:-0500
TZOFFSETTO:-0400
TZNAME:EDT
DTSTART:20270314T070000
END:DAYLIGHT
BEGIN:STANDARD
TZOFFSETFROM:-0400
TZOFFSETTO:-0500
TZNAME:EST
DTSTART:20271107T060000
END:STANDARD
END:VTIMEZONE
BEGIN:VEVENT
DTSTART;TZID=America/New_York:20260322T160000
DTEND;TZID=America/New_York:20260322T173000
DTSTAMP:20260419T123615
CREATED:20260303T235649Z
LAST-MODIFIED:20260303T235944Z
UID:990002809-1774195200-1774200600@uptownwestervilleinc.com
SUMMARY:Plant Swap at Over Grown
DESCRIPTION:celebrate the joy of plants and community at our upcoming plant swap! whether you’re a seasoned plant parent or a beginner\, this is the place to be. come connect with fellow plant enthusiasts\, and share your best tips! you can bring healthy\, pest-free cuttings\, small potted plants\, or even extra pots and tools! swap with other guests and go home with a beautiful new addition to your collection.
URL:https://uptownwestervilleinc.com/event/plant-swap-at-over-grown-3/
LOCATION:over grown\, 10 N State Street\, Westerville\, OH\, 43081\, United States
ATTACH;FMTTYPE=image/png:https://uptownwestervilleinc.com/wp-content/uploads/2026/03/2.png
GEO:40.1262554;-82.9315565
X-APPLE-STRUCTURED-LOCATION;VALUE=URI;X-ADDRESS=over grown 10 N State Street Westerville OH 43081 United States;X-APPLE-RADIUS=500;X-TITLE=10 N State Street:geo:-82.9315565,40.1262554
END:VEVENT
BEGIN:VEVENT
DTSTART;TZID=America/New_York:20260327T180000
DTEND;TZID=America/New_York:20260327T190000
DTSTAMP:20260419T123615
CREATED:20260303T235737Z
LAST-MODIFIED:20260303T235737Z
UID:990002810-1774634400-1774638000@uptownwestervilleinc.com
SUMMARY:Spring Detox for Your Plants
DESCRIPTION:give your greenery the spa day it deserves! this is a “bring your own plant” (BYOP) session designed to help you deep clean\, prune\, and prep your favorite plant for the upcoming growing season. your ticket includes a spring detox kit\, featuring professional pruners\, microfiber cleaning cloths\, and our signature plant protect and fertilizer. we’ll guide you through the essentials of leaf polishing\, precision pruning\, and nutrient boosts to get your plants glowing again. to help you stay sustainable\, the plant protect and fertilizer come in high-quality\, reusable glass bottles. your initial fill is included in the kit to get you started\, and these bottles are yours to keep and bring back to the shop anytime to purchase eco-friendly refills at a discounted rate. come ready to refresh your collection and leave with the tools and knowledge to keep your plants thriving all year long!
URL:https://uptownwestervilleinc.com/event/spring-detox-for-your-plants/
LOCATION:over grown\, 10 N State Street\, Westerville\, OH\, 43081\, United States
ATTACH;FMTTYPE=image/png:https://uptownwestervilleinc.com/wp-content/uploads/2026/03/3.png
GEO:40.1262554;-82.9315565
X-APPLE-STRUCTURED-LOCATION;VALUE=URI;X-ADDRESS=over grown 10 N State Street Westerville OH 43081 United States;X-APPLE-RADIUS=500;X-TITLE=10 N State Street:geo:-82.9315565,40.1262554
END:VEVENT
BEGIN:VEVENT
DTSTART;TZID=America/New_York:20260328T130000
DTEND;TZID=America/New_York:20260328T160000
DTSTAMP:20260419T123615
CREATED:20260226T193949Z
LAST-MODIFIED:20260226T193949Z
UID:990002806-1774702800-1774713600@uptownwestervilleinc.com
SUMMARY:Community Easter Egg Hunt – Free Family Event!
DESCRIPTION:Join us for a fun-filled afternoon at the Community Easter Egg Hunt hosted by Oasis City Church!\n📅 Saturday\, March 28th\n⏰ 1:00 PM – 4:00 PM\n📍 425 N. Spring\, Westerville\, Ohio\nThis FREE event is open to the entire community and designed for families to enjoy together!\n🌸 Event Highlights:\n\n\n🥚 20\,000 Easter Eggs\n\n\n🎉 Family-friendly activities\n\n\n🚚 Food trucks\n\n\n🍭 Free treats\n\n\n🧸 Indoor toddler playground\n\n\nOur heart is simply to bless families in our community by providing a safe\, welcoming\, and joy-filled environment where children can celebrate the season together.\nBring your baskets\, invite your friends\, and come celebrate with us — we can’t wait to see you there!\nRegister Now https://oasiscity.churchcenter.com/registrations/events/3278855
URL:https://uptownwestervilleinc.com/event/community-easter-egg-hunt-free-family-event/
LOCATION:Oasis City City Churh\, 425 N Spring Rd\, Westerville\, OH\, 43082\, United States
CATEGORIES:In the area
ATTACH;FMTTYPE=image/webp:https://uptownwestervilleinc.com/wp-content/uploads/2026/02/3-28-26-Easter-Egg-Hunt-Without-QR-code.webp
ORGANIZER;CN="https%3A//oasiscitychurch.com/northspring/":MAILTO:info@oasiscitychurch.com
GEO:40.1362227;-82.9030809
X-APPLE-STRUCTURED-LOCATION;VALUE=URI;X-ADDRESS=Oasis City City Churh 425 N Spring Rd Westerville OH 43082 United States;X-APPLE-RADIUS=500;X-TITLE=425 N Spring Rd:geo:-82.9030809,40.1362227
END:VEVENT
END:VCALENDAR