BEGIN:VCALENDAR
VERSION:2.0
PRODID:-//Uptown Westerville Inc - ECPv6.15.20//NONSGML v1.0//EN
CALSCALE:GREGORIAN
METHOD:PUBLISH
X-WR-CALNAME:Uptown Westerville Inc
X-ORIGINAL-URL:https://uptownwestervilleinc.com
X-WR-CALDESC:Events for Uptown Westerville Inc
REFRESH-INTERVAL;VALUE=DURATION:PT1H
X-Robots-Tag:noindex
X-PUBLISHED-TTL:PT1H
BEGIN:VTIMEZONE
TZID:America/New_York
BEGIN:DAYLIGHT
TZOFFSETFROM:-0500
TZOFFSETTO:-0400
TZNAME:EDT
DTSTART:20250309T070000
END:DAYLIGHT
BEGIN:STANDARD
TZOFFSETFROM:-0400
TZOFFSETTO:-0500
TZNAME:EST
DTSTART:20251102T060000
END:STANDARD
BEGIN:DAYLIGHT
TZOFFSETFROM:-0500
TZOFFSETTO:-0400
TZNAME:EDT
DTSTART:20260308T070000
END:DAYLIGHT
BEGIN:STANDARD
TZOFFSETFROM:-0400
TZOFFSETTO:-0500
TZNAME:EST
DTSTART:20261101T060000
END:STANDARD
BEGIN:DAYLIGHT
TZOFFSETFROM:-0500
TZOFFSETTO:-0400
TZNAME:EDT
DTSTART:20270314T070000
END:DAYLIGHT
BEGIN:STANDARD
TZOFFSETFROM:-0400
TZOFFSETTO:-0500
TZNAME:EST
DTSTART:20271107T060000
END:STANDARD
END:VTIMEZONE
BEGIN:VEVENT
DTSTART;TZID=America/New_York:20260329T163000
DTEND;TZID=America/New_York:20260329T180000
DTSTAMP:20260419T110901
CREATED:20260303T235820Z
LAST-MODIFIED:20260303T235820Z
UID:990002811-1774801800-1774807200@uptownwestervilleinc.com
SUMMARY:Rooted and Rising Yoga
DESCRIPTION:ground yourself\, reclaim your strength\, and rise with intention. this women-centered yoga experience is a celebration of what it means to be a woman – grounded\, intuitive\, resilient\, and ever-growing. together\, we’ll focus on the energy of the root chakra\, the sacred foundation that connects us to safety\, belonging\, and deep inner stability. through grounding postures\, intentional breathwork\, and moments of reflection\, we’ll honor the strength and wisdom carried in our bodies. this practice is about remembering who you are at your core – steady\, supported\, and powerful. this session will be lead by whole-lee yoga\, and your mats will be provided. just come as you are\, leave feeling rooted\, empowered\, and ready to rise.
URL:https://uptownwestervilleinc.com/event/rooted-and-rising-yoga/
LOCATION:over grown\, 10 N State Street\, Westerville\, OH\, 43081\, United States
ATTACH;FMTTYPE=image/png:https://uptownwestervilleinc.com/wp-content/uploads/2026/03/4.png
GEO:40.1262554;-82.9315565
X-APPLE-STRUCTURED-LOCATION;VALUE=URI;X-ADDRESS=over grown 10 N State Street Westerville OH 43081 United States;X-APPLE-RADIUS=500;X-TITLE=10 N State Street:geo:-82.9315565,40.1262554
END:VEVENT
BEGIN:VEVENT
DTSTART;TZID=America/New_York:20260331T183000
DTEND;TZID=America/New_York:20260331T200000
DTSTAMP:20260419T110901
CREATED:20260303T235910Z
LAST-MODIFIED:20260303T235910Z
UID:990002812-1774981800-1774987200@uptownwestervilleinc.com
SUMMARY:Bingo with Over Grown and Birdie Books
DESCRIPTION:ready for a classic game night with a planty twist? join us for a fun and competitive bingo night\, hosted at the ReadMore Bar inside Birdie Books in Westerville! the prizes\, of course\, are all plant and book themed! we’ve loaded up the table with amazing rewards\, including\, brand new plants to take home\, swag items\, discounts\, and treats! the ReadMore Bar will also be serving specialty cocktails available for purchase\, along with their full menu. come enjoy a relaxed evening with plants and books\, try your luck\, and walk away with some great prizes!
URL:https://uptownwestervilleinc.com/event/bingo-with-over-grown-and-birdie-books/
LOCATION:Birdie Books\, 74 N. State St.\, Unit C\, Westerville\, Ohio\, 43081
ATTACH;FMTTYPE=image/png:https://uptownwestervilleinc.com/wp-content/uploads/2026/03/5.png
GEO:40.1279538;-82.9319361
X-APPLE-STRUCTURED-LOCATION;VALUE=URI;X-ADDRESS=Birdie Books 74 N. State St. Unit C Westerville Ohio 43081;X-APPLE-RADIUS=500;X-TITLE=74 N. State St.\, Unit C:geo:-82.9319361,40.1279538
END:VEVENT
END:VCALENDAR