BEGIN:VCALENDAR
VERSION:2.0
PRODID:-//Uptown Westerville Inc - ECPv6.15.20//NONSGML v1.0//EN
CALSCALE:GREGORIAN
METHOD:PUBLISH
X-WR-CALNAME:Uptown Westerville Inc
X-ORIGINAL-URL:https://uptownwestervilleinc.com
X-WR-CALDESC:Events for Uptown Westerville Inc
REFRESH-INTERVAL;VALUE=DURATION:PT1H
X-Robots-Tag:noindex
X-PUBLISHED-TTL:PT1H
BEGIN:VTIMEZONE
TZID:America/New_York
BEGIN:DAYLIGHT
TZOFFSETFROM:-0500
TZOFFSETTO:-0400
TZNAME:EDT
DTSTART:20230312T070000
END:DAYLIGHT
BEGIN:STANDARD
TZOFFSETFROM:-0400
TZOFFSETTO:-0500
TZNAME:EST
DTSTART:20231105T060000
END:STANDARD
BEGIN:DAYLIGHT
TZOFFSETFROM:-0500
TZOFFSETTO:-0400
TZNAME:EDT
DTSTART:20240310T070000
END:DAYLIGHT
BEGIN:STANDARD
TZOFFSETFROM:-0400
TZOFFSETTO:-0500
TZNAME:EST
DTSTART:20241103T060000
END:STANDARD
BEGIN:DAYLIGHT
TZOFFSETFROM:-0500
TZOFFSETTO:-0400
TZNAME:EDT
DTSTART:20250309T070000
END:DAYLIGHT
BEGIN:STANDARD
TZOFFSETFROM:-0400
TZOFFSETTO:-0500
TZNAME:EST
DTSTART:20251102T060000
END:STANDARD
END:VTIMEZONE
BEGIN:VEVENT
DTSTART;TZID=America/New_York:20241201T124500
DTEND;TZID=America/New_York:20241201T134500
DTSTAMP:20260419T122105
CREATED:20241106T045943Z
LAST-MODIFIED:20241106T050720Z
UID:990001054-1733057100-1733060700@uptownwestervilleinc.com
SUMMARY:Uptown Scrooge Abridged
DESCRIPTION:Uptown Scrooge Abridged\, presented by Good Medicine Productions \nWHENSunday afternoonsDec. 1\, 8\, 15\, 22 \nTIMES12:45p\, 2:45p\, 4:45p) \n(Also\, one special Saturday Performance\, at 4 p.m. Dec. 7) \nCOST$25 Adults$15 Children & Students \nWHEREJava Central20 S. State St.\, Westerville\, OH 43081 \nNow a ticketed event. \nThis year you’ll take a seat for a whirlwind interactive holiday experience like no other! Our fast-paced rendition of “A Christmas Carol” packs all the magic and mayhem into a one hour! \nGreeted by cheerful carolers and a grumpy (and dead) Jacob Marley\, you’ll be checked in and ready for the show in the stage room at Java Central Cafe. \nOur dynamic cast — including Nephew Fred\, the Ghosts of Christmas Present\, Past\, Future\, and a precocious Tiny Tim — will guide you through the story at lightning speed. The twist? You are the star! The audience plays Scrooge\, controlling the narrative. \nWith a list of 10 chapter titles\, the audience controls the order of the story. When you hear “HUMBUG\,” it’s your cue to shout out the number of the next chapter\, whether it’s Chapter 1\, Chapter 10\, or any other—there are no rules! The story can unfold in any order\, keeping everyone on their toes. As the sands of time tick down\, the challenge is to complete the entire tale in just 45 minutes. \nIf your heart has grown three sizes by the end\, you’ll be sent on your merry way. Embrace the excitement and joy of this interactive holiday classic! Bah Humbug! \n			\n				Buy Tickets
URL:https://uptownwestervilleinc.com/event/uptown-scrooge-abridged/2024-12-01/
LOCATION:Java Central\, 20 S. State St. #B\, Westerville\, OH\, 43081\, United States
CATEGORIES:Holiday events,State Street News
ATTACH;FMTTYPE=image/webp:https://uptownwestervilleinc.com/wp-content/uploads/2024/10/12-1-24-Uptown-Scrooge-Abridged.webp
ORGANIZER;CN="Good Medicine Productions":MAILTO:GoodMedicineProductionsED@gmail.com
GEO:40.12542;-82.93129
X-APPLE-STRUCTURED-LOCATION;VALUE=URI;X-ADDRESS=Java Central 20 S. State St. #B Westerville OH 43081 United States;X-APPLE-RADIUS=500;X-TITLE=20 S. State St. #B:geo:-82.93129,40.12542
END:VEVENT
BEGIN:VEVENT
DTSTART;TZID=America/New_York:20241203T190000
DTEND;TZID=America/New_York:20241203T210000
DTSTAMP:20260419T122105
CREATED:20241024T174325Z
LAST-MODIFIED:20241024T180403Z
UID:990001046-1733252400-1733259600@uptownwestervilleinc.com
SUMMARY:Hanby House 2024 Christmas Open Houses
DESCRIPTION:Get in the holiday spirit with a visit to Hanby House! \nJoin the Westerville Historical Society for a celebration of the holidays in the historic home specially decorated for the occasion\, with music in the parlor and sweet treats in the adjacent Shoemaker Cottage. \nThe home of Ben Hanby\, composer of Up on the Housetop will be open to the public for this annual showcase. The Hanby House is located at 160 E. Main St.\, in the heart of the Otterbein University campus. \nChristmas Open House hours for 2024 will be: \n\nFrom 7-9 p.m. Tuesday\, Dec. 3\nFrom 7-9 p.m. Thursday\, Dec. 5; and\nFrom 10 a.m.-2 p.m. Saturday\, Dec. 7\n\nNo admittance fee — Donations encouraged. \nThe Hanby House is owned by the Ohio History Connection and managed by the Westerville Historical Society. \nOn the National Registry of Historic sites\, the house museum is furnished with items depicting the lifestyle of a family of modest means in the 1850s. Home to William Hanby and his family\, the dwelling is important because of its representation of the social\, moral\, educational\, and artistic fabric of Westerville\, Otterbein University and Ohio. \nRead much more on the Westerville Historical Society website at westervillehistory.org. \n  \n 
URL:https://uptownwestervilleinc.com/event/hanby-house-2024-dec-3/
LOCATION:Hanby House\, 160 W. Main St.\, Westerville\, OH\, 43081\, United States
CATEGORIES:Holiday events,Local history
ATTACH;FMTTYPE=image/webp:https://uptownwestervilleinc.com/wp-content/uploads/2024/10/Hanby-xmas-open-house.webp
ORGANIZER;CN="Westerville Historical Society":MAILTO:WHSpres@westervillehistory.org
GEO:40.0807273;-82.813418
X-APPLE-STRUCTURED-LOCATION;VALUE=URI;X-ADDRESS=Hanby House 160 W. Main St. Westerville OH 43081 United States;X-APPLE-RADIUS=500;X-TITLE=160 W. Main St.:geo:-82.813418,40.0807273
END:VEVENT
BEGIN:VEVENT
DTSTART;TZID=America/New_York:20241205T190000
DTEND;TZID=America/New_York:20241205T210000
DTSTAMP:20260419T122105
CREATED:20241024T174829Z
LAST-MODIFIED:20241024T180057Z
UID:990001047-1733425200-1733432400@uptownwestervilleinc.com
SUMMARY:Hanby House 2024 Christmas Open Houses
DESCRIPTION:Get in the holiday spirit with a visit to Hanby House! \nJoin the Westerville Historical Society for a celebration of the holidays in the historic home specially decorated for the occasion\, with music in the parlor and sweet treats in the adjacent Shoemaker Cottage. \nThe home of Ben Hanby\, composer of Up on the Housetop will be open to the public for this annual showcase. The Hanby House is located at 160 E. Main St.\, in the heart of the Otterbein University campus. \nChristmas Open House hours for 2024 will be: \n\nFrom 7-9 p.m. Tuesday\, Dec. 3\nFrom 7-9 p.m. Thursday\, Dec. 5; and\nFrom 10 a.m.-2 p.m. Saturday\, Dec. 7\n\nNo admittance fee — Donations encouraged. \nThe Hanby House is owned by the Ohio History Connection and managed by the Westerville Historical Society. \nOn the National Registry of Historic sites\, the house museum is furnished with items depicting the lifestyle of a family of modest means in the 1850s. Home to William Hanby and his family\, the dwelling is important because of its representation of the social\, moral\, educational\, and artistic fabric of Westerville\, Otterbein University and Ohio. \nRead much more on the Westerville Historical Society website at westervillehistory.org. \n  \n  \n 
URL:https://uptownwestervilleinc.com/event/hanby-house-2024-dec-5/
LOCATION:Hanby House\, 160 W. Main St.\, Westerville\, OH\, 43081\, United States
CATEGORIES:Holiday events,Local history
ATTACH;FMTTYPE=image/webp:https://uptownwestervilleinc.com/wp-content/uploads/2024/10/Hanby-xmas-open-house.webp
ORGANIZER;CN="Westerville Historical Society":MAILTO:WHSpres@westervillehistory.org
GEO:40.0807273;-82.813418
X-APPLE-STRUCTURED-LOCATION;VALUE=URI;X-ADDRESS=Hanby House 160 W. Main St. Westerville OH 43081 United States;X-APPLE-RADIUS=500;X-TITLE=160 W. Main St.:geo:-82.813418,40.0807273
END:VEVENT
BEGIN:VEVENT
DTSTART;TZID=America/New_York:20241207T100000
DTEND;TZID=America/New_York:20241207T140000
DTSTAMP:20260419T122105
CREATED:20241024T175051Z
LAST-MODIFIED:20241024T180635Z
UID:990001048-1733565600-1733580000@uptownwestervilleinc.com
SUMMARY:Hanby House 2024 Christmas Open Houses
DESCRIPTION:Get in the holiday spirit with a visit to Hanby House! \nJoin the Westerville Historical Society for a celebration of the holidays in the historic home specially decorated for the occasion\, with music in the parlor and sweet treats in the adjacent Shoemaker Cottage. \nThe home of Ben Hanby\, composer of Up on the Housetop will be open to the public for this annual showcase. The Hanby House is located at 160 E. Main St.\, in the heart of the Otterbein University campus. \nChristmas Open House hours for 2024 will be: \n\nFrom 7-9 p.m. Tuesday\, Dec. 3\nFrom 7-9 p.m. Thursday\, Dec. 5; and\nFrom 10 a.m.-2 p.m. Saturday\, Dec. 7\n\nNo admittance fee — Donations encouraged. \nThe Hanby House is owned by the Ohio History Connection and managed by the Westerville Historical Society. \nOn the National Registry of Historic sites\, the house museum is furnished with items depicting the lifestyle of a family of modest means in the 1850s. Home to William Hanby and his family\, the dwelling is important because of its representation of the social\, moral\, educational\, and artistic fabric of Westerville\, Otterbein University and Ohio. \nRead much more on the Westerville Historical Society website at westervillehistory.org. \n  \n  \n 
URL:https://uptownwestervilleinc.com/event/hanby-house-2024-dec-7/
LOCATION:Hanby House\, 160 W. Main St.\, Westerville\, OH\, 43081\, United States
CATEGORIES:Holiday events,Local history
ATTACH;FMTTYPE=image/webp:https://uptownwestervilleinc.com/wp-content/uploads/2024/10/Hanby-xmas-open-house.webp
ORGANIZER;CN="Westerville Historical Society":MAILTO:WHSpres@westervillehistory.org
GEO:40.0807273;-82.813418
X-APPLE-STRUCTURED-LOCATION;VALUE=URI;X-ADDRESS=Hanby House 160 W. Main St. Westerville OH 43081 United States;X-APPLE-RADIUS=500;X-TITLE=160 W. Main St.:geo:-82.813418,40.0807273
END:VEVENT
BEGIN:VEVENT
DTSTART;TZID=America/New_York:20241207T160000
DTEND;TZID=America/New_York:20241207T170000
DTSTAMP:20260419T122106
CREATED:20241106T032816Z
LAST-MODIFIED:20241106T045640Z
UID:990000942-1733587200-1733590800@uptownwestervilleinc.com
SUMMARY:Uptown Scrooge Abridged Dec. 7
DESCRIPTION:Uptown Scrooge Abridged\, presented by Good Medicine Productions \nWHENSpecial Saturday Performance\, at 4pm Dec. 7 \n(Other performances set for Sunday afternoons Dec. 1\, 8\, 15 and 22\, at 12:45p\, 2:45p\, and 4:45pm) \nCOST$25 Adults$15 Children & Students \nWHEREJava Central20 S. State St.\, Westerville\, OH 43081 \nNow a ticketed event. \nThis year you’ll take a seat for a whirlwind interactive holiday experience like no other! Our fast-paced rendition of “A Christmas Carol” packs all the magic and mayhem into a one hour! \nGreeted by cheerful carolers and a grumpy (and dead) Jacob Marley\, you’ll be checked in and ready for the show in the stage room at Java Central Cafe. \nOur dynamic cast — including Nephew Fred\, the Ghosts of Christmas Present\, Past\, and Future\, and a precocious Tiny Tim — will guide you through the story at lightning speed. The twist? You are the star! The audience plays Scrooge\, controlling the narrative. \nWith a list of 10 chapter titles\, the audience controls the order of the story. When you hear “HUMBUG\,” it’s your cue to shout out the number of the next chapter\, whether it’s Chapter 1\, Chapter 10\, or any other — there are no rules! The story can unfold in any order\, keeping everyone on their toes. As the sands of time tick down\, the challenge is to complete the entire tale in just 45 minutes. \nIf your heart has grown three sizes by the end\, you’ll be sent on your merry way. Embrace the excitement and joy of this interactive holiday classic! Bah Humbug! \n			\n				Buy Tickets
URL:https://uptownwestervilleinc.com/event/uptown-scrooge-abridged-sat/
LOCATION:Java Central\, 20 S. State St. #B\, Westerville\, OH\, 43081\, United States
CATEGORIES:Holiday events,Java Central,State Street News
ATTACH;FMTTYPE=image/webp:https://uptownwestervilleinc.com/wp-content/uploads/2024/10/12-1-24-Uptown-Scrooge-Abridged.webp
ORGANIZER;CN="Good Medicine Productions":MAILTO:GoodMedicineProductionsED@gmail.com
GEO:40.12542;-82.93129
X-APPLE-STRUCTURED-LOCATION;VALUE=URI;X-ADDRESS=Java Central 20 S. State St. #B Westerville OH 43081 United States;X-APPLE-RADIUS=500;X-TITLE=20 S. State St. #B:geo:-82.93129,40.12542
END:VEVENT
BEGIN:VEVENT
DTSTART;TZID=America/New_York:20241208T124500
DTEND;TZID=America/New_York:20241208T134500
DTSTAMP:20260419T122106
CREATED:20241106T045943Z
LAST-MODIFIED:20241106T050720Z
UID:990001055-1733661900-1733665500@uptownwestervilleinc.com
SUMMARY:Uptown Scrooge Abridged
DESCRIPTION:Uptown Scrooge Abridged\, presented by Good Medicine Productions \nWHENSunday afternoonsDec. 1\, 8\, 15\, 22 \nTIMES12:45p\, 2:45p\, 4:45p) \n(Also\, one special Saturday Performance\, at 4 p.m. Dec. 7) \nCOST$25 Adults$15 Children & Students \nWHEREJava Central20 S. State St.\, Westerville\, OH 43081 \nNow a ticketed event. \nThis year you’ll take a seat for a whirlwind interactive holiday experience like no other! Our fast-paced rendition of “A Christmas Carol” packs all the magic and mayhem into a one hour! \nGreeted by cheerful carolers and a grumpy (and dead) Jacob Marley\, you’ll be checked in and ready for the show in the stage room at Java Central Cafe. \nOur dynamic cast — including Nephew Fred\, the Ghosts of Christmas Present\, Past\, Future\, and a precocious Tiny Tim — will guide you through the story at lightning speed. The twist? You are the star! The audience plays Scrooge\, controlling the narrative. \nWith a list of 10 chapter titles\, the audience controls the order of the story. When you hear “HUMBUG\,” it’s your cue to shout out the number of the next chapter\, whether it’s Chapter 1\, Chapter 10\, or any other—there are no rules! The story can unfold in any order\, keeping everyone on their toes. As the sands of time tick down\, the challenge is to complete the entire tale in just 45 minutes. \nIf your heart has grown three sizes by the end\, you’ll be sent on your merry way. Embrace the excitement and joy of this interactive holiday classic! Bah Humbug! \n			\n				Buy Tickets
URL:https://uptownwestervilleinc.com/event/uptown-scrooge-abridged/2024-12-08/
LOCATION:Java Central\, 20 S. State St. #B\, Westerville\, OH\, 43081\, United States
CATEGORIES:Holiday events,State Street News
ATTACH;FMTTYPE=image/webp:https://uptownwestervilleinc.com/wp-content/uploads/2024/10/12-1-24-Uptown-Scrooge-Abridged.webp
ORGANIZER;CN="Good Medicine Productions":MAILTO:GoodMedicineProductionsED@gmail.com
GEO:40.12542;-82.93129
X-APPLE-STRUCTURED-LOCATION;VALUE=URI;X-ADDRESS=Java Central 20 S. State St. #B Westerville OH 43081 United States;X-APPLE-RADIUS=500;X-TITLE=20 S. State St. #B:geo:-82.93129,40.12542
END:VEVENT
BEGIN:VEVENT
DTSTART;TZID=America/New_York:20241214T110000
DTEND;TZID=America/New_York:20241214T150000
DTSTAMP:20260419T122106
CREATED:20241023T232840Z
LAST-MODIFIED:20241114T145443Z
UID:990000955-1734174000-1734188400@uptownwestervilleinc.com
SUMMARY:Who-ville Uptown
DESCRIPTION:Who-ville Uptown \nCharacters\, crafts\, and Who-ville themed activities from 11 a.m. until 3 p.m. Saturday\, Dec. 14 on the lawn of Hanby Elementary School\, 56 S. State St. \nPart of the 2024 Holidays in Uptown celebration. \nUptown’s Pearlescent Portraits\, 43 E. College Ave.\, also is offering special Photos\, Hot Cocoa and Cookies with Santa sessions on Dec. 14. Cost is $18 if scheduled in advance or $25 at the door. Schedule your session at the website.
URL:https://uptownwestervilleinc.com/event/who-ville-uptown/
LOCATION:Hanby Elementary School\, 56 S. State St.\, Westerville\, OH\, 43081\, United States
CATEGORIES:Holiday events,State Street News
ATTACH;FMTTYPE=image/webp:https://uptownwestervilleinc.com/wp-content/uploads/2024/10/12-14-24-whoville-illust.webp
GEO:40.1243968;-82.9304499
X-APPLE-STRUCTURED-LOCATION;VALUE=URI;X-ADDRESS=Hanby Elementary School 56 S. State St. Westerville OH 43081 United States;X-APPLE-RADIUS=500;X-TITLE=56 S. State St.:geo:-82.9304499,40.1243968
END:VEVENT
BEGIN:VEVENT
DTSTART;TZID=America/New_York:20241214T113000
DTEND;TZID=America/New_York:20241214T130000
DTSTAMP:20260419T122106
CREATED:20241113T011738Z
LAST-MODIFIED:20241113T014820Z
UID:990001063-1734175800-1734181200@uptownwestervilleinc.com
SUMMARY:Christmas for the Generations 2024
DESCRIPTION:The Generations Performing Arts Center will stage its 24th Annual Christmas for the Generations\, A Holiday Spectacular on Saturday and Sunday\, Dec. 14-15\, at Westerville Central High School. \nThe Full Show will be presented at 2 and 6 p.m. Dec. 14 and at 3 p.m. Dec. 15. \nThe Children’s Concert also will be presented once each day\, at 11:30 a.m. Dec. 14 and 2 p.m. Dec. 15. \nChildren can have a photo taken with Santa after the show. \nTickets range from $13 to $25. Buy online at https://buy.tututix.com/genpac or call 855-222-2849. \nShowtimes\nSaturday\, Dec. 14\n\n11:30 a.m. (Children’s Concert)\n2 p.m.\n6 p.m.\n\nSunday\, Dec. 15\n\n1 p.m. (Children’s Concert)\n3 p.m.\n\n  \n 
URL:https://uptownwestervilleinc.com/event/christmas-for-the-generations-2024/
LOCATION:Westerville Central High School\, 7118 Mt Royal Ave\, Westerville\, Ohio\, 43082
CATEGORIES:Holiday events,In the area,School Events
ATTACH;FMTTYPE=image/webp:https://uptownwestervilleinc.com/wp-content/uploads/2024/11/Christmas-Show-2024-calendar.webp
ORGANIZER;CN="Generations Performing Arts Center":MAILTO:studio@gen-pac.com
GEO:40.1544356;-82.9040906
X-APPLE-STRUCTURED-LOCATION;VALUE=URI;X-ADDRESS=Westerville Central High School 7118 Mt Royal Ave Westerville Ohio 43082;X-APPLE-RADIUS=500;X-TITLE=7118 Mt Royal Ave:geo:-82.9040906,40.1544356
END:VEVENT
BEGIN:VEVENT
DTSTART;TZID=America/New_York:20241215T124500
DTEND;TZID=America/New_York:20241215T134500
DTSTAMP:20260419T122106
CREATED:20241106T045943Z
LAST-MODIFIED:20241106T050720Z
UID:990001056-1734266700-1734270300@uptownwestervilleinc.com
SUMMARY:Uptown Scrooge Abridged
DESCRIPTION:Uptown Scrooge Abridged\, presented by Good Medicine Productions \nWHENSunday afternoonsDec. 1\, 8\, 15\, 22 \nTIMES12:45p\, 2:45p\, 4:45p) \n(Also\, one special Saturday Performance\, at 4 p.m. Dec. 7) \nCOST$25 Adults$15 Children & Students \nWHEREJava Central20 S. State St.\, Westerville\, OH 43081 \nNow a ticketed event. \nThis year you’ll take a seat for a whirlwind interactive holiday experience like no other! Our fast-paced rendition of “A Christmas Carol” packs all the magic and mayhem into a one hour! \nGreeted by cheerful carolers and a grumpy (and dead) Jacob Marley\, you’ll be checked in and ready for the show in the stage room at Java Central Cafe. \nOur dynamic cast — including Nephew Fred\, the Ghosts of Christmas Present\, Past\, Future\, and a precocious Tiny Tim — will guide you through the story at lightning speed. The twist? You are the star! The audience plays Scrooge\, controlling the narrative. \nWith a list of 10 chapter titles\, the audience controls the order of the story. When you hear “HUMBUG\,” it’s your cue to shout out the number of the next chapter\, whether it’s Chapter 1\, Chapter 10\, or any other—there are no rules! The story can unfold in any order\, keeping everyone on their toes. As the sands of time tick down\, the challenge is to complete the entire tale in just 45 minutes. \nIf your heart has grown three sizes by the end\, you’ll be sent on your merry way. Embrace the excitement and joy of this interactive holiday classic! Bah Humbug! \n			\n				Buy Tickets
URL:https://uptownwestervilleinc.com/event/uptown-scrooge-abridged/2024-12-15/
LOCATION:Java Central\, 20 S. State St. #B\, Westerville\, OH\, 43081\, United States
CATEGORIES:Holiday events,State Street News
ATTACH;FMTTYPE=image/webp:https://uptownwestervilleinc.com/wp-content/uploads/2024/10/12-1-24-Uptown-Scrooge-Abridged.webp
ORGANIZER;CN="Good Medicine Productions":MAILTO:GoodMedicineProductionsED@gmail.com
GEO:40.12542;-82.93129
X-APPLE-STRUCTURED-LOCATION;VALUE=URI;X-ADDRESS=Java Central 20 S. State St. #B Westerville OH 43081 United States;X-APPLE-RADIUS=500;X-TITLE=20 S. State St. #B:geo:-82.93129,40.12542
END:VEVENT
BEGIN:VEVENT
DTSTART;TZID=America/New_York:20241215T130000
DTEND;TZID=America/New_York:20241215T143000
DTSTAMP:20260419T122106
CREATED:20241113T014617Z
LAST-MODIFIED:20241113T014618Z
UID:990001062-1734267600-1734273000@uptownwestervilleinc.com
SUMMARY:Christmas for the Generations 2024
DESCRIPTION:The Generations Performing Arts Center will stage its 24th Annual Christmas for the Generations\, A Holiday Spectacular on Saturday and Sunday\, Dec. 14-15\, at Westerville Central High School. \nThe Full Show will be presented at 2 and 6 p.m. Dec. 14 and at 3 p.m. Dec. 15. \nThe Children’s Concert also will be presented once each day\, at 11:30 a.m. Dec. 14 and 2 p.m. Dec. 15. \nChildren can have a photo taken with Santa after the show. \nTickets range from $13 to $25. Buy online at https://buy.tututix.com/genpac or call 855-222-2849. \nShowtimes\nSaturday\, Dec. 14\n\n11:30 a.m. (Children’s Concert)\n2 p.m.\n6 p.m.\n\nSunday\, Dec. 15\n\n1 p.m. (Children’s Concert)\n3 p.m.\n\n  \n 
URL:https://uptownwestervilleinc.com/event/christmas-for-the-generations-2024-2/
LOCATION:Westerville Central High School\, 7118 Mt Royal Ave\, Westerville\, Ohio\, 43082
CATEGORIES:Holiday events,In the area,School Events
ATTACH;FMTTYPE=image/webp:https://uptownwestervilleinc.com/wp-content/uploads/2024/11/Christmas-Show-2024-calendar.webp
ORGANIZER;CN="Generations Performing Arts Center":MAILTO:studio@gen-pac.com
GEO:40.1544356;-82.9040906
X-APPLE-STRUCTURED-LOCATION;VALUE=URI;X-ADDRESS=Westerville Central High School 7118 Mt Royal Ave Westerville Ohio 43082;X-APPLE-RADIUS=500;X-TITLE=7118 Mt Royal Ave:geo:-82.9040906,40.1544356
END:VEVENT
BEGIN:VEVENT
DTSTART;TZID=America/New_York:20241220T170000
DTEND;TZID=America/New_York:20241220T235900
DTSTAMP:20260419T122106
CREATED:20241021T133245Z
LAST-MODIFIED:20241115T025246Z
UID:990000951-1734714000-1734739140@uptownwestervilleinc.com
SUMMARY:Ice Sculptures return to Uptown
DESCRIPTION:More than 30 ice sculptures will go on display outside historic Uptown buildings beginning Friday evening\, Dec. 20 and lasting … until they melt! \nVisit the annual Uptown Ice Sculpture Tour\, presented by the Westerville Uptown Merchants Association. The tour officially opens at 5 p.m. Friday\, Dec. 20. \nPart of the 2024 Holidays in Uptown celebration.
URL:https://uptownwestervilleinc.com/event/ice-sculptures-return-to-uptown/
LOCATION:Uptown Westerville District\, 21 S. State St.\, Westerville\, OH\, 43081\, United States
CATEGORIES:Holiday events,State Street News,Westerville Uptown Merchants Association
ATTACH;FMTTYPE=image/webp:https://uptownwestervilleinc.com/wp-content/uploads/2024/10/12-20-24-ice-sculpture.webp
GEO:40.1252264;-82.9317573
X-APPLE-STRUCTURED-LOCATION;VALUE=URI;X-ADDRESS=Uptown Westerville District 21 S. State St. Westerville OH 43081 United States;X-APPLE-RADIUS=500;X-TITLE=21 S. State St.:geo:-82.9317573,40.1252264
END:VEVENT
BEGIN:VEVENT
DTSTART;TZID=America/New_York:20241221T110000
DTEND;TZID=America/New_York:20241221T160000
DTSTAMP:20260419T122106
CREATED:20241024T014041Z
LAST-MODIFIED:20241103T162833Z
UID:990000956-1734778800-1734796800@uptownwestervilleinc.com
SUMMARY:Ugly Sweater Snack and Stroll
DESCRIPTION:Take part in the inaugural Uptown Ugly Sweater Snack and Stroll! \nGet out your ugliest holiday sweater and proudly show it off Uptown. It’ll be a great day to enjoy historic Uptown and “Shop Small” to support local businesses. \nThe fun will take place all across the Uptown district\, from 11 a.m. to 4 p.m. Saturday\, Dec. 21. Businesses throughout will welcome the be-sweatered with holiday snacks. \nStroll the shops to wrap up your holiday shopping\, grab a meal at one of Uptown’s great restaurants or pubs … and check out all the other ugly sweaters on display Dec. 21. \nPart of the 2024 Holidays in Uptown celebration. \n 
URL:https://uptownwestervilleinc.com/event/ugly-sweater-snack-and-stroll/
LOCATION:Uptown Westerville District\, 21 S. State St.\, Westerville\, OH\, 43081\, United States
CATEGORIES:Holiday events,State Street News
ATTACH;FMTTYPE=image/webp:https://uptownwestervilleinc.com/wp-content/uploads/2024/10/12-21-24-ugly-sweaters.webp
GEO:40.1252264;-82.9317573
X-APPLE-STRUCTURED-LOCATION;VALUE=URI;X-ADDRESS=Uptown Westerville District 21 S. State St. Westerville OH 43081 United States;X-APPLE-RADIUS=500;X-TITLE=21 S. State St.:geo:-82.9317573,40.1252264
END:VEVENT
BEGIN:VEVENT
DTSTART;TZID=America/New_York:20241222T124500
DTEND;TZID=America/New_York:20241222T134500
DTSTAMP:20260419T122106
CREATED:20241106T045943Z
LAST-MODIFIED:20241106T050720Z
UID:990001057-1734871500-1734875100@uptownwestervilleinc.com
SUMMARY:Uptown Scrooge Abridged
DESCRIPTION:Uptown Scrooge Abridged\, presented by Good Medicine Productions \nWHENSunday afternoonsDec. 1\, 8\, 15\, 22 \nTIMES12:45p\, 2:45p\, 4:45p) \n(Also\, one special Saturday Performance\, at 4 p.m. Dec. 7) \nCOST$25 Adults$15 Children & Students \nWHEREJava Central20 S. State St.\, Westerville\, OH 43081 \nNow a ticketed event. \nThis year you’ll take a seat for a whirlwind interactive holiday experience like no other! Our fast-paced rendition of “A Christmas Carol” packs all the magic and mayhem into a one hour! \nGreeted by cheerful carolers and a grumpy (and dead) Jacob Marley\, you’ll be checked in and ready for the show in the stage room at Java Central Cafe. \nOur dynamic cast — including Nephew Fred\, the Ghosts of Christmas Present\, Past\, Future\, and a precocious Tiny Tim — will guide you through the story at lightning speed. The twist? You are the star! The audience plays Scrooge\, controlling the narrative. \nWith a list of 10 chapter titles\, the audience controls the order of the story. When you hear “HUMBUG\,” it’s your cue to shout out the number of the next chapter\, whether it’s Chapter 1\, Chapter 10\, or any other—there are no rules! The story can unfold in any order\, keeping everyone on their toes. As the sands of time tick down\, the challenge is to complete the entire tale in just 45 minutes. \nIf your heart has grown three sizes by the end\, you’ll be sent on your merry way. Embrace the excitement and joy of this interactive holiday classic! Bah Humbug! \n			\n				Buy Tickets
URL:https://uptownwestervilleinc.com/event/uptown-scrooge-abridged/2024-12-22/
LOCATION:Java Central\, 20 S. State St. #B\, Westerville\, OH\, 43081\, United States
CATEGORIES:Holiday events,State Street News
ATTACH;FMTTYPE=image/webp:https://uptownwestervilleinc.com/wp-content/uploads/2024/10/12-1-24-Uptown-Scrooge-Abridged.webp
ORGANIZER;CN="Good Medicine Productions":MAILTO:GoodMedicineProductionsED@gmail.com
GEO:40.12542;-82.93129
X-APPLE-STRUCTURED-LOCATION;VALUE=URI;X-ADDRESS=Java Central 20 S. State St. #B Westerville OH 43081 United States;X-APPLE-RADIUS=500;X-TITLE=20 S. State St. #B:geo:-82.93129,40.12542
END:VEVENT
END:VCALENDAR