BEGIN:VCALENDAR
VERSION:2.0
PRODID:-//Uptown Westerville Inc - ECPv6.15.20//NONSGML v1.0//EN
CALSCALE:GREGORIAN
METHOD:PUBLISH
X-ORIGINAL-URL:https://uptownwestervilleinc.com
X-WR-CALDESC:Events for Uptown Westerville Inc
REFRESH-INTERVAL;VALUE=DURATION:PT1H
X-Robots-Tag:noindex
X-PUBLISHED-TTL:PT1H
BEGIN:VTIMEZONE
TZID:America/New_York
BEGIN:DAYLIGHT
TZOFFSETFROM:-0500
TZOFFSETTO:-0400
TZNAME:EDT
DTSTART:20240310T070000
END:DAYLIGHT
BEGIN:STANDARD
TZOFFSETFROM:-0400
TZOFFSETTO:-0500
TZNAME:EST
DTSTART:20241103T060000
END:STANDARD
BEGIN:DAYLIGHT
TZOFFSETFROM:-0500
TZOFFSETTO:-0400
TZNAME:EDT
DTSTART:20250309T070000
END:DAYLIGHT
BEGIN:STANDARD
TZOFFSETFROM:-0400
TZOFFSETTO:-0500
TZNAME:EST
DTSTART:20251102T060000
END:STANDARD
BEGIN:DAYLIGHT
TZOFFSETFROM:-0500
TZOFFSETTO:-0400
TZNAME:EDT
DTSTART:20260308T070000
END:DAYLIGHT
BEGIN:STANDARD
TZOFFSETFROM:-0400
TZOFFSETTO:-0500
TZNAME:EST
DTSTART:20261101T060000
END:STANDARD
END:VTIMEZONE
BEGIN:VEVENT
DTSTART;TZID=America/New_York:20250802T130000
DTEND;TZID=America/New_York:20250802T160000
DTSTAMP:20260420T013354
CREATED:20250801T140726Z
LAST-MODIFIED:20250801T140733Z
UID:990001853-1754139600-1754150400@uptownwestervilleinc.com
SUMMARY:Historical Society: Bishop Hanby and the Whiskey Wars
DESCRIPTION:In July\, 1875 Henry Corbin opened a saloon in Westerville and the Whiskey Wars began. Bishop William Hanby had a prominent role in this anti-alcohol battle. There will be presentations at Hanby House on Saturday\, August 2 at 1:30; 2:15 and 3:00 to share some of the stories of these dramatic events in our community’s history and the Hanby connection. The house will be open for tours from 1-4pm. This event is free and open to the public. \n\n\n\n\n\n\n\n\n2025 marks 150 years since the beginning of the Westerville Whiskey Wars which put the community on the map of anti-alcohol “holy places”. Join us as we explore Bishop William Hanby’s action during this turbulent time for our town.
URL:https://uptownwestervilleinc.com/event/historical-society-bishop-hanby-and-the-whiskey-wars/
LOCATION:Hanby House\, 160 W. Main St.\, Westerville\, OH\, 43081\, United States
CATEGORIES:Local history
ATTACH;FMTTYPE=image/webp:https://uptownwestervilleinc.com/wp-content/uploads/2025/06/6-14-25-Hanby-House.webp
ORGANIZER;CN="Westerville Historical Society":MAILTO:WHSpres@westervillehistory.org
GEO:40.0807273;-82.813418
X-APPLE-STRUCTURED-LOCATION;VALUE=URI;X-ADDRESS=Hanby House 160 W. Main St. Westerville OH 43081 United States;X-APPLE-RADIUS=500;X-TITLE=160 W. Main St.:geo:-82.813418,40.0807273
END:VEVENT
BEGIN:VEVENT
DTSTART;TZID=America/New_York:20250804T140000
DTEND;TZID=America/New_York:20250804T150000
DTSTAMP:20260420T013354
CREATED:20250424T202140Z
LAST-MODIFIED:20250424T202140Z
UID:990001522-1754316000-1754319600@uptownwestervilleinc.com
SUMMARY:Family Swim at Goldfish Swim School
DESCRIPTION:Family Swim at Goldfish Swim SchoolMake a splash with your family! Join us for Family Swim at Goldfish Swim School — FREE for members\, or just $10 per person for non-members (maximum of $30 per family). Enjoy fun in the pool\, rain or shine\, in our 90-degree water. \nOffered every Monday from 2-3 p.m.\, and every Friday from 6:30–8 p.m. \n765 Brooksedge Blvd\, Westerville\, OH 43081Call to RSVP: 614-407-3474 ext. 2
URL:https://uptownwestervilleinc.com/event/family-swim-at-goldfish-swim-school/2025-08-04/
LOCATION:Goldfish Swim School\, 765 Brooksedge Blvd\, Westerville\, 43081\, United States
CATEGORIES:In the area
ATTACH;FMTTYPE=image/webp:https://uptownwestervilleinc.com/wp-content/uploads/2025/04/4-28-25-goldfish.webp
GEO:40.1064446;-82.933036
X-APPLE-STRUCTURED-LOCATION;VALUE=URI;X-ADDRESS=Goldfish Swim School 765 Brooksedge Blvd Westerville 43081 United States;X-APPLE-RADIUS=500;X-TITLE=765 Brooksedge Blvd:geo:-82.933036,40.1064446
END:VEVENT
BEGIN:VEVENT
DTSTART;TZID=America/New_York:20250811T140000
DTEND;TZID=America/New_York:20250811T150000
DTSTAMP:20260420T013354
CREATED:20250424T202140Z
LAST-MODIFIED:20250424T202140Z
UID:990001523-1754920800-1754924400@uptownwestervilleinc.com
SUMMARY:Family Swim at Goldfish Swim School
DESCRIPTION:Family Swim at Goldfish Swim SchoolMake a splash with your family! Join us for Family Swim at Goldfish Swim School — FREE for members\, or just $10 per person for non-members (maximum of $30 per family). Enjoy fun in the pool\, rain or shine\, in our 90-degree water. \nOffered every Monday from 2-3 p.m.\, and every Friday from 6:30–8 p.m. \n765 Brooksedge Blvd\, Westerville\, OH 43081Call to RSVP: 614-407-3474 ext. 2
URL:https://uptownwestervilleinc.com/event/family-swim-at-goldfish-swim-school/2025-08-11/
LOCATION:Goldfish Swim School\, 765 Brooksedge Blvd\, Westerville\, 43081\, United States
CATEGORIES:In the area
ATTACH;FMTTYPE=image/webp:https://uptownwestervilleinc.com/wp-content/uploads/2025/04/4-28-25-goldfish.webp
GEO:40.1064446;-82.933036
X-APPLE-STRUCTURED-LOCATION;VALUE=URI;X-ADDRESS=Goldfish Swim School 765 Brooksedge Blvd Westerville 43081 United States;X-APPLE-RADIUS=500;X-TITLE=765 Brooksedge Blvd:geo:-82.933036,40.1064446
END:VEVENT
BEGIN:VEVENT
DTSTART;TZID=America/New_York:20250818T140000
DTEND;TZID=America/New_York:20250818T150000
DTSTAMP:20260420T013354
CREATED:20250424T202140Z
LAST-MODIFIED:20250424T202140Z
UID:990001524-1755525600-1755529200@uptownwestervilleinc.com
SUMMARY:Family Swim at Goldfish Swim School
DESCRIPTION:Family Swim at Goldfish Swim SchoolMake a splash with your family! Join us for Family Swim at Goldfish Swim School — FREE for members\, or just $10 per person for non-members (maximum of $30 per family). Enjoy fun in the pool\, rain or shine\, in our 90-degree water. \nOffered every Monday from 2-3 p.m.\, and every Friday from 6:30–8 p.m. \n765 Brooksedge Blvd\, Westerville\, OH 43081Call to RSVP: 614-407-3474 ext. 2
URL:https://uptownwestervilleinc.com/event/family-swim-at-goldfish-swim-school/2025-08-18/
LOCATION:Goldfish Swim School\, 765 Brooksedge Blvd\, Westerville\, 43081\, United States
CATEGORIES:In the area
ATTACH;FMTTYPE=image/webp:https://uptownwestervilleinc.com/wp-content/uploads/2025/04/4-28-25-goldfish.webp
GEO:40.1064446;-82.933036
X-APPLE-STRUCTURED-LOCATION;VALUE=URI;X-ADDRESS=Goldfish Swim School 765 Brooksedge Blvd Westerville 43081 United States;X-APPLE-RADIUS=500;X-TITLE=765 Brooksedge Blvd:geo:-82.933036,40.1064446
END:VEVENT
BEGIN:VEVENT
DTSTART;TZID=America/New_York:20250825T140000
DTEND;TZID=America/New_York:20250825T150000
DTSTAMP:20260420T013354
CREATED:20250424T202140Z
LAST-MODIFIED:20250424T202140Z
UID:990001525-1756130400-1756134000@uptownwestervilleinc.com
SUMMARY:Family Swim at Goldfish Swim School
DESCRIPTION:Family Swim at Goldfish Swim SchoolMake a splash with your family! Join us for Family Swim at Goldfish Swim School — FREE for members\, or just $10 per person for non-members (maximum of $30 per family). Enjoy fun in the pool\, rain or shine\, in our 90-degree water. \nOffered every Monday from 2-3 p.m.\, and every Friday from 6:30–8 p.m. \n765 Brooksedge Blvd\, Westerville\, OH 43081Call to RSVP: 614-407-3474 ext. 2
URL:https://uptownwestervilleinc.com/event/family-swim-at-goldfish-swim-school/2025-08-25/
LOCATION:Goldfish Swim School\, 765 Brooksedge Blvd\, Westerville\, 43081\, United States
CATEGORIES:In the area
ATTACH;FMTTYPE=image/webp:https://uptownwestervilleinc.com/wp-content/uploads/2025/04/4-28-25-goldfish.webp
GEO:40.1064446;-82.933036
X-APPLE-STRUCTURED-LOCATION;VALUE=URI;X-ADDRESS=Goldfish Swim School 765 Brooksedge Blvd Westerville 43081 United States;X-APPLE-RADIUS=500;X-TITLE=765 Brooksedge Blvd:geo:-82.933036,40.1064446
END:VEVENT
END:VCALENDAR