BEGIN:VCALENDAR
VERSION:2.0
PRODID:-//Uptown Westerville Inc - ECPv6.15.20//NONSGML v1.0//EN
CALSCALE:GREGORIAN
METHOD:PUBLISH
X-ORIGINAL-URL:https://uptownwestervilleinc.com
X-WR-CALDESC:Events for Uptown Westerville Inc
REFRESH-INTERVAL;VALUE=DURATION:PT1H
X-Robots-Tag:noindex
X-PUBLISHED-TTL:PT1H
BEGIN:VTIMEZONE
TZID:America/New_York
BEGIN:DAYLIGHT
TZOFFSETFROM:-0500
TZOFFSETTO:-0400
TZNAME:EDT
DTSTART:20250309T070000
END:DAYLIGHT
BEGIN:STANDARD
TZOFFSETFROM:-0400
TZOFFSETTO:-0500
TZNAME:EST
DTSTART:20251102T060000
END:STANDARD
BEGIN:DAYLIGHT
TZOFFSETFROM:-0500
TZOFFSETTO:-0400
TZNAME:EDT
DTSTART:20260308T070000
END:DAYLIGHT
BEGIN:STANDARD
TZOFFSETFROM:-0400
TZOFFSETTO:-0500
TZNAME:EST
DTSTART:20261101T060000
END:STANDARD
BEGIN:DAYLIGHT
TZOFFSETFROM:-0500
TZOFFSETTO:-0400
TZNAME:EDT
DTSTART:20270314T070000
END:DAYLIGHT
BEGIN:STANDARD
TZOFFSETFROM:-0400
TZOFFSETTO:-0500
TZNAME:EST
DTSTART:20271107T060000
END:STANDARD
END:VTIMEZONE
BEGIN:VEVENT
DTSTART;TZID=America/New_York:20260301T170000
DTEND;TZID=America/New_York:20260301T190000
DTSTAMP:20260419T092639
CREATED:20251008T105527Z
LAST-MODIFIED:20251008T105527Z
UID:990002184-1772384400-1772391600@uptownwestervilleinc.com
SUMMARY:Westerville Symphony - Masterworks II
DESCRIPTION:Masterworks II is a celebration of bold voices and unforgettable soundscapes\, pairing rarely heard gems with a towering symphonic masterpiece. \nThe evening begins with Gustav Holst’s Japanese Suite\, a vibrant work inspired by his fascination with Eastern music and culture. Though best known for The Planets\, Holst reveals another side of his artistry here — light\, colorful\, and full of rhythmic vitality.\n \nThe program continues with Lou Harrison’s striking Piano Concerto\, performed by the internationally acclaimed pianist Sarah Cahill. Described as “a sterling pianist and an intrepid illuminator of the classical avant-garde” by the New York Times\, Cahill has dedicated her career to championing innovative composers and expanding the piano repertoire. Harrison’s concerto is both lyrical and percussive\, fusing Eastern and Western traditions in a dazzling tour de force. With Cahill at the keyboard\, this promises to be a performance of brilliance and passion. \nAfter intermission\, the Symphony turns to one of the great monuments of the orchestral repertoire: Jean Sibelius’s Symphony No. 7 in C Major. Composed as a single sweeping movement\, this symphony is both intimate and monumental\, unfolding as a seamless arc of sound. Sibelius leads listeners through moments of grandeur\, mystery\, and serenity before closing with one of the most transcendent endings in all of music. \nFrom Holst’s vibrant colors to Harrison’s groundbreaking concerto and Sibelius’s profound Seventh Symphony\, this program offers an evening of discovery and inspiration.
URL:https://uptownwestervilleinc.com/event/westerville-symphony-masterworks-ii/
LOCATION:Otterbein-Cowan Hall\, 30 S. Grove St.\, Westerville\, OH\, 43081\, United States
CATEGORIES:Live Music,Otterbein University
ATTACH;FMTTYPE=image/webp:https://uptownwestervilleinc.com/wp-content/uploads/2025/10/3-1-26-Masterworks-2-16x9-2.webp
ORGANIZER;CN="Westerville Symphony":MAILTO:info@westervillesymphony.org
GEO:40.1247049;-82.9347663
X-APPLE-STRUCTURED-LOCATION;VALUE=URI;X-ADDRESS=Otterbein-Cowan Hall 30 S. Grove St. Westerville OH 43081 United States;X-APPLE-RADIUS=500;X-TITLE=30 S. Grove St.:geo:-82.9347663,40.1247049
END:VEVENT
BEGIN:VEVENT
DTSTART;TZID=America/New_York:20260309T193000
DTEND;TZID=America/New_York:20260309T210000
DTSTAMP:20260419T092639
CREATED:20260225T214349Z
LAST-MODIFIED:20260225T214349Z
UID:990002802-1773084600-1773090000@uptownwestervilleinc.com
SUMMARY:Amazing Grace Concert: Youth Philharmonic of Central Ohio
DESCRIPTION:Grace Evangelical Lutheran Church is pleased to welcome the Youth Philharmonic of Central Ohio as part of the Amazing Grace Concert Series. \nThe Youth Philharmonic provides high-level orchestral training and performance opportunities for student musicians from across Central Ohio. Through disciplined study\, mentorship\, and public performance\, these young artists grow not only in musical excellence but also in leadership\, collaboration\, and confidence. \nThis concert offers the Westerville community an opportunity to support youth arts education while enjoying an inspiring evening of live orchestral music. \nJoin us Monday\, March 9\, 2026 at 7:30 PM at 100 E. Schrock Rd\, Westerville. Admission is free; donations are appreciated.
URL:https://uptownwestervilleinc.com/event/amazing-grace-concert-youth-philharmonic-of-central-ohio/
LOCATION:Grace Evangelical Lutheran Church\, 100 E. Schrock Rd.\, Westerville\, OH\, 43081\, United States
CATEGORIES:In the area,Live Music
ATTACH;FMTTYPE=image/png:https://uptownwestervilleinc.com/wp-content/uploads/2026/02/YPCO-Concert-Instagram-800-x-450-px.png
ORGANIZER;CN="Grace Evangelical Lutheran Church":MAILTO:office@grace43081.org
GEO:40.1100187;-82.9214977
X-APPLE-STRUCTURED-LOCATION;VALUE=URI;X-ADDRESS=Grace Evangelical Lutheran Church 100 E. Schrock Rd. Westerville OH 43081 United States;X-APPLE-RADIUS=500;X-TITLE=100 E. Schrock Rd.:geo:-82.9214977,40.1100187
END:VEVENT
BEGIN:VEVENT
DTSTART;TZID=America/New_York:20260327T190000
DTEND;TZID=America/New_York:20260327T210000
DTSTAMP:20260419T092639
CREATED:20260117T173249Z
LAST-MODIFIED:20260117T173305Z
UID:990002675-1774638000-1774645200@uptownwestervilleinc.com
SUMMARY:Historical Society: Inventor Sanders Frye
DESCRIPTION:The Westerville Historical Society will hold its bimonthly meeting at 7 p.m. March 27 at the Westerville Public Library\, 126 S. State St. \nStephen Grinch\, Otterbein archivist\, will share details of the life of local resident Sanders Frye\, who invented the first automatic bowling pinsetter. Frye was the business manager of Otterbein University and also a miniature train hobbyist. \nDoors to the library open at 6:30 p.m. This program is free and open to the public.
URL:https://uptownwestervilleinc.com/event/historical-society-inventor-sanders-frye/
LOCATION:Westerville Public Library\, 126 S. State St.\, Westerville\, 43081\, United States
CATEGORIES:In the area,Local history
ATTACH;FMTTYPE=image/webp:https://uptownwestervilleinc.com/wp-content/uploads/2025/09/West-Historical-Soci-logo-800x450_calendar.webp
ORGANIZER;CN="Westerville Historical Society":MAILTO:WHSpres@westervillehistory.org
GEO:40.122828;-82.929852
X-APPLE-STRUCTURED-LOCATION;VALUE=URI;X-ADDRESS=Westerville Public Library 126 S. State St. Westerville 43081 United States;X-APPLE-RADIUS=500;X-TITLE=126 S. State St.:geo:-82.929852,40.122828
END:VEVENT
END:VCALENDAR