BEGIN:VCALENDAR
VERSION:2.0
PRODID:-//Uptown Westerville Inc - ECPv6.15.20//NONSGML v1.0//EN
CALSCALE:GREGORIAN
METHOD:PUBLISH
X-WR-CALNAME:Uptown Westerville Inc
X-ORIGINAL-URL:https://uptownwestervilleinc.com
X-WR-CALDESC:Events for Uptown Westerville Inc
REFRESH-INTERVAL;VALUE=DURATION:PT1H
X-Robots-Tag:noindex
X-PUBLISHED-TTL:PT1H
BEGIN:VTIMEZONE
TZID:America/New_York
BEGIN:DAYLIGHT
TZOFFSETFROM:-0500
TZOFFSETTO:-0400
TZNAME:EDT
DTSTART:20230312T070000
END:DAYLIGHT
BEGIN:STANDARD
TZOFFSETFROM:-0400
TZOFFSETTO:-0500
TZNAME:EST
DTSTART:20231105T060000
END:STANDARD
BEGIN:DAYLIGHT
TZOFFSETFROM:-0500
TZOFFSETTO:-0400
TZNAME:EDT
DTSTART:20240310T070000
END:DAYLIGHT
BEGIN:STANDARD
TZOFFSETFROM:-0400
TZOFFSETTO:-0500
TZNAME:EST
DTSTART:20241103T060000
END:STANDARD
BEGIN:DAYLIGHT
TZOFFSETFROM:-0500
TZOFFSETTO:-0400
TZNAME:EDT
DTSTART:20250309T070000
END:DAYLIGHT
BEGIN:STANDARD
TZOFFSETFROM:-0400
TZOFFSETTO:-0500
TZNAME:EST
DTSTART:20251102T060000
END:STANDARD
END:VTIMEZONE
BEGIN:VEVENT
DTSTART;TZID=America/New_York:20241201T124500
DTEND;TZID=America/New_York:20241201T134500
DTSTAMP:20260419T172616
CREATED:20241106T045943Z
LAST-MODIFIED:20241106T050720Z
UID:990001054-1733057100-1733060700@uptownwestervilleinc.com
SUMMARY:Uptown Scrooge Abridged
DESCRIPTION:Uptown Scrooge Abridged\, presented by Good Medicine Productions \nWHENSunday afternoonsDec. 1\, 8\, 15\, 22 \nTIMES12:45p\, 2:45p\, 4:45p) \n(Also\, one special Saturday Performance\, at 4 p.m. Dec. 7) \nCOST$25 Adults$15 Children & Students \nWHEREJava Central20 S. State St.\, Westerville\, OH 43081 \nNow a ticketed event. \nThis year you’ll take a seat for a whirlwind interactive holiday experience like no other! Our fast-paced rendition of “A Christmas Carol” packs all the magic and mayhem into a one hour! \nGreeted by cheerful carolers and a grumpy (and dead) Jacob Marley\, you’ll be checked in and ready for the show in the stage room at Java Central Cafe. \nOur dynamic cast — including Nephew Fred\, the Ghosts of Christmas Present\, Past\, Future\, and a precocious Tiny Tim — will guide you through the story at lightning speed. The twist? You are the star! The audience plays Scrooge\, controlling the narrative. \nWith a list of 10 chapter titles\, the audience controls the order of the story. When you hear “HUMBUG\,” it’s your cue to shout out the number of the next chapter\, whether it’s Chapter 1\, Chapter 10\, or any other—there are no rules! The story can unfold in any order\, keeping everyone on their toes. As the sands of time tick down\, the challenge is to complete the entire tale in just 45 minutes. \nIf your heart has grown three sizes by the end\, you’ll be sent on your merry way. Embrace the excitement and joy of this interactive holiday classic! Bah Humbug! \n			\n				Buy Tickets
URL:https://uptownwestervilleinc.com/event/uptown-scrooge-abridged/2024-12-01/
LOCATION:Java Central\, 20 S. State St. #B\, Westerville\, OH\, 43081\, United States
CATEGORIES:Holiday events,State Street News
ATTACH;FMTTYPE=image/webp:https://uptownwestervilleinc.com/wp-content/uploads/2024/10/12-1-24-Uptown-Scrooge-Abridged.webp
ORGANIZER;CN="Good Medicine Productions":MAILTO:GoodMedicineProductionsED@gmail.com
GEO:40.12542;-82.93129
X-APPLE-STRUCTURED-LOCATION;VALUE=URI;X-ADDRESS=Java Central 20 S. State St. #B Westerville OH 43081 United States;X-APPLE-RADIUS=500;X-TITLE=20 S. State St. #B:geo:-82.93129,40.12542
END:VEVENT
END:VCALENDAR