BEGIN:VCALENDAR
VERSION:2.0
PRODID:-//Uptown Westerville Inc - ECPv6.15.20//NONSGML v1.0//EN
CALSCALE:GREGORIAN
METHOD:PUBLISH
X-WR-CALNAME:Uptown Westerville Inc
X-ORIGINAL-URL:https://uptownwestervilleinc.com
X-WR-CALDESC:Events for Uptown Westerville Inc
REFRESH-INTERVAL;VALUE=DURATION:PT1H
X-Robots-Tag:noindex
X-PUBLISHED-TTL:PT1H
BEGIN:VTIMEZONE
TZID:America/New_York
BEGIN:DAYLIGHT
TZOFFSETFROM:-0500
TZOFFSETTO:-0400
TZNAME:EDT
DTSTART:20230312T070000
END:DAYLIGHT
BEGIN:STANDARD
TZOFFSETFROM:-0400
TZOFFSETTO:-0500
TZNAME:EST
DTSTART:20231105T060000
END:STANDARD
BEGIN:DAYLIGHT
TZOFFSETFROM:-0500
TZOFFSETTO:-0400
TZNAME:EDT
DTSTART:20240310T070000
END:DAYLIGHT
BEGIN:STANDARD
TZOFFSETFROM:-0400
TZOFFSETTO:-0500
TZNAME:EST
DTSTART:20241103T060000
END:STANDARD
BEGIN:DAYLIGHT
TZOFFSETFROM:-0500
TZOFFSETTO:-0400
TZNAME:EDT
DTSTART:20250309T070000
END:DAYLIGHT
BEGIN:STANDARD
TZOFFSETFROM:-0400
TZOFFSETTO:-0500
TZNAME:EST
DTSTART:20251102T060000
END:STANDARD
END:VTIMEZONE
BEGIN:VEVENT
DTSTART;TZID=America/New_York:20241205T190000
DTEND;TZID=America/New_York:20241205T210000
DTSTAMP:20260419T140029
CREATED:20241024T174829Z
LAST-MODIFIED:20241024T180057Z
UID:990001047-1733425200-1733432400@uptownwestervilleinc.com
SUMMARY:Hanby House 2024 Christmas Open Houses
DESCRIPTION:Get in the holiday spirit with a visit to Hanby House! \nJoin the Westerville Historical Society for a celebration of the holidays in the historic home specially decorated for the occasion\, with music in the parlor and sweet treats in the adjacent Shoemaker Cottage. \nThe home of Ben Hanby\, composer of Up on the Housetop will be open to the public for this annual showcase. The Hanby House is located at 160 E. Main St.\, in the heart of the Otterbein University campus. \nChristmas Open House hours for 2024 will be: \n\nFrom 7-9 p.m. Tuesday\, Dec. 3\nFrom 7-9 p.m. Thursday\, Dec. 5; and\nFrom 10 a.m.-2 p.m. Saturday\, Dec. 7\n\nNo admittance fee — Donations encouraged. \nThe Hanby House is owned by the Ohio History Connection and managed by the Westerville Historical Society. \nOn the National Registry of Historic sites\, the house museum is furnished with items depicting the lifestyle of a family of modest means in the 1850s. Home to William Hanby and his family\, the dwelling is important because of its representation of the social\, moral\, educational\, and artistic fabric of Westerville\, Otterbein University and Ohio. \nRead much more on the Westerville Historical Society website at westervillehistory.org. \n  \n  \n 
URL:https://uptownwestervilleinc.com/event/hanby-house-2024-dec-5/
LOCATION:Hanby House\, 160 W. Main St.\, Westerville\, OH\, 43081\, United States
CATEGORIES:Holiday events,Local history
ATTACH;FMTTYPE=image/webp:https://uptownwestervilleinc.com/wp-content/uploads/2024/10/Hanby-xmas-open-house.webp
ORGANIZER;CN="Westerville Historical Society":MAILTO:WHSpres@westervillehistory.org
GEO:40.0807273;-82.813418
X-APPLE-STRUCTURED-LOCATION;VALUE=URI;X-ADDRESS=Hanby House 160 W. Main St. Westerville OH 43081 United States;X-APPLE-RADIUS=500;X-TITLE=160 W. Main St.:geo:-82.813418,40.0807273
END:VEVENT
END:VCALENDAR