BEGIN:VCALENDAR
VERSION:2.0
PRODID:-//Uptown Westerville Inc - ECPv6.15.20//NONSGML v1.0//EN
CALSCALE:GREGORIAN
METHOD:PUBLISH
X-WR-CALNAME:Uptown Westerville Inc
X-ORIGINAL-URL:https://uptownwestervilleinc.com
X-WR-CALDESC:Events for Uptown Westerville Inc
REFRESH-INTERVAL;VALUE=DURATION:PT1H
X-Robots-Tag:noindex
X-PUBLISHED-TTL:PT1H
BEGIN:VTIMEZONE
TZID:America/New_York
BEGIN:DAYLIGHT
TZOFFSETFROM:-0500
TZOFFSETTO:-0400
TZNAME:EDT
DTSTART:20230312T070000
END:DAYLIGHT
BEGIN:STANDARD
TZOFFSETFROM:-0400
TZOFFSETTO:-0500
TZNAME:EST
DTSTART:20231105T060000
END:STANDARD
BEGIN:DAYLIGHT
TZOFFSETFROM:-0500
TZOFFSETTO:-0400
TZNAME:EDT
DTSTART:20240310T070000
END:DAYLIGHT
BEGIN:STANDARD
TZOFFSETFROM:-0400
TZOFFSETTO:-0500
TZNAME:EST
DTSTART:20241103T060000
END:STANDARD
BEGIN:DAYLIGHT
TZOFFSETFROM:-0500
TZOFFSETTO:-0400
TZNAME:EDT
DTSTART:20250309T070000
END:DAYLIGHT
BEGIN:STANDARD
TZOFFSETFROM:-0400
TZOFFSETTO:-0500
TZNAME:EST
DTSTART:20251102T060000
END:STANDARD
END:VTIMEZONE
BEGIN:VEVENT
DTSTART;TZID=America/New_York:20241214T110000
DTEND;TZID=America/New_York:20241214T150000
DTSTAMP:20260419T204126
CREATED:20241023T232840Z
LAST-MODIFIED:20241114T145443Z
UID:990000955-1734174000-1734188400@uptownwestervilleinc.com
SUMMARY:Who-ville Uptown
DESCRIPTION:Who-ville Uptown \nCharacters\, crafts\, and Who-ville themed activities from 11 a.m. until 3 p.m. Saturday\, Dec. 14 on the lawn of Hanby Elementary School\, 56 S. State St. \nPart of the 2024 Holidays in Uptown celebration. \nUptown’s Pearlescent Portraits\, 43 E. College Ave.\, also is offering special Photos\, Hot Cocoa and Cookies with Santa sessions on Dec. 14. Cost is $18 if scheduled in advance or $25 at the door. Schedule your session at the website.
URL:https://uptownwestervilleinc.com/event/who-ville-uptown/
LOCATION:Hanby Elementary School\, 56 S. State St.\, Westerville\, OH\, 43081\, United States
CATEGORIES:Holiday events,State Street News
ATTACH;FMTTYPE=image/webp:https://uptownwestervilleinc.com/wp-content/uploads/2024/10/12-14-24-whoville-illust.webp
GEO:40.1243968;-82.9304499
X-APPLE-STRUCTURED-LOCATION;VALUE=URI;X-ADDRESS=Hanby Elementary School 56 S. State St. Westerville OH 43081 United States;X-APPLE-RADIUS=500;X-TITLE=56 S. State St.:geo:-82.9304499,40.1243968
END:VEVENT
BEGIN:VEVENT
DTSTART;TZID=America/New_York:20241214T113000
DTEND;TZID=America/New_York:20241214T130000
DTSTAMP:20260419T204126
CREATED:20241113T011738Z
LAST-MODIFIED:20241113T014820Z
UID:990001063-1734175800-1734181200@uptownwestervilleinc.com
SUMMARY:Christmas for the Generations 2024
DESCRIPTION:The Generations Performing Arts Center will stage its 24th Annual Christmas for the Generations\, A Holiday Spectacular on Saturday and Sunday\, Dec. 14-15\, at Westerville Central High School. \nThe Full Show will be presented at 2 and 6 p.m. Dec. 14 and at 3 p.m. Dec. 15. \nThe Children’s Concert also will be presented once each day\, at 11:30 a.m. Dec. 14 and 2 p.m. Dec. 15. \nChildren can have a photo taken with Santa after the show. \nTickets range from $13 to $25. Buy online at https://buy.tututix.com/genpac or call 855-222-2849. \nShowtimes\nSaturday\, Dec. 14\n\n11:30 a.m. (Children’s Concert)\n2 p.m.\n6 p.m.\n\nSunday\, Dec. 15\n\n1 p.m. (Children’s Concert)\n3 p.m.\n\n  \n 
URL:https://uptownwestervilleinc.com/event/christmas-for-the-generations-2024/
LOCATION:Westerville Central High School\, 7118 Mt Royal Ave\, Westerville\, Ohio\, 43082
CATEGORIES:Holiday events,In the area,School Events
ATTACH;FMTTYPE=image/webp:https://uptownwestervilleinc.com/wp-content/uploads/2024/11/Christmas-Show-2024-calendar.webp
ORGANIZER;CN="Generations Performing Arts Center":MAILTO:studio@gen-pac.com
GEO:40.1544356;-82.9040906
X-APPLE-STRUCTURED-LOCATION;VALUE=URI;X-ADDRESS=Westerville Central High School 7118 Mt Royal Ave Westerville Ohio 43082;X-APPLE-RADIUS=500;X-TITLE=7118 Mt Royal Ave:geo:-82.9040906,40.1544356
END:VEVENT
END:VCALENDAR