BEGIN:VCALENDAR
VERSION:2.0
PRODID:-//Uptown Westerville Inc - ECPv6.15.20//NONSGML v1.0//EN
CALSCALE:GREGORIAN
METHOD:PUBLISH
X-WR-CALNAME:Uptown Westerville Inc
X-ORIGINAL-URL:https://uptownwestervilleinc.com
X-WR-CALDESC:Events for Uptown Westerville Inc
REFRESH-INTERVAL;VALUE=DURATION:PT1H
X-Robots-Tag:noindex
X-PUBLISHED-TTL:PT1H
BEGIN:VTIMEZONE
TZID:America/New_York
BEGIN:DAYLIGHT
TZOFFSETFROM:-0500
TZOFFSETTO:-0400
TZNAME:EDT
DTSTART:20230312T070000
END:DAYLIGHT
BEGIN:STANDARD
TZOFFSETFROM:-0400
TZOFFSETTO:-0500
TZNAME:EST
DTSTART:20231105T060000
END:STANDARD
BEGIN:DAYLIGHT
TZOFFSETFROM:-0500
TZOFFSETTO:-0400
TZNAME:EDT
DTSTART:20240310T070000
END:DAYLIGHT
BEGIN:STANDARD
TZOFFSETFROM:-0400
TZOFFSETTO:-0500
TZNAME:EST
DTSTART:20241103T060000
END:STANDARD
BEGIN:DAYLIGHT
TZOFFSETFROM:-0500
TZOFFSETTO:-0400
TZNAME:EDT
DTSTART:20250309T070000
END:DAYLIGHT
BEGIN:STANDARD
TZOFFSETFROM:-0400
TZOFFSETTO:-0500
TZNAME:EST
DTSTART:20251102T060000
END:STANDARD
END:VTIMEZONE
BEGIN:VEVENT
DTSTART;TZID=America/New_York:20241221T110000
DTEND;TZID=America/New_York:20241221T160000
DTSTAMP:20260419T154636
CREATED:20241024T014041Z
LAST-MODIFIED:20241103T162833Z
UID:990000956-1734778800-1734796800@uptownwestervilleinc.com
SUMMARY:Ugly Sweater Snack and Stroll
DESCRIPTION:Take part in the inaugural Uptown Ugly Sweater Snack and Stroll! \nGet out your ugliest holiday sweater and proudly show it off Uptown. It’ll be a great day to enjoy historic Uptown and “Shop Small” to support local businesses. \nThe fun will take place all across the Uptown district\, from 11 a.m. to 4 p.m. Saturday\, Dec. 21. Businesses throughout will welcome the be-sweatered with holiday snacks. \nStroll the shops to wrap up your holiday shopping\, grab a meal at one of Uptown’s great restaurants or pubs … and check out all the other ugly sweaters on display Dec. 21. \nPart of the 2024 Holidays in Uptown celebration. \n 
URL:https://uptownwestervilleinc.com/event/ugly-sweater-snack-and-stroll/
LOCATION:Uptown Westerville District\, 21 S. State St.\, Westerville\, OH\, 43081\, United States
CATEGORIES:Holiday events,State Street News
ATTACH;FMTTYPE=image/webp:https://uptownwestervilleinc.com/wp-content/uploads/2024/10/12-21-24-ugly-sweaters.webp
GEO:40.1252264;-82.9317573
X-APPLE-STRUCTURED-LOCATION;VALUE=URI;X-ADDRESS=Uptown Westerville District 21 S. State St. Westerville OH 43081 United States;X-APPLE-RADIUS=500;X-TITLE=21 S. State St.:geo:-82.9317573,40.1252264
END:VEVENT
END:VCALENDAR