BEGIN:VCALENDAR
VERSION:2.0
PRODID:-//Uptown Westerville Inc - ECPv6.15.20//NONSGML v1.0//EN
CALSCALE:GREGORIAN
METHOD:PUBLISH
X-WR-CALNAME:Uptown Westerville Inc
X-ORIGINAL-URL:https://uptownwestervilleinc.com
X-WR-CALDESC:Events for Uptown Westerville Inc
REFRESH-INTERVAL;VALUE=DURATION:PT1H
X-Robots-Tag:noindex
X-PUBLISHED-TTL:PT1H
BEGIN:VTIMEZONE
TZID:America/New_York
BEGIN:DAYLIGHT
TZOFFSETFROM:-0500
TZOFFSETTO:-0400
TZNAME:EDT
DTSTART:20240310T070000
END:DAYLIGHT
BEGIN:STANDARD
TZOFFSETFROM:-0400
TZOFFSETTO:-0500
TZNAME:EST
DTSTART:20241103T060000
END:STANDARD
BEGIN:DAYLIGHT
TZOFFSETFROM:-0500
TZOFFSETTO:-0400
TZNAME:EDT
DTSTART:20250309T070000
END:DAYLIGHT
BEGIN:STANDARD
TZOFFSETFROM:-0400
TZOFFSETTO:-0500
TZNAME:EST
DTSTART:20251102T060000
END:STANDARD
BEGIN:DAYLIGHT
TZOFFSETFROM:-0500
TZOFFSETTO:-0400
TZNAME:EDT
DTSTART:20260308T070000
END:DAYLIGHT
BEGIN:STANDARD
TZOFFSETFROM:-0400
TZOFFSETTO:-0500
TZNAME:EST
DTSTART:20261101T060000
END:STANDARD
END:VTIMEZONE
BEGIN:VEVENT
DTSTART;TZID=America/New_York:20251201T140000
DTEND;TZID=America/New_York:20251201T150000
DTSTAMP:20260420T014632
CREATED:20250424T202140Z
LAST-MODIFIED:20250424T202140Z
UID:990001539-1764597600-1764601200@uptownwestervilleinc.com
SUMMARY:Family Swim at Goldfish Swim School
DESCRIPTION:Family Swim at Goldfish Swim SchoolMake a splash with your family! Join us for Family Swim at Goldfish Swim School — FREE for members\, or just $10 per person for non-members (maximum of $30 per family). Enjoy fun in the pool\, rain or shine\, in our 90-degree water. \nOffered every Monday from 2-3 p.m.\, and every Friday from 6:30–8 p.m. \n765 Brooksedge Blvd\, Westerville\, OH 43081Call to RSVP: 614-407-3474 ext. 2
URL:https://uptownwestervilleinc.com/event/family-swim-at-goldfish-swim-school/2025-12-01/
LOCATION:Goldfish Swim School\, 765 Brooksedge Blvd\, Westerville\, 43081\, United States
CATEGORIES:In the area
ATTACH;FMTTYPE=image/webp:https://uptownwestervilleinc.com/wp-content/uploads/2025/04/4-28-25-goldfish.webp
GEO:40.1064446;-82.933036
X-APPLE-STRUCTURED-LOCATION;VALUE=URI;X-ADDRESS=Goldfish Swim School 765 Brooksedge Blvd Westerville 43081 United States;X-APPLE-RADIUS=500;X-TITLE=765 Brooksedge Blvd:geo:-82.933036,40.1064446
END:VEVENT
BEGIN:VEVENT
DTSTART;TZID=America/New_York:20251202T190000
DTEND;TZID=America/New_York:20251202T190000
DTSTAMP:20260420T014632
CREATED:20251106T130131Z
LAST-MODIFIED:20251106T130143Z
UID:990002572-1764702000-1764702000@uptownwestervilleinc.com
SUMMARY:Hanby House 2025 Christmas Open Houses
DESCRIPTION:Get in the holiday spirit with a visit to Hanby House! \nJoin the Westerville Historical Society for a celebration of the holidays in the historic home specially decorated for the occasion\, with music in the parlor and sweet treats in the adjacent Shoemaker Cottage. \nThe home of Ben Hanby\, composer of Up on the Housetop will be open to the public for this annual showcase. The Hanby House is located at 160 E. Main St.\, in the heart of the Otterbein University campus. \nChristmas Open House hours for 2025 will be: \n\n7-9 p.m. Tuesday\, Dec. 2\, 2025\n7-9 p.m. Thursday\, Dec. 4\, 2025\n10 a.m.-2 p.m. Saturday\, Dec. 6\, 2025\n\nNo admittance fee — Donations encouraged. \nThe Hanby House is owned by the Ohio History Connection and managed by the Westerville Historical Society. \nOn the National Registry of Historic sites\, the house museum is furnished with items depicting the lifestyle of a family of modest means in the 1850s. Home to William Hanby and his family\, the dwelling is important because of its representation of the social\, moral\, educational\, and artistic fabric of Westerville\, Otterbein University and Ohio. \nRead much more on the Westerville Historical Society website at westervillehistory.org. \n  \n  \n 
URL:https://uptownwestervilleinc.com/event/hanby-house-2025-christmas-open-houses/2025-12-02/
LOCATION:Hanby House\, 160 W. Main St.\, Westerville\, OH\, 43081\, United States
CATEGORIES:Holiday events,Local history
ATTACH;FMTTYPE=image/webp:https://uptownwestervilleinc.com/wp-content/uploads/2024/10/Hanby-xmas-open-house.webp
ORGANIZER;CN="Westerville Historical Society":MAILTO:WHSpres@westervillehistory.org
GEO:40.0807273;-82.813418
X-APPLE-STRUCTURED-LOCATION;VALUE=URI;X-ADDRESS=Hanby House 160 W. Main St. Westerville OH 43081 United States;X-APPLE-RADIUS=500;X-TITLE=160 W. Main St.:geo:-82.813418,40.0807273
END:VEVENT
BEGIN:VEVENT
DTSTART;TZID=America/New_York:20251204T190000
DTEND;TZID=America/New_York:20251204T210000
DTSTAMP:20260420T014632
CREATED:20251106T130131Z
LAST-MODIFIED:20251106T130143Z
UID:990002573-1764874800-1764882000@uptownwestervilleinc.com
SUMMARY:Hanby House 2025 Christmas Open Houses
DESCRIPTION:Get in the holiday spirit with a visit to Hanby House! \nJoin the Westerville Historical Society for a celebration of the holidays in the historic home specially decorated for the occasion\, with music in the parlor and sweet treats in the adjacent Shoemaker Cottage. \nThe home of Ben Hanby\, composer of Up on the Housetop will be open to the public for this annual showcase. The Hanby House is located at 160 E. Main St.\, in the heart of the Otterbein University campus. \nChristmas Open House hours for 2025 will be: \n\n7-9 p.m. Tuesday\, Dec. 2\, 2025\n7-9 p.m. Thursday\, Dec. 4\, 2025\n10 a.m.-2 p.m. Saturday\, Dec. 6\, 2025\n\nNo admittance fee — Donations encouraged. \nThe Hanby House is owned by the Ohio History Connection and managed by the Westerville Historical Society. \nOn the National Registry of Historic sites\, the house museum is furnished with items depicting the lifestyle of a family of modest means in the 1850s. Home to William Hanby and his family\, the dwelling is important because of its representation of the social\, moral\, educational\, and artistic fabric of Westerville\, Otterbein University and Ohio. \nRead much more on the Westerville Historical Society website at westervillehistory.org. \n  \n  \n 
URL:https://uptownwestervilleinc.com/event/hanby-house-2025-christmas-open-houses/2025-12-04/
LOCATION:Hanby House\, 160 W. Main St.\, Westerville\, OH\, 43081\, United States
CATEGORIES:Holiday events,Local history
ATTACH;FMTTYPE=image/webp:https://uptownwestervilleinc.com/wp-content/uploads/2024/10/Hanby-xmas-open-house.webp
ORGANIZER;CN="Westerville Historical Society":MAILTO:WHSpres@westervillehistory.org
GEO:40.0807273;-82.813418
X-APPLE-STRUCTURED-LOCATION;VALUE=URI;X-ADDRESS=Hanby House 160 W. Main St. Westerville OH 43081 United States;X-APPLE-RADIUS=500;X-TITLE=160 W. Main St.:geo:-82.813418,40.0807273
END:VEVENT
BEGIN:VEVENT
DTSTART;TZID=America/New_York:20251206T100000
DTEND;TZID=America/New_York:20251206T140000
DTSTAMP:20260420T014632
CREATED:20251106T130131Z
LAST-MODIFIED:20251106T130143Z
UID:990002574-1765015200-1765029600@uptownwestervilleinc.com
SUMMARY:Hanby House 2025 Christmas Open Houses
DESCRIPTION:Get in the holiday spirit with a visit to Hanby House! \nJoin the Westerville Historical Society for a celebration of the holidays in the historic home specially decorated for the occasion\, with music in the parlor and sweet treats in the adjacent Shoemaker Cottage. \nThe home of Ben Hanby\, composer of Up on the Housetop will be open to the public for this annual showcase. The Hanby House is located at 160 E. Main St.\, in the heart of the Otterbein University campus. \nChristmas Open House hours for 2025 will be: \n\n7-9 p.m. Tuesday\, Dec. 2\, 2025\n7-9 p.m. Thursday\, Dec. 4\, 2025\n10 a.m.-2 p.m. Saturday\, Dec. 6\, 2025\n\nNo admittance fee — Donations encouraged. \nThe Hanby House is owned by the Ohio History Connection and managed by the Westerville Historical Society. \nOn the National Registry of Historic sites\, the house museum is furnished with items depicting the lifestyle of a family of modest means in the 1850s. Home to William Hanby and his family\, the dwelling is important because of its representation of the social\, moral\, educational\, and artistic fabric of Westerville\, Otterbein University and Ohio. \nRead much more on the Westerville Historical Society website at westervillehistory.org. \n  \n  \n 
URL:https://uptownwestervilleinc.com/event/hanby-house-2025-christmas-open-houses/2025-12-06/
LOCATION:Hanby House\, 160 W. Main St.\, Westerville\, OH\, 43081\, United States
CATEGORIES:Holiday events,Local history
ATTACH;FMTTYPE=image/webp:https://uptownwestervilleinc.com/wp-content/uploads/2024/10/Hanby-xmas-open-house.webp
ORGANIZER;CN="Westerville Historical Society":MAILTO:WHSpres@westervillehistory.org
GEO:40.0807273;-82.813418
X-APPLE-STRUCTURED-LOCATION;VALUE=URI;X-ADDRESS=Hanby House 160 W. Main St. Westerville OH 43081 United States;X-APPLE-RADIUS=500;X-TITLE=160 W. Main St.:geo:-82.813418,40.0807273
END:VEVENT
END:VCALENDAR