BEGIN:VCALENDAR
VERSION:2.0
PRODID:-//Uptown Westerville Inc - ECPv6.15.20//NONSGML v1.0//EN
CALSCALE:GREGORIAN
METHOD:PUBLISH
X-WR-CALNAME:Uptown Westerville Inc
X-ORIGINAL-URL:https://uptownwestervilleinc.com
X-WR-CALDESC:Events for Uptown Westerville Inc
REFRESH-INTERVAL;VALUE=DURATION:PT1H
X-Robots-Tag:noindex
X-PUBLISHED-TTL:PT1H
BEGIN:VTIMEZONE
TZID:America/New_York
BEGIN:DAYLIGHT
TZOFFSETFROM:-0500
TZOFFSETTO:-0400
TZNAME:EDT
DTSTART:20240310T070000
END:DAYLIGHT
BEGIN:STANDARD
TZOFFSETFROM:-0400
TZOFFSETTO:-0500
TZNAME:EST
DTSTART:20241103T060000
END:STANDARD
BEGIN:DAYLIGHT
TZOFFSETFROM:-0500
TZOFFSETTO:-0400
TZNAME:EDT
DTSTART:20250309T070000
END:DAYLIGHT
BEGIN:STANDARD
TZOFFSETFROM:-0400
TZOFFSETTO:-0500
TZNAME:EST
DTSTART:20251102T060000
END:STANDARD
BEGIN:DAYLIGHT
TZOFFSETFROM:-0500
TZOFFSETTO:-0400
TZNAME:EDT
DTSTART:20260308T070000
END:DAYLIGHT
BEGIN:STANDARD
TZOFFSETFROM:-0400
TZOFFSETTO:-0500
TZNAME:EST
DTSTART:20261101T060000
END:STANDARD
END:VTIMEZONE
BEGIN:VEVENT
DTSTART;TZID=America/New_York:20251205T183000
DTEND;TZID=America/New_York:20251205T200000
DTSTAMP:20260420T035223
CREATED:20251106T142116Z
LAST-MODIFIED:20251106T142129Z
UID:990002592-1764959400-1764964800@uptownwestervilleinc.com
SUMMARY:Holiday Parade of Lights and Tree Lighting 2025
DESCRIPTION:Holiday Tree Lighting and Parade of Lights\nBe SURE to make Uptown your destination for the annual Westerville Parade of Lights and Holiday Tree Lighting on the evening of Friday\, Dec. 5. \nThe Parade of Lights procession will begin at 6:30 p.m. from the Home Street parking lot and will travel south on State Street to Walnut Street. \nThe big man in red will light the tree (7 p.m.) with a touch of holiday magic at City Hall\, 21 S. State St.. \nUptown merchants and restaurants will be open for your holiday shopping needs. \nPLEASE NOTE: State Street will close between East Park and West Home Streets from 5:30-9 p.m. \nEnjoy the Lighting in the Westerville City Hall Courtyard at 7 p.m. Hot chocolate and cookies will be offered for attendees. The Parade of Lights will include a procession of City Fire Division\, Electric Department and Service Division vehicles decked out in holiday decorations. \nPart of the Uptown Westerville Inc.’s 2025 Holidays in Uptown celebration.
URL:https://uptownwestervilleinc.com/event/holiday-parade-of-lights-and-tree-lighting-2025/
LOCATION:Westerville City Hall\, 21 S. State St.\, Westerville\, OH\, 43081\, United States
CATEGORIES:Holiday events,State Street News
ATTACH;FMTTYPE=image/webp:https://uptownwestervilleinc.com/wp-content/uploads/2023/11/11-27-23-tree-lighting-2023.webp
GEO:40.1252264;-82.9317573
X-APPLE-STRUCTURED-LOCATION;VALUE=URI;X-ADDRESS=Westerville City Hall 21 S. State St. Westerville OH 43081 United States;X-APPLE-RADIUS=500;X-TITLE=21 S. State St.:geo:-82.9317573,40.1252264
END:VEVENT
END:VCALENDAR