BEGIN:VCALENDAR
VERSION:2.0
PRODID:-//Uptown Westerville Inc - ECPv6.15.20//NONSGML v1.0//EN
CALSCALE:GREGORIAN
METHOD:PUBLISH
X-WR-CALNAME:Uptown Westerville Inc
X-ORIGINAL-URL:https://uptownwestervilleinc.com
X-WR-CALDESC:Events for Uptown Westerville Inc
REFRESH-INTERVAL;VALUE=DURATION:PT1H
X-Robots-Tag:noindex
X-PUBLISHED-TTL:PT1H
BEGIN:VTIMEZONE
TZID:America/New_York
BEGIN:DAYLIGHT
TZOFFSETFROM:-0500
TZOFFSETTO:-0400
TZNAME:EDT
DTSTART:20240310T070000
END:DAYLIGHT
BEGIN:STANDARD
TZOFFSETFROM:-0400
TZOFFSETTO:-0500
TZNAME:EST
DTSTART:20241103T060000
END:STANDARD
BEGIN:DAYLIGHT
TZOFFSETFROM:-0500
TZOFFSETTO:-0400
TZNAME:EDT
DTSTART:20250309T070000
END:DAYLIGHT
BEGIN:STANDARD
TZOFFSETFROM:-0400
TZOFFSETTO:-0500
TZNAME:EST
DTSTART:20251102T060000
END:STANDARD
BEGIN:DAYLIGHT
TZOFFSETFROM:-0500
TZOFFSETTO:-0400
TZNAME:EDT
DTSTART:20260308T070000
END:DAYLIGHT
BEGIN:STANDARD
TZOFFSETFROM:-0400
TZOFFSETTO:-0500
TZNAME:EST
DTSTART:20261101T060000
END:STANDARD
END:VTIMEZONE
BEGIN:VEVENT
DTSTART;TZID=America/New_York:20250523T120000
DTEND;TZID=America/New_York:20250523T235900
DTSTAMP:20260421T001311
CREATED:20250506T140651Z
LAST-MODIFIED:20250506T141246Z
UID:990001582-1748001600-1748044740@uptownwestervilleinc.com
SUMMARY:Westerville Field of Heroes
DESCRIPTION:2025 Field of Heroes\nA Westerville Memorial Day Tradition honoring our heroes and all of America’s Veterans. Featuring a 3\,000+ American Flag display that is open and free to the public 24 hours a day throughout the weekend. This year’s theme of “On Behalf of a Grateful Nation” honors the 50th anniversary of the end of the Vietnam War and will host the Traveling Vietnam Memorial wall\, an 80-percent scale replica of the Vietnam Memorial Wall in Washington\, D.C.
URL:https://uptownwestervilleinc.com/event/westerville-field-of-heroes/2025-05-23/
LOCATION:Westerville Sports Complex\, North Cleveland Avenue\, Westerville\, Ohio\, 43081\, United States
CATEGORIES:Holiday events,In the area
ATTACH;FMTTYPE=image/webp:https://uptownwestervilleinc.com/wp-content/uploads/2025/05/5-25-25-FOH-Flags-scaled-1.webp
GEO:40.133764;-82.9480896
X-APPLE-STRUCTURED-LOCATION;VALUE=URI;X-ADDRESS=Westerville Sports Complex North Cleveland Avenue Westerville Ohio 43081 United States;X-APPLE-RADIUS=500;X-TITLE=North Cleveland Avenue:geo:-82.9480896,40.133764
END:VEVENT
END:VCALENDAR