BEGIN:VCALENDAR
VERSION:2.0
PRODID:-//Uptown Westerville Inc - ECPv6.15.20//NONSGML v1.0//EN
CALSCALE:GREGORIAN
METHOD:PUBLISH
X-ORIGINAL-URL:https://uptownwestervilleinc.com
X-WR-CALDESC:Events for Uptown Westerville Inc
REFRESH-INTERVAL;VALUE=DURATION:PT1H
X-Robots-Tag:noindex
X-PUBLISHED-TTL:PT1H
BEGIN:VTIMEZONE
TZID:America/New_York
BEGIN:DAYLIGHT
TZOFFSETFROM:-0500
TZOFFSETTO:-0400
TZNAME:EDT
DTSTART:20240310T070000
END:DAYLIGHT
BEGIN:STANDARD
TZOFFSETFROM:-0400
TZOFFSETTO:-0500
TZNAME:EST
DTSTART:20241103T060000
END:STANDARD
BEGIN:DAYLIGHT
TZOFFSETFROM:-0500
TZOFFSETTO:-0400
TZNAME:EDT
DTSTART:20250309T070000
END:DAYLIGHT
BEGIN:STANDARD
TZOFFSETFROM:-0400
TZOFFSETTO:-0500
TZNAME:EST
DTSTART:20251102T060000
END:STANDARD
BEGIN:DAYLIGHT
TZOFFSETFROM:-0500
TZOFFSETTO:-0400
TZNAME:EDT
DTSTART:20260308T070000
END:DAYLIGHT
BEGIN:STANDARD
TZOFFSETFROM:-0400
TZOFFSETTO:-0500
TZNAME:EST
DTSTART:20261101T060000
END:STANDARD
END:VTIMEZONE
BEGIN:VEVENT
DTSTART;VALUE=DATE:20250525
DTEND;VALUE=DATE:20250526
DTSTAMP:20260421T001509
CREATED:20250506T141840Z
LAST-MODIFIED:20250507T160014Z
UID:990001586-1748131200-1748217599@uptownwestervilleinc.com
SUMMARY:Westerville Field of Heroes
DESCRIPTION:2025 Field of Heroes\nA Westerville Memorial Day Tradition honoring our heroes and all of America’s Veterans. Featuring a 3\,000+ American Flag display that is open and free to the public 24 hours a day throughout the weekend. This year’s theme of “On Behalf of a Grateful Nation” honors the 50th anniversary of the end of the Vietnam War and will host the Traveling Vietnam Memorial wall\, an 80-percent scale replica of the Vietnam Memorial Wall in Washington\, D.C.
URL:https://uptownwestervilleinc.com/event/westerville-field-of-heroes-3/
LOCATION:Westerville Sports Complex\, North Cleveland Avenue\, Westerville\, Ohio\, 43081\, United States
CATEGORIES:Holiday events,In the area
ATTACH;FMTTYPE=image/webp:https://uptownwestervilleinc.com/wp-content/uploads/2025/05/5-25-25-FOH-Flags-scaled-1.webp
GEO:40.133764;-82.9480896
X-APPLE-STRUCTURED-LOCATION;VALUE=URI;X-ADDRESS=Westerville Sports Complex North Cleveland Avenue Westerville Ohio 43081 United States;X-APPLE-RADIUS=500;X-TITLE=North Cleveland Avenue:geo:-82.9480896,40.133764
END:VEVENT
BEGIN:VEVENT
DTSTART;TZID=America/New_York:20250525T080000
DTEND;TZID=America/New_York:20250525T103000
DTSTAMP:20260421T001509
CREATED:20250507T165116Z
LAST-MODIFIED:20250507T165927Z
UID:990001592-1748160000-1748169000@uptownwestervilleinc.com
SUMMARY:2025 Field of Heroes 5K Run/Walk
DESCRIPTION:Field of Heroes 5K\nSign up for the Field of Heroes 5K Run/Walk for an active and alternative way to honor your heroes in a unique and breathtaking setting. This flat course is on paved recreation paths\, against one of the most memorable backdrops you’ll ever experience. \nThe Field of Heroes has been a Memorial Day weekend tradition in central Ohio for the past 16 years\, providing an opportunity for our community to bring back the significance of the holiday and to honor their personal heroes. Set in a field of 3\,000 full-sized American flags\, visitors are able to dedicate flags to their personal heroes and join other community members in this deeply moving event. This year’s theme will honor Ohio Aviation Heroes\, and will include a Saturday evening concert and other programs throughout the weekend. \nThe Field of Heroes 5K starts near the Veteran’s Memorial at the Westerville Sports Complex (Cleveland Avenue and County Line Rd.)\, follow paths inside city of Westerville Parks\, cuts through Westerville fire station 111\, and then finishes through the full-sized American flags that make up the main Field of Heroes display. Participants receive a race shirt\, custom bib and a beautiful commemorative challenge coin. \nLimited parking will be available at the Westerville Sports Complex and will close at 7:30AM (or earlier if the lot is filled to capacity). Additional parking is available at the Westerville Community Center. Please use the crosswalks when going to the starting line and after you finish the Field of Heroes 5K. Please plan accordingly and allow yourself plenty of time to get parked\, stretched out and to the starting area by 7:50a.m. \nPricing\n\n$35 through May (Price increases after 11:59pm EDT May 24)\n$20 per participant for Active Military/Veteran\n\nRegistration ends at 8:15am EDT May 25 \nPre-Race Packet Pickup\, at Fleet Feet Lewis Center 1270 E Powell Rd Drive\, Lewis Center\, OH 43035\n\n\nFriday\, May 23: 11am-7pm\nSaturday\, May 24: 10am-6pm
URL:https://uptownwestervilleinc.com/event/2025-field-of-heroes-5k-run-walk/
LOCATION:Westerville Sports Complex\, North Cleveland Avenue\, Westerville\, Ohio\, 43081\, United States
CATEGORIES:Health & Wellness,Holiday events,In the area
ATTACH;FMTTYPE=image/webp:https://uptownwestervilleinc.com/wp-content/uploads/2025/05/5-25-25-FOH-5k-Race-Logo.webp
GEO:40.133764;-82.9480896
X-APPLE-STRUCTURED-LOCATION;VALUE=URI;X-ADDRESS=Westerville Sports Complex North Cleveland Avenue Westerville Ohio 43081 United States;X-APPLE-RADIUS=500;X-TITLE=North Cleveland Avenue:geo:-82.9480896,40.133764
END:VEVENT
BEGIN:VEVENT
DTSTART;TZID=America/New_York:20250526T000000
DTEND;TZID=America/New_York:20250526T130000
DTSTAMP:20260421T001509
CREATED:20250506T140651Z
LAST-MODIFIED:20250506T141246Z
UID:990001588-1748217600-1748264400@uptownwestervilleinc.com
SUMMARY:Westerville Field of Heroes
DESCRIPTION:2025 Field of Heroes\nA Westerville Memorial Day Tradition honoring our heroes and all of America’s Veterans. Featuring a 3\,000+ American Flag display that is open and free to the public 24 hours a day throughout the weekend. This year’s theme of “On Behalf of a Grateful Nation” honors the 50th anniversary of the end of the Vietnam War and will host the Traveling Vietnam Memorial wall\, an 80-percent scale replica of the Vietnam Memorial Wall in Washington\, D.C.
URL:https://uptownwestervilleinc.com/event/westerville-field-of-heroes/2025-05-26/
LOCATION:Westerville Sports Complex\, North Cleveland Avenue\, Westerville\, Ohio\, 43081\, United States
CATEGORIES:Holiday events,In the area
ATTACH;FMTTYPE=image/webp:https://uptownwestervilleinc.com/wp-content/uploads/2025/05/5-25-25-FOH-Flags-scaled-1.webp
GEO:40.133764;-82.9480896
X-APPLE-STRUCTURED-LOCATION;VALUE=URI;X-ADDRESS=Westerville Sports Complex North Cleveland Avenue Westerville Ohio 43081 United States;X-APPLE-RADIUS=500;X-TITLE=North Cleveland Avenue:geo:-82.9480896,40.133764
END:VEVENT
END:VCALENDAR