BEGIN:VCALENDAR
VERSION:2.0
PRODID:-//Uptown Westerville Inc - ECPv6.15.20//NONSGML v1.0//EN
CALSCALE:GREGORIAN
METHOD:PUBLISH
X-WR-CALNAME:Uptown Westerville Inc
X-ORIGINAL-URL:https://uptownwestervilleinc.com
X-WR-CALDESC:Events for Uptown Westerville Inc
REFRESH-INTERVAL;VALUE=DURATION:PT1H
X-Robots-Tag:noindex
X-PUBLISHED-TTL:PT1H
BEGIN:VTIMEZONE
TZID:America/New_York
BEGIN:DAYLIGHT
TZOFFSETFROM:-0500
TZOFFSETTO:-0400
TZNAME:EDT
DTSTART:20250309T070000
END:DAYLIGHT
BEGIN:STANDARD
TZOFFSETFROM:-0400
TZOFFSETTO:-0500
TZNAME:EST
DTSTART:20251102T060000
END:STANDARD
BEGIN:DAYLIGHT
TZOFFSETFROM:-0500
TZOFFSETTO:-0400
TZNAME:EDT
DTSTART:20260308T070000
END:DAYLIGHT
BEGIN:STANDARD
TZOFFSETFROM:-0400
TZOFFSETTO:-0500
TZNAME:EST
DTSTART:20261101T060000
END:STANDARD
BEGIN:DAYLIGHT
TZOFFSETFROM:-0500
TZOFFSETTO:-0400
TZNAME:EDT
DTSTART:20270314T070000
END:DAYLIGHT
BEGIN:STANDARD
TZOFFSETFROM:-0400
TZOFFSETTO:-0500
TZNAME:EST
DTSTART:20271107T060000
END:STANDARD
END:VTIMEZONE
BEGIN:VEVENT
DTSTART;TZID=America/New_York:20260418T090000
DTEND;TZID=America/New_York:20260418T110000
DTSTAMP:20260419T121937
CREATED:20260405T232721Z
LAST-MODIFIED:20260405T232721Z
UID:990003088-1776502800-1776510000@uptownwestervilleinc.com
SUMMARY:Breakfast Fundraiser: Restore Our Historical Windows Built in 1932
DESCRIPTION:Join us for Breakfast at Blendon 339 on Saturday\, April 18 from 9:00 AM to 11:00 AM at 130 South State Street\, Westerville\, Ohio 43081. \nThis is not your average fundraiser breakfast! \nOur breakfast will be prepared by Chef Alexis Ramos\, recognized as one of Tampa\, Florida’s Top 40 Under 40 chefs\, bringing professional culinary talent to the table for a morning of great food and community connection. \nEnjoy a hearty continental-style breakfast featuring:\n• Eggs\n• Biscuits & sausage gravy\n• Bacon and sausage\n• Home fries with optional add-ins like peppers\, onions\, and mushrooms\n• English muffins and assorted bagels\n• A rotating assortment of sweet treats\n• Coffee and beverages \nThis event benefits Blendon 339 directly through our historical window restoration funding project happening this summer\, helping preserve an important part of our building’s history for generations to come. \nCome out for an expertly prepared breakfast\, support local preservation\, and help us continue building momentum for future community events at Blendon 339. \nBring your family\, invite your friends\, and join us for a delicious morning in support of a meaningful cause. \nRSVP Link: https://www.facebook.com/share/1ArbReW5C3/
URL:https://uptownwestervilleinc.com/event/breakfast-fundraiser-restore-our-historical-windows-built-in-1932/
LOCATION:Uptown Westerville District\, 21 S. State St.\, Westerville\, OH\, 43081\, United States
CATEGORIES:Fundraisers,In the area
ATTACH;FMTTYPE=image/png:https://uptownwestervilleinc.com/wp-content/uploads/2026/04/breakfastfundraiser2026.png
ORGANIZER;CN="Blendon Lodge #339":MAILTO:blendon339@gmail.com
GEO:40.1252264;-82.9317573
X-APPLE-STRUCTURED-LOCATION;VALUE=URI;X-ADDRESS=Uptown Westerville District 21 S. State St. Westerville OH 43081 United States;X-APPLE-RADIUS=500;X-TITLE=21 S. State St.:geo:-82.9317573,40.1252264
END:VEVENT
END:VCALENDAR