BEGIN:VCALENDAR
VERSION:2.0
PRODID:-//Uptown Westerville Inc - ECPv6.15.20//NONSGML v1.0//EN
CALSCALE:GREGORIAN
METHOD:PUBLISH
X-ORIGINAL-URL:https://uptownwestervilleinc.com
X-WR-CALDESC:Events for Uptown Westerville Inc
REFRESH-INTERVAL;VALUE=DURATION:PT1H
X-Robots-Tag:noindex
X-PUBLISHED-TTL:PT1H
BEGIN:VTIMEZONE
TZID:America/New_York
BEGIN:DAYLIGHT
TZOFFSETFROM:-0500
TZOFFSETTO:-0400
TZNAME:EDT
DTSTART:20240310T070000
END:DAYLIGHT
BEGIN:STANDARD
TZOFFSETFROM:-0400
TZOFFSETTO:-0500
TZNAME:EST
DTSTART:20241103T060000
END:STANDARD
BEGIN:DAYLIGHT
TZOFFSETFROM:-0500
TZOFFSETTO:-0400
TZNAME:EDT
DTSTART:20250309T070000
END:DAYLIGHT
BEGIN:STANDARD
TZOFFSETFROM:-0400
TZOFFSETTO:-0500
TZNAME:EST
DTSTART:20251102T060000
END:STANDARD
BEGIN:DAYLIGHT
TZOFFSETFROM:-0500
TZOFFSETTO:-0400
TZNAME:EDT
DTSTART:20260308T070000
END:DAYLIGHT
BEGIN:STANDARD
TZOFFSETFROM:-0400
TZOFFSETTO:-0500
TZNAME:EST
DTSTART:20261101T060000
END:STANDARD
END:VTIMEZONE
BEGIN:VEVENT
DTSTART;TZID=America/New_York:20251203T180000
DTEND;TZID=America/New_York:20251203T200000
DTSTAMP:20260419T180120
CREATED:20251110T220743Z
LAST-MODIFIED:20251110T220759Z
UID:990002599-1764784800-1764792000@uptownwestervilleinc.com
SUMMARY:Christmas Ornament Workshop
DESCRIPTION:The holiday season can bring both joy and reflection — a time to honor memories\, embrace hope\, and connect with one another. Cornerstone of Hope invites all families to join us for a warm and welcoming evening filled with holiday activities and togetherness. \nDecorate an ornament to take home\, enjoy a cozy hot chocolate bar\, visit the coloring and face-painting stations\, and share in the excitement of a special visit from Santa. \nWhether you come to remember\, to celebrate\, or simply to be surrounded by community\, this evening offers a space of comfort\, joy\, and hope for all. \nThe event is free\, but registration is required. Register here.
URL:https://uptownwestervilleinc.com/event/christmas-ornament-workshop/
LOCATION:Cornerstone of Hope\, 253 N State Street\, Suite 200\, Westerville\, Ohio\, 43081
CATEGORIES:arts workshop,Health & Wellness
ATTACH;FMTTYPE=image/webp:https://uptownwestervilleinc.com/wp-content/uploads/2025/11/12-3-25-Ornament-Workshop.webp
ORGANIZER;CN="Cornerstone of Hope":MAILTO:jcudlin@cornerstoneofhope.org
GEO:40.1327065;-82.9337971
X-APPLE-STRUCTURED-LOCATION;VALUE=URI;X-ADDRESS=Cornerstone of Hope 253 N State Street Suite 200 Westerville Ohio 43081;X-APPLE-RADIUS=500;X-TITLE=253 N State Street\, Suite 200:geo:-82.9337971,40.1327065
END:VEVENT
END:VCALENDAR