BEGIN:VCALENDAR
VERSION:2.0
PRODID:-//Uptown Westerville Inc - ECPv6.15.20//NONSGML v1.0//EN
CALSCALE:GREGORIAN
METHOD:PUBLISH
X-ORIGINAL-URL:https://uptownwestervilleinc.com
X-WR-CALDESC:Events for Uptown Westerville Inc
REFRESH-INTERVAL;VALUE=DURATION:PT1H
X-Robots-Tag:noindex
X-PUBLISHED-TTL:PT1H
BEGIN:VTIMEZONE
TZID:America/New_York
BEGIN:DAYLIGHT
TZOFFSETFROM:-0500
TZOFFSETTO:-0400
TZNAME:EDT
DTSTART:20240310T070000
END:DAYLIGHT
BEGIN:STANDARD
TZOFFSETFROM:-0400
TZOFFSETTO:-0500
TZNAME:EST
DTSTART:20241103T060000
END:STANDARD
BEGIN:DAYLIGHT
TZOFFSETFROM:-0500
TZOFFSETTO:-0400
TZNAME:EDT
DTSTART:20250309T070000
END:DAYLIGHT
BEGIN:STANDARD
TZOFFSETFROM:-0400
TZOFFSETTO:-0500
TZNAME:EST
DTSTART:20251102T060000
END:STANDARD
BEGIN:DAYLIGHT
TZOFFSETFROM:-0500
TZOFFSETTO:-0400
TZNAME:EDT
DTSTART:20260308T070000
END:DAYLIGHT
BEGIN:STANDARD
TZOFFSETFROM:-0400
TZOFFSETTO:-0500
TZNAME:EST
DTSTART:20261101T060000
END:STANDARD
END:VTIMEZONE
BEGIN:VEVENT
DTSTART;TZID=America/New_York:20251012T140000
DTEND;TZID=America/New_York:20251012T160000
DTSTAMP:20260420T022943
CREATED:20250804T134655Z
LAST-MODIFIED:20250804T134701Z
UID:990001953-1760277600-1760284800@uptownwestervilleinc.com
SUMMARY:WSHS Theatre: Les Misérables
DESCRIPTION:Westerville South H.S. Theatre Troupe 513 will present its fall musical production of Les Misérables Oct. 9-12. \nStory: In 19th Century France\, Jean Valjean is released from years of unjust imprisonment\, but finds nothing in store for him but mistrust and mistreatment. He breaks his parole in hopes of starting a new life\, initiating a lifelong struggle for redemption as he is relentlessly pursued by police inspector Javert\, who refuses to believe Valjean can change his ways. Finally\, during the Paris student uprising of 1832\, Javert must confront his ideals after Valjean spares his life and saves that of the student revolutionary who has captured the heart of Valjean’s adopted daughter. \nPerformances will take place at 7 p.m. Thursday through Saturday\, Oct. 9-11\, and at 2 p.m. Sunday\, Oct. 12\, in the Westerville South Auditorium. Tickets are $13 for general admission and $16 for reserved seating. Buy tickets online or at the door: http://bit.ly/WSHStix
URL:https://uptownwestervilleinc.com/event/wshs-theatre-les-miserables-oct-12/
LOCATION:Westerville South High School Theatre\, 303 S. Otterbein Ave\, Westerville\, OH\, 43081
CATEGORIES:In the area,School Events
ATTACH;FMTTYPE=image/webp:https://uptownwestervilleinc.com/wp-content/uploads/2025/08/10-9_12-25-WSHS-Les-Mis.webp
GEO:40.1177811;-82.9231795
X-APPLE-STRUCTURED-LOCATION;VALUE=URI;X-ADDRESS=Westerville South High School Theatre 303 S. Otterbein Ave Westerville OH 43081;X-APPLE-RADIUS=500;X-TITLE=303 S. Otterbein Ave:geo:-82.9231795,40.1177811
END:VEVENT
END:VCALENDAR