BEGIN:VCALENDAR
VERSION:2.0
PRODID:-//Uptown Westerville Inc - ECPv6.15.20//NONSGML v1.0//EN
CALSCALE:GREGORIAN
METHOD:PUBLISH
X-WR-CALNAME:Uptown Westerville Inc
X-ORIGINAL-URL:https://uptownwestervilleinc.com
X-WR-CALDESC:Events for Uptown Westerville Inc
REFRESH-INTERVAL;VALUE=DURATION:PT1H
X-Robots-Tag:noindex
X-PUBLISHED-TTL:PT1H
BEGIN:VTIMEZONE
TZID:America/New_York
BEGIN:DAYLIGHT
TZOFFSETFROM:-0500
TZOFFSETTO:-0400
TZNAME:EDT
DTSTART:20240310T070000
END:DAYLIGHT
BEGIN:STANDARD
TZOFFSETFROM:-0400
TZOFFSETTO:-0500
TZNAME:EST
DTSTART:20241103T060000
END:STANDARD
BEGIN:DAYLIGHT
TZOFFSETFROM:-0500
TZOFFSETTO:-0400
TZNAME:EDT
DTSTART:20250309T070000
END:DAYLIGHT
BEGIN:STANDARD
TZOFFSETFROM:-0400
TZOFFSETTO:-0500
TZNAME:EST
DTSTART:20251102T060000
END:STANDARD
BEGIN:DAYLIGHT
TZOFFSETFROM:-0500
TZOFFSETTO:-0400
TZNAME:EDT
DTSTART:20260308T070000
END:DAYLIGHT
BEGIN:STANDARD
TZOFFSETFROM:-0400
TZOFFSETTO:-0500
TZNAME:EST
DTSTART:20261101T060000
END:STANDARD
END:VTIMEZONE
BEGIN:VEVENT
DTSTART;TZID=America/New_York:20250814T190000
DTEND;TZID=America/New_York:20250814T200000
DTSTAMP:20260420T200613
CREATED:20250625T145218Z
LAST-MODIFIED:20250625T145817Z
UID:990001737-1755198000-1755201600@uptownwestervilleinc.com
SUMMARY:The W Files - Thursday tour
DESCRIPTION:The W Files\nHidden\, quirky\, and surprising stories of Uptown\n\n\n\n\nYou won’t believe what happened here! The W Files (W for Westerville) is a storytelling walking tour that unlocks the hidden\, quirky\, and surprising stories behind the city’s historic district. Tours begin and end at the Westerville Public Library\, 126 S. State St. \n\n\n\n\nThe W Files will be presented Fridays and Saturdays July 11-12 and July 18-19; and Thursday\, Friday and Saturday Aug. 7-9\, Aug. 14-16\, and Aug 28-30. Thursday and Saturday shows only Aug. 21\, 23. \nThe 45-minute tour takes place beginning at 7 p.m. on offered Thursdays and Fridays\, and at 6:30 and 8 p.m. on offered Saturdays. Click the TICKETS button below to choose your dates!
URL:https://uptownwestervilleinc.com/event/the-w-files-thursday-tour/2025-08-14/
LOCATION:Uptown Westerville District\, 21 S. State St.\, Westerville\, OH\, 43081\, United States
CATEGORIES:Local history,Walking Tours
ATTACH;FMTTYPE=image/webp:https://uptownwestervilleinc.com/wp-content/uploads/2025/06/The-W-Files-Logo-800x450-1.webp
ORGANIZER;CN="Uptown Westerville Inc - UWI":MAILTO:dir@uptownwestervilleinc.com
GEO:40.1252264;-82.9317573
X-APPLE-STRUCTURED-LOCATION;VALUE=URI;X-ADDRESS=Uptown Westerville District 21 S. State St. Westerville OH 43081 United States;X-APPLE-RADIUS=500;X-TITLE=21 S. State St.:geo:-82.9317573,40.1252264
END:VEVENT
BEGIN:VEVENT
DTSTART;TZID=America/New_York:20250815T190000
DTEND;TZID=America/New_York:20250815T200000
DTSTAMP:20260420T200614
CREATED:20250625T142641Z
LAST-MODIFIED:20250710T142119Z
UID:990001672-1755284400-1755288000@uptownwestervilleinc.com
SUMMARY:The W Files - Friday tour
DESCRIPTION:The W Files\nHidden\, quirky\, and surprising stories of Uptown\n\n\n\n\nYou won’t believe what happened here! The W Files (W for Westerville) is a storytelling walking tour that unlocks the hidden\, quirky\, and surprising stories behind the city’s historic district. Tours begin and end at the Westerville Public Library\, 126 S. State St. \n\n\n\n\nThe W Files will be presented Fridays and Saturdays July 11-12 and July 18-19; and Thursday\, Friday and Saturday Aug. 7-9\, Aug. 14-16\, and Aug 28-30. Thursday and Saturday shows only Aug. 21\, 23. \nThe 45-minute tour takes place beginning at 7 p.m. on offered Thursdays and Fridays\, and at 6:30 and 8 p.m. on offered Saturdays. Click the TICKETS button below to choose your dates!
URL:https://uptownwestervilleinc.com/event/the-w-files/2025-08-15/
LOCATION:Uptown Westerville District\, 21 S. State St.\, Westerville\, OH\, 43081\, United States
CATEGORIES:Local history,Walking Tours
ATTACH;FMTTYPE=image/webp:https://uptownwestervilleinc.com/wp-content/uploads/2025/06/The-W-Files-Logo-800x450-1.webp
ORGANIZER;CN="Uptown Westerville Inc - UWI":MAILTO:dir@uptownwestervilleinc.com
GEO:40.1252264;-82.9317573
X-APPLE-STRUCTURED-LOCATION;VALUE=URI;X-ADDRESS=Uptown Westerville District 21 S. State St. Westerville OH 43081 United States;X-APPLE-RADIUS=500;X-TITLE=21 S. State St.:geo:-82.9317573,40.1252264
END:VEVENT
BEGIN:VEVENT
DTSTART;TZID=America/New_York:20250816T183000
DTEND;TZID=America/New_York:20250816T193000
DTSTAMP:20260420T200614
CREATED:20250625T153046Z
LAST-MODIFIED:20250625T154227Z
UID:990001756-1755369000-1755372600@uptownwestervilleinc.com
SUMMARY:The W Files - Saturday tours
DESCRIPTION:The W Files\nHidden\, quirky\, and surprising stories of Uptown\n\n\n\n\nYou won’t believe what happened here! The W Files (W for Westerville) is a storytelling walking tour that unlocks the hidden\, quirky\, and surprising stories behind the city’s historic district. Tours begin and end at the Westerville Public Library\, 126 S. State St. \n\n\n\n\nThe W Files will be presented Fridays and Saturdays July 11-12 and July 18-19; and Thursday\, Friday and Saturday Aug. 7-9\, Aug. 14-16\, and Aug 28-30. Thursday and Saturday shows only Aug. 21\, 23. \nThe 45-minute tour takes place beginning at 7 p.m. on offered Thursdays and Fridays\, and at 6:30 and 8 p.m. on offered Saturdays. Click the TICKETS button below to choose your dates!
URL:https://uptownwestervilleinc.com/event/the-w-files-saturday-tours/2025-08-16/1/
LOCATION:Uptown Westerville District\, 21 S. State St.\, Westerville\, OH\, 43081\, United States
CATEGORIES:Local history,Walking Tours
ATTACH;FMTTYPE=image/webp:https://uptownwestervilleinc.com/wp-content/uploads/2025/06/The-W-Files-Logo-800x450-1.webp
ORGANIZER;CN="Uptown Westerville Inc - UWI":MAILTO:dir@uptownwestervilleinc.com
GEO:40.1252264;-82.9317573
X-APPLE-STRUCTURED-LOCATION;VALUE=URI;X-ADDRESS=Uptown Westerville District 21 S. State St. Westerville OH 43081 United States;X-APPLE-RADIUS=500;X-TITLE=21 S. State St.:geo:-82.9317573,40.1252264
END:VEVENT
BEGIN:VEVENT
DTSTART;TZID=America/New_York:20250816T200000
DTEND;TZID=America/New_York:20250816T210000
DTSTAMP:20260420T200614
CREATED:20250625T153046Z
LAST-MODIFIED:20250625T154227Z
UID:990001762-1755374400-1755378000@uptownwestervilleinc.com
SUMMARY:The W Files - Saturday tours
DESCRIPTION:The W Files\nHidden\, quirky\, and surprising stories of Uptown\n\n\n\n\nYou won’t believe what happened here! The W Files (W for Westerville) is a storytelling walking tour that unlocks the hidden\, quirky\, and surprising stories behind the city’s historic district. Tours begin and end at the Westerville Public Library\, 126 S. State St. \n\n\n\n\nThe W Files will be presented Fridays and Saturdays July 11-12 and July 18-19; and Thursday\, Friday and Saturday Aug. 7-9\, Aug. 14-16\, and Aug 28-30. Thursday and Saturday shows only Aug. 21\, 23. \nThe 45-minute tour takes place beginning at 7 p.m. on offered Thursdays and Fridays\, and at 6:30 and 8 p.m. on offered Saturdays. Click the TICKETS button below to choose your dates!
URL:https://uptownwestervilleinc.com/event/the-w-files-saturday-tours/2025-08-16/2/
LOCATION:Uptown Westerville District\, 21 S. State St.\, Westerville\, OH\, 43081\, United States
CATEGORIES:Local history,Walking Tours
ATTACH;FMTTYPE=image/webp:https://uptownwestervilleinc.com/wp-content/uploads/2025/06/The-W-Files-Logo-800x450-1.webp
ORGANIZER;CN="Uptown Westerville Inc - UWI":MAILTO:dir@uptownwestervilleinc.com
GEO:40.1252264;-82.9317573
X-APPLE-STRUCTURED-LOCATION;VALUE=URI;X-ADDRESS=Uptown Westerville District 21 S. State St. Westerville OH 43081 United States;X-APPLE-RADIUS=500;X-TITLE=21 S. State St.:geo:-82.9317573,40.1252264
END:VEVENT
END:VCALENDAR