BEGIN:VCALENDAR
VERSION:2.0
PRODID:-//Uptown Westerville Inc - ECPv6.15.20//NONSGML v1.0//EN
CALSCALE:GREGORIAN
METHOD:PUBLISH
X-WR-CALNAME:Uptown Westerville Inc
X-ORIGINAL-URL:https://uptownwestervilleinc.com
X-WR-CALDESC:Events for Uptown Westerville Inc
REFRESH-INTERVAL;VALUE=DURATION:PT1H
X-Robots-Tag:noindex
X-PUBLISHED-TTL:PT1H
BEGIN:VTIMEZONE
TZID:America/New_York
BEGIN:DAYLIGHT
TZOFFSETFROM:-0500
TZOFFSETTO:-0400
TZNAME:EDT
DTSTART:20240310T070000
END:DAYLIGHT
BEGIN:STANDARD
TZOFFSETFROM:-0400
TZOFFSETTO:-0500
TZNAME:EST
DTSTART:20241103T060000
END:STANDARD
BEGIN:DAYLIGHT
TZOFFSETFROM:-0500
TZOFFSETTO:-0400
TZNAME:EDT
DTSTART:20250309T070000
END:DAYLIGHT
BEGIN:STANDARD
TZOFFSETFROM:-0400
TZOFFSETTO:-0500
TZNAME:EST
DTSTART:20251102T060000
END:STANDARD
BEGIN:DAYLIGHT
TZOFFSETFROM:-0500
TZOFFSETTO:-0400
TZNAME:EDT
DTSTART:20260308T070000
END:DAYLIGHT
BEGIN:STANDARD
TZOFFSETFROM:-0400
TZOFFSETTO:-0500
TZNAME:EST
DTSTART:20261101T060000
END:STANDARD
END:VTIMEZONE
BEGIN:VEVENT
DTSTART;TZID=America/New_York:20250915T140000
DTEND;TZID=America/New_York:20250915T150000
DTSTAMP:20260421T171522
CREATED:20250424T202140Z
LAST-MODIFIED:20250424T202140Z
UID:990001528-1757944800-1757948400@uptownwestervilleinc.com
SUMMARY:Family Swim at Goldfish Swim School
DESCRIPTION:Family Swim at Goldfish Swim SchoolMake a splash with your family! Join us for Family Swim at Goldfish Swim School — FREE for members\, or just $10 per person for non-members (maximum of $30 per family). Enjoy fun in the pool\, rain or shine\, in our 90-degree water. \nOffered every Monday from 2-3 p.m.\, and every Friday from 6:30–8 p.m. \n765 Brooksedge Blvd\, Westerville\, OH 43081Call to RSVP: 614-407-3474 ext. 2
URL:https://uptownwestervilleinc.com/event/family-swim-at-goldfish-swim-school/2025-09-15/
LOCATION:Goldfish Swim School\, 765 Brooksedge Blvd\, Westerville\, 43081\, United States
CATEGORIES:In the area
ATTACH;FMTTYPE=image/webp:https://uptownwestervilleinc.com/wp-content/uploads/2025/04/4-28-25-goldfish.webp
GEO:40.1064446;-82.933036
X-APPLE-STRUCTURED-LOCATION;VALUE=URI;X-ADDRESS=Goldfish Swim School 765 Brooksedge Blvd Westerville 43081 United States;X-APPLE-RADIUS=500;X-TITLE=765 Brooksedge Blvd:geo:-82.933036,40.1064446
END:VEVENT
BEGIN:VEVENT
DTSTART;TZID=America/New_York:20250920T110000
DTEND;TZID=America/New_York:20250920T220000
DTSTAMP:20260421T171522
CREATED:20250911T143049Z
LAST-MODIFIED:20250911T143049Z
UID:990001969-1758366000-1758405600@uptownwestervilleinc.com
SUMMARY:North High's Oktoby-fest
DESCRIPTION:It’s time to celebrate our new Oktoberfest bee\, Toby! It’s time for Ok-Toby-fest at North High Brewing! Join us in the Beer Garden after a morning at the Westerville Farmers Market. This free event will have fun for the whole family. RSVP on Eventbrite and get a free entry to the Grand Prize Raffle! \nWe’ll have food and drink specials and a slew of fun activities. \n11 AM – 2PM – Kidtoberfest\nFree face painting\, kids activities\, and balloon animals from Big Fun. Plus a kids stein-holding contest at noon! All participants will get a free root beer\, with a medal and bragging rights to the winner. \n2:30 PM – 7 PM – Oktoby-festivities!\nTry your hand at the Beer Marionette. We’ll have an Adult Stein-Holding contest with mens and women’s divisions. Winners get to keep their stein and get a $50 gift card. \n3:30PM – 4:30PM – Oktoberfest Bingo\nWinners get a t-shirt and a gift card! \n4:30 – 5:00 PM – German Spelling Bee\nCan you spell LEDERHOSEN? What about SCHADENREUDE? Test your German spelling knowledge – you’ll write down your best guesses and turn them in! Prizes for the winner! \n5:00 PM – 7:00 PM – Oktoberfest Trivia\nMixedologies Trivia presents a fun night of trivia with an Oktoberfest twist! \n 
URL:https://uptownwestervilleinc.com/event/north-highs-oktoby-fest/
LOCATION:North High Brewing Co\, 250 S. State St.\, Westerville\, 43081\, United States
CATEGORIES:Holiday events,In the area
ATTACH;FMTTYPE=image/webp:https://uptownwestervilleinc.com/wp-content/uploads/2025/09/9-20-25-Oktoby-fest-North-High.webp
GEO:40.1191639;-82.9282601
X-APPLE-STRUCTURED-LOCATION;VALUE=URI;X-ADDRESS=North High Brewing Co 250 S. State St. Westerville 43081 United States;X-APPLE-RADIUS=500;X-TITLE=250 S. State St.:geo:-82.9282601,40.1191639
END:VEVENT
END:VCALENDAR