BEGIN:VCALENDAR
VERSION:2.0
PRODID:-//Uptown Westerville Inc - ECPv6.15.20//NONSGML v1.0//EN
CALSCALE:GREGORIAN
METHOD:PUBLISH
X-WR-CALNAME:Uptown Westerville Inc
X-ORIGINAL-URL:https://uptownwestervilleinc.com
X-WR-CALDESC:Events for Uptown Westerville Inc
REFRESH-INTERVAL;VALUE=DURATION:PT1H
X-Robots-Tag:noindex
X-PUBLISHED-TTL:PT1H
BEGIN:VTIMEZONE
TZID:America/New_York
BEGIN:DAYLIGHT
TZOFFSETFROM:-0500
TZOFFSETTO:-0400
TZNAME:EDT
DTSTART:20230312T070000
END:DAYLIGHT
BEGIN:STANDARD
TZOFFSETFROM:-0400
TZOFFSETTO:-0500
TZNAME:EST
DTSTART:20231105T060000
END:STANDARD
BEGIN:DAYLIGHT
TZOFFSETFROM:-0500
TZOFFSETTO:-0400
TZNAME:EDT
DTSTART:20240310T070000
END:DAYLIGHT
BEGIN:STANDARD
TZOFFSETFROM:-0400
TZOFFSETTO:-0500
TZNAME:EST
DTSTART:20241103T060000
END:STANDARD
BEGIN:DAYLIGHT
TZOFFSETFROM:-0500
TZOFFSETTO:-0400
TZNAME:EDT
DTSTART:20250309T070000
END:DAYLIGHT
BEGIN:STANDARD
TZOFFSETFROM:-0400
TZOFFSETTO:-0500
TZNAME:EST
DTSTART:20251102T060000
END:STANDARD
END:VTIMEZONE
BEGIN:VEVENT
DTSTART;TZID=America/New_York:20241205T163000
DTEND;TZID=America/New_York:20241205T193000
DTSTAMP:20260421T193910
CREATED:20241115T144134Z
LAST-MODIFIED:20241115T144142Z
UID:990001070-1733416200-1733427000@uptownwestervilleinc.com
SUMMARY:Treat Yourself Night at Good Vibes Winery
DESCRIPTION:Treat Yourself Night\nDEC. 5 – As we head into the crazy holiday season you need a night to just treat yourself. So come join us at Good Vibes Winery Dec. 5 for some wine and while you’re here\, check out jewelry from Forever Link and we will have Twinkling Tresses Tinsel Hair on site if you want some fun holiday tinsel highlights in your hair. \nAnd who doesn’t? So enjoy a night out. You deserve it! Pre-register for the Tinsel Hair here. ($20-$205)
URL:https://uptownwestervilleinc.com/event/treat-yourself-night-at-good-vibes-winery/
LOCATION:Good Vibes Winery\, 2 S State St\, Westerville\, OH\, 43081
CATEGORIES:Holiday events,State Street News
ATTACH;FMTTYPE=image/webp:https://uptownwestervilleinc.com/wp-content/uploads/2024/11/Good-Vibes-Winery-logo.webp
ORGANIZER;CN="Good Vibes Winery":MAILTO:info@goodvibeswinery.com
GEO:40.1258532;-82.931318
X-APPLE-STRUCTURED-LOCATION;VALUE=URI;X-ADDRESS=Good Vibes Winery 2 S State St Westerville OH 43081;X-APPLE-RADIUS=500;X-TITLE=2 S State St:geo:-82.931318,40.1258532
END:VEVENT
BEGIN:VEVENT
DTSTART;TZID=America/New_York:20241206T190000
DTEND;TZID=America/New_York:20241206T210000
DTSTAMP:20260421T193910
CREATED:20241115T031613Z
LAST-MODIFIED:20241115T043636Z
UID:990001067-1733511600-1733518800@uptownwestervilleinc.com
SUMMARY:Live Music at Good Vibes Winery
DESCRIPTION:Friday night live music: 7-9 p.m.\nDEC. 6 – Ken Schwartz – Ken is a local musician who grew up right here in Westerville.  If you like the Eagles\, James Taylor\, Rascal Flatts and Michael Buble you will enjoy his music…. he has a playlist you will want to sign along with. Come check Ken out this Friday.
URL:https://uptownwestervilleinc.com/event/live-music-at-good-vibes-winery-dec-6/
LOCATION:Good Vibes Winery\, 2 S State St\, Westerville\, OH\, 43081
CATEGORIES:Holiday events,Live Music,State Street News
ATTACH;FMTTYPE=image/webp:https://uptownwestervilleinc.com/wp-content/uploads/2024/11/Ken-Schwartz.webp
ORGANIZER;CN="Good Vibes Winery":MAILTO:info@goodvibeswinery.com
GEO:40.1258532;-82.931318
X-APPLE-STRUCTURED-LOCATION;VALUE=URI;X-ADDRESS=Good Vibes Winery 2 S State St Westerville OH 43081;X-APPLE-RADIUS=500;X-TITLE=2 S State St:geo:-82.931318,40.1258532
END:VEVENT
BEGIN:VEVENT
DTSTART;TZID=America/New_York:20241213T190000
DTEND;TZID=America/New_York:20241213T210000
DTSTAMP:20260421T193910
CREATED:20241115T033345Z
LAST-MODIFIED:20241115T044048Z
UID:990001068-1734116400-1734123600@uptownwestervilleinc.com
SUMMARY:Live Music at Good Vibes Winery
DESCRIPTION:Friday night live music: 7-9 p.m.\nDEC. 13 – Mike Wolfe – Come enjoy Live Music at Good Vibes Winery! Mike Wolfe is from right here in Westerville and has been playing guitar and singing for nearly 4 decades. He plays songs from the ’70s through today and also wrote “Good Vibes Westerville” as a tribute to our Winery.
URL:https://uptownwestervilleinc.com/event/live-music-at-good-vibes-winery-dec-13/
LOCATION:Good Vibes Winery\, 2 S State St\, Westerville\, OH\, 43081
CATEGORIES:Holiday events,Live Music,State Street News
ATTACH;FMTTYPE=image/webp:https://uptownwestervilleinc.com/wp-content/uploads/2024/11/Mike-Wolfe.webp
ORGANIZER;CN="Good Vibes Winery":MAILTO:info@goodvibeswinery.com
GEO:40.1258532;-82.931318
X-APPLE-STRUCTURED-LOCATION;VALUE=URI;X-ADDRESS=Good Vibes Winery 2 S State St Westerville OH 43081;X-APPLE-RADIUS=500;X-TITLE=2 S State St:geo:-82.931318,40.1258532
END:VEVENT
BEGIN:VEVENT
DTSTART;TZID=America/New_York:20241220T190000
DTEND;TZID=America/New_York:20241220T210000
DTSTAMP:20260421T193910
CREATED:20241115T022713Z
LAST-MODIFIED:20241115T044425Z
UID:990001066-1734721200-1734728400@uptownwestervilleinc.com
SUMMARY:Live Music at Good Vibes Winery
DESCRIPTION:Friday night live music: 7-9 p.m.\nDEC. 20 – Annie Hawe – Looking for some fun this Friday night? Drop by Good Vibes Winery to catch the great sounds of singer/songwriter Annie Hawe. This will be a great night to enjoy the holidays … with ice sculptures throughout Uptown and Annie ending her show with Christmas songs to sing along with. Such a fun\, festive night!
URL:https://uptownwestervilleinc.com/event/live-music-at-good-vibes-winery-dec-20/
LOCATION:Good Vibes Winery\, 2 S State St\, Westerville\, OH\, 43081
CATEGORIES:Holiday events,Live Music,State Street News
ATTACH;FMTTYPE=image/webp:https://uptownwestervilleinc.com/wp-content/uploads/2024/11/Annie-Hawe.webp
ORGANIZER;CN="Good Vibes Winery":MAILTO:info@goodvibeswinery.com
GEO:40.1258532;-82.931318
X-APPLE-STRUCTURED-LOCATION;VALUE=URI;X-ADDRESS=Good Vibes Winery 2 S State St Westerville OH 43081;X-APPLE-RADIUS=500;X-TITLE=2 S State St:geo:-82.931318,40.1258532
END:VEVENT
END:VCALENDAR