BEGIN:VCALENDAR
VERSION:2.0
PRODID:-//Uptown Westerville Inc - ECPv6.15.20//NONSGML v1.0//EN
CALSCALE:GREGORIAN
METHOD:PUBLISH
X-ORIGINAL-URL:https://uptownwestervilleinc.com
X-WR-CALDESC:Events for Uptown Westerville Inc
REFRESH-INTERVAL;VALUE=DURATION:PT1H
X-Robots-Tag:noindex
X-PUBLISHED-TTL:PT1H
BEGIN:VTIMEZONE
TZID:America/New_York
BEGIN:DAYLIGHT
TZOFFSETFROM:-0500
TZOFFSETTO:-0400
TZNAME:EDT
DTSTART:20240310T070000
END:DAYLIGHT
BEGIN:STANDARD
TZOFFSETFROM:-0400
TZOFFSETTO:-0500
TZNAME:EST
DTSTART:20241103T060000
END:STANDARD
BEGIN:DAYLIGHT
TZOFFSETFROM:-0500
TZOFFSETTO:-0400
TZNAME:EDT
DTSTART:20250309T070000
END:DAYLIGHT
BEGIN:STANDARD
TZOFFSETFROM:-0400
TZOFFSETTO:-0500
TZNAME:EST
DTSTART:20251102T060000
END:STANDARD
BEGIN:DAYLIGHT
TZOFFSETFROM:-0500
TZOFFSETTO:-0400
TZNAME:EDT
DTSTART:20260308T070000
END:DAYLIGHT
BEGIN:STANDARD
TZOFFSETFROM:-0400
TZOFFSETTO:-0500
TZNAME:EST
DTSTART:20261101T060000
END:STANDARD
END:VTIMEZONE
BEGIN:VEVENT
DTSTART;TZID=America/New_York:20250207T190000
DTEND;TZID=America/New_York:20250207T210000
DTSTAMP:20260421T061956
CREATED:20250124T153615Z
LAST-MODIFIED:20250124T153845Z
UID:990001099-1738954800-1738962000@uptownwestervilleinc.com
SUMMARY:Live music at Good Vibes Winery Feb 7
DESCRIPTION:Friday night live music: 7-9 p.m.\nCome enjoy Live Music from Jamie Ravine at Good Vibes Feb 7! We are excited to have Jamie back playing at Good Vibes.  Jamie is local singer/songwriter with an active presence on the cental Ohio music scene. You will definitely not want to miss this.
URL:https://uptownwestervilleinc.com/event/live-music-at-good-vibes-winery-feb-7/
LOCATION:Good Vibes Winery\, 2 S State St\, Westerville\, OH\, 43081
CATEGORIES:Live Music,State Street News
ATTACH;FMTTYPE=image/webp:https://uptownwestervilleinc.com/wp-content/uploads/2024/11/Jamie-Ravine.webp
ORGANIZER;CN="Good Vibes Winery":MAILTO:info@goodvibeswinery.com
GEO:40.1258532;-82.931318
X-APPLE-STRUCTURED-LOCATION;VALUE=URI;X-ADDRESS=Good Vibes Winery 2 S State St Westerville OH 43081;X-APPLE-RADIUS=500;X-TITLE=2 S State St:geo:-82.931318,40.1258532
END:VEVENT
BEGIN:VEVENT
DTSTART;TZID=America/New_York:20250214T190000
DTEND;TZID=America/New_York:20250214T210000
DTSTAMP:20260421T061957
CREATED:20250124T154335Z
LAST-MODIFIED:20250214T155635Z
UID:990001100-1739559600-1739566800@uptownwestervilleinc.com
SUMMARY:Live music at Good Vibes Winery Feb 14
DESCRIPTION:Friday night live music: 7-9 p.m.\nCome enjoy Live Music from Mike Wolfe at Good Vibes Feb 14 for Valentine’s Day! \nMike is from right here in Westerville and has been playing guitar and singing for nearly 4 decades. He plays songs from the 70’s through today and also wrote “Good Vibes Westerville” as a tribute to our Winery. Think of Margaritaville but with lyrics about Uptown\, and of course Good Vibes Winery. \nAlways a fun night with Mike in the house!
URL:https://uptownwestervilleinc.com/event/live-music-at-good-vibes-winery-feb-14/
LOCATION:Good Vibes Winery\, 2 S State St\, Westerville\, OH\, 43081
CATEGORIES:Live Music,State Street News
ATTACH;FMTTYPE=image/webp:https://uptownwestervilleinc.com/wp-content/uploads/2024/11/Mike-Wolfe.webp
ORGANIZER;CN="Good Vibes Winery":MAILTO:info@goodvibeswinery.com
GEO:40.1258532;-82.931318
X-APPLE-STRUCTURED-LOCATION;VALUE=URI;X-ADDRESS=Good Vibes Winery 2 S State St Westerville OH 43081;X-APPLE-RADIUS=500;X-TITLE=2 S State St:geo:-82.931318,40.1258532
END:VEVENT
BEGIN:VEVENT
DTSTART;TZID=America/New_York:20250218T183000
DTEND;TZID=America/New_York:20250218T203000
DTSTAMP:20260421T061957
CREATED:20250214T161846Z
LAST-MODIFIED:20250214T171406Z
UID:990001111-1739903400-1739910600@uptownwestervilleinc.com
SUMMARY:Sip & Sketch at Good Vibes Feb 18
DESCRIPTION:6:30-8:30 p.m.\nSign up for Sip & Sketch. Cost is only $40 per person which includes all supplies AND 2 glasses of wine. Register here.  This month: Love Birds … perfect for February!
URL:https://uptownwestervilleinc.com/event/sip-sketch-at-good-vibes-feb-18/
LOCATION:Good Vibes Winery\, 2 S State St\, Westerville\, OH\, 43081
CATEGORIES:arts workshop,State Street News
ATTACH;FMTTYPE=image/webp:https://uptownwestervilleinc.com/wp-content/uploads/2025/02/2-18-25-sip-and-sketch.webp
ORGANIZER;CN="Good Vibes Winery":MAILTO:info@goodvibeswinery.com
GEO:40.1258532;-82.931318
X-APPLE-STRUCTURED-LOCATION;VALUE=URI;X-ADDRESS=Good Vibes Winery 2 S State St Westerville OH 43081;X-APPLE-RADIUS=500;X-TITLE=2 S State St:geo:-82.931318,40.1258532
END:VEVENT
BEGIN:VEVENT
DTSTART;TZID=America/New_York:20250221T190000
DTEND;TZID=America/New_York:20250221T210000
DTSTAMP:20260421T061957
CREATED:20250124T155043Z
LAST-MODIFIED:20250124T155051Z
UID:990001101-1740164400-1740171600@uptownwestervilleinc.com
SUMMARY:Live music at Good Vibes Winery Feb 21
DESCRIPTION:Friday night live music: 7-9 p.m.\nCome enjoy Live Music from Annie Hawe at Good Vibes Feb 21! \nLooking for some Friday night fun? \nCome out and enjoy the great sounds of singer/songwriter Annie Hawe.  Always Good Vibes when Annie is on the house.
URL:https://uptownwestervilleinc.com/event/live-music-at-good-vibes-winery-feb-21/
LOCATION:Good Vibes Winery\, 2 S State St\, Westerville\, OH\, 43081
CATEGORIES:Live Music,State Street News
ATTACH;FMTTYPE=image/webp:https://uptownwestervilleinc.com/wp-content/uploads/2024/11/Annie-Hawe.webp
ORGANIZER;CN="Good Vibes Winery":MAILTO:info@goodvibeswinery.com
GEO:40.1258532;-82.931318
X-APPLE-STRUCTURED-LOCATION;VALUE=URI;X-ADDRESS=Good Vibes Winery 2 S State St Westerville OH 43081;X-APPLE-RADIUS=500;X-TITLE=2 S State St:geo:-82.931318,40.1258532
END:VEVENT
BEGIN:VEVENT
DTSTART;TZID=America/New_York:20250226T183000
DTEND;TZID=America/New_York:20250226T203000
DTSTAMP:20260421T061957
CREATED:20250214T173601Z
LAST-MODIFIED:20250214T173611Z
UID:990001115-1740594600-1740601800@uptownwestervilleinc.com
SUMMARY:Sip & Sketch at North High Feb 26 - Paint Your Partner
DESCRIPTION:Sip & Sketch – Paint Your Partner\n\nAre you ready for a wholesome and hilarious night out? Grab a partner – your mate\, sister\, bestie or whoever! – and join us for a lighthearted\, low-pressure evening of portrait painting\, on Wednesday\, Feb. 26 at North High Brewery. $40 ticket includes instruction\, all materials\, and two adult beverages. No experience necessary. Register here.
URL:https://uptownwestervilleinc.com/event/sip-sketch-at-north-high-feb-26-paint-your-partner/
LOCATION:North High Brewing Co\, 250 S. State St.\, Westerville\, 43081\, United States
CATEGORIES:arts workshop,State Street News
ATTACH;FMTTYPE=image/webp:https://uptownwestervilleinc.com/wp-content/uploads/2025/02/2-26-sip-sketch-good-vibes-darlin.webp
ORGANIZER;CN="Arts Council of Westerville":MAILTO:artscouncilwesterville@gmail.com
GEO:40.1191639;-82.9282601
X-APPLE-STRUCTURED-LOCATION;VALUE=URI;X-ADDRESS=North High Brewing Co 250 S. State St. Westerville 43081 United States;X-APPLE-RADIUS=500;X-TITLE=250 S. State St.:geo:-82.9282601,40.1191639
END:VEVENT
BEGIN:VEVENT
DTSTART;TZID=America/New_York:20250228T190000
DTEND;TZID=America/New_York:20250228T210000
DTSTAMP:20260421T061957
CREATED:20250124T155506Z
LAST-MODIFIED:20250124T160012Z
UID:990001102-1740769200-1740776400@uptownwestervilleinc.com
SUMMARY:Live music at Good Vibes Winery Feb 28
DESCRIPTION:Friday night live music: 7-9 p.m.\nCome enjoy Live Music from Rick Reed at Good Vibes Feb 28! \nRick is from right here in central Ohio and plays a mix of original music and covers from the 70’s until now. He has a great playlist that is fun to sing along with…..you might even catch the servers behind the bar singing along to a Taylor Swift song!  We look forward to him back playing at Good Vibes.
URL:https://uptownwestervilleinc.com/event/live-music-at-good-vibes-winery-feb-28/
LOCATION:Good Vibes Winery\, 2 S State St\, Westerville\, OH\, 43081
CATEGORIES:Live Music,State Street News
ATTACH;FMTTYPE=image/webp:https://uptownwestervilleinc.com/wp-content/uploads/2025/01/2-28-25-Rick-Reed-good-vibes.webp
ORGANIZER;CN="Good Vibes Winery":MAILTO:info@goodvibeswinery.com
GEO:40.1258532;-82.931318
X-APPLE-STRUCTURED-LOCATION;VALUE=URI;X-ADDRESS=Good Vibes Winery 2 S State St Westerville OH 43081;X-APPLE-RADIUS=500;X-TITLE=2 S State St:geo:-82.931318,40.1258532
END:VEVENT
END:VCALENDAR