BEGIN:VCALENDAR
VERSION:2.0
PRODID:-//Uptown Westerville Inc - ECPv6.15.20//NONSGML v1.0//EN
CALSCALE:GREGORIAN
METHOD:PUBLISH
X-WR-CALNAME:Uptown Westerville Inc
X-ORIGINAL-URL:https://uptownwestervilleinc.com
X-WR-CALDESC:Events for Uptown Westerville Inc
REFRESH-INTERVAL;VALUE=DURATION:PT1H
X-Robots-Tag:noindex
X-PUBLISHED-TTL:PT1H
BEGIN:VTIMEZONE
TZID:America/New_York
BEGIN:DAYLIGHT
TZOFFSETFROM:-0500
TZOFFSETTO:-0400
TZNAME:EDT
DTSTART:20240310T070000
END:DAYLIGHT
BEGIN:STANDARD
TZOFFSETFROM:-0400
TZOFFSETTO:-0500
TZNAME:EST
DTSTART:20241103T060000
END:STANDARD
BEGIN:DAYLIGHT
TZOFFSETFROM:-0500
TZOFFSETTO:-0400
TZNAME:EDT
DTSTART:20250309T070000
END:DAYLIGHT
BEGIN:STANDARD
TZOFFSETFROM:-0400
TZOFFSETTO:-0500
TZNAME:EST
DTSTART:20251102T060000
END:STANDARD
BEGIN:DAYLIGHT
TZOFFSETFROM:-0500
TZOFFSETTO:-0400
TZNAME:EDT
DTSTART:20260308T070000
END:DAYLIGHT
BEGIN:STANDARD
TZOFFSETFROM:-0400
TZOFFSETTO:-0500
TZNAME:EST
DTSTART:20261101T060000
END:STANDARD
END:VTIMEZONE
BEGIN:VEVENT
DTSTART;TZID=America/New_York:20250301T120000
DTEND;TZID=America/New_York:20250301T170000
DTSTAMP:20260420T222534
CREATED:20250131T135034Z
LAST-MODIFIED:20250204T023832Z
UID:990001107-1740830400-1740848400@uptownwestervilleinc.com
SUMMARY:2025 Uptown Cookie Walk
DESCRIPTION:2025 Cookie Walk: Chocolate Invasion Edition\nEmbark on a delightful journey through the heart of Westerville’s historic district during the annual Uptown Cookie Walk: Chocolate Invasion Edition! Explore 20 unique shops and businesses\, each offering a gourmet cookie or an Anthony Thomas Chocolate treat to make your visit even sweeter. 2025 Cookie Walk attendees will also be given an Uptown Cookie walk shopping bag to hold their treats! Our 2025 Cookie Walk is set for noon-4 p.m. on Saturday\, March 1\, and ticket sales are now open!
URL:https://uptownwestervilleinc.com/event/2025-uptown-cookie-walk/
LOCATION:Uptown Westerville District\, 21 S. State St.\, Westerville\, OH\, 43081\, United States
CATEGORIES:State Street News,Walking Tours
ATTACH;FMTTYPE=image/webp:https://uptownwestervilleinc.com/wp-content/uploads/2024/01/2024-Uptown-Cookie-Walk-blog-size-800x500-1.webp
ORGANIZER;CN="Uptown Westerville Inc - UWI":MAILTO:dir@uptownwestervilleinc.com
GEO:40.1252264;-82.9317573
X-APPLE-STRUCTURED-LOCATION;VALUE=URI;X-ADDRESS=Uptown Westerville District 21 S. State St. Westerville OH 43081 United States;X-APPLE-RADIUS=500;X-TITLE=21 S. State St.:geo:-82.9317573,40.1252264
END:VEVENT
BEGIN:VEVENT
DTSTART;TZID=America/New_York:20250307T190000
DTEND;TZID=America/New_York:20250307T210000
DTSTAMP:20260420T222534
CREATED:20250307T003547Z
LAST-MODIFIED:20250307T003835Z
UID:990001173-1741374000-1741381200@uptownwestervilleinc.com
SUMMARY:Live Music at Good Vibes Winery March 7
DESCRIPTION:Friday night live music: 7-9 p.m.\nMarch 7 – Mike Raymond – Looking for some Friday night fun? Drop by Good Vibes Winery to catch the great sounds of Mike Raymond. Mike is local and plays with the band Step Back 3. He plays cover songs that you will know and want to sing along with from Oldies\, Classic Rock\, ’80s and Country.  Come check him out. … It will be a fun night!
URL:https://uptownwestervilleinc.com/event/live-music-at-good-vibes-winery-march-7/
LOCATION:Good Vibes Winery\, 2 S State St\, Westerville\, OH\, 43081
CATEGORIES:Live Music,State Street News
ATTACH;FMTTYPE=image/webp:https://uptownwestervilleinc.com/wp-content/uploads/2025/03/3-7-25-Mike-Raymond-Step-Back-3.webp
ORGANIZER;CN="Good Vibes Winery":MAILTO:info@goodvibeswinery.com
GEO:40.1258532;-82.931318
X-APPLE-STRUCTURED-LOCATION;VALUE=URI;X-ADDRESS=Good Vibes Winery 2 S State St Westerville OH 43081;X-APPLE-RADIUS=500;X-TITLE=2 S State St:geo:-82.931318,40.1258532
END:VEVENT
BEGIN:VEVENT
DTSTART;TZID=America/New_York:20250313T180000
DTEND;TZID=America/New_York:20250313T193000
DTSTAMP:20260420T222534
CREATED:20250307T013146Z
LAST-MODIFIED:20250307T013146Z
UID:990001174-1741888800-1741894200@uptownwestervilleinc.com
SUMMARY:Good Vibes Book Club March 13
DESCRIPTION:Book Club: 6-7:30 p.m.\n\nTime to read a good book! This month\, the Good Vibes Winery Book Club will be reading: “Just for the Summer” by Abby Jimenez.  Come ready to chat\, have fun and drink some wine. No need to register\, just read the book and show up.  The book club is led by our own Jess Colecchi.
URL:https://uptownwestervilleinc.com/event/good-vibes-book-club-march-13/
LOCATION:Good Vibes Winery\, 2 S State St\, Westerville\, OH\, 43081
CATEGORIES:State Street News
ATTACH;FMTTYPE=image/webp:https://uptownwestervilleinc.com/wp-content/uploads/2025/03/3-13-25-good-vibes-book-club.webp
ORGANIZER;CN="Good Vibes Winery":MAILTO:info@goodvibeswinery.com
GEO:40.1258532;-82.931318
X-APPLE-STRUCTURED-LOCATION;VALUE=URI;X-ADDRESS=Good Vibes Winery 2 S State St Westerville OH 43081;X-APPLE-RADIUS=500;X-TITLE=2 S State St:geo:-82.931318,40.1258532
END:VEVENT
BEGIN:VEVENT
DTSTART;TZID=America/New_York:20250314T190000
DTEND;TZID=America/New_York:20250314T210000
DTSTAMP:20260420T222534
CREATED:20250307T001351Z
LAST-MODIFIED:20250307T001402Z
UID:990001171-1741978800-1741986000@uptownwestervilleinc.com
SUMMARY:Live Music at Good Vibes Winery March 14
DESCRIPTION:Friday night live music: 7-9 p.m.\nMarch 14 – Annie Hawe – Looking for some Friday night fun? Drop by Good Vibes Winery to catch the great sounds of singer/songwriter Annie Hawe. Always Good Vibes when Annie is in the house.
URL:https://uptownwestervilleinc.com/event/live-music-at-good-vibes-winery-march-14/
LOCATION:Good Vibes Winery\, 2 S State St\, Westerville\, OH\, 43081
CATEGORIES:Live Music,State Street News
ATTACH;FMTTYPE=image/webp:https://uptownwestervilleinc.com/wp-content/uploads/2024/11/Annie-Hawe.webp
ORGANIZER;CN="Good Vibes Winery":MAILTO:info@goodvibeswinery.com
GEO:40.1258532;-82.931318
X-APPLE-STRUCTURED-LOCATION;VALUE=URI;X-ADDRESS=Good Vibes Winery 2 S State St Westerville OH 43081;X-APPLE-RADIUS=500;X-TITLE=2 S State St:geo:-82.931318,40.1258532
END:VEVENT
BEGIN:VEVENT
DTSTART;TZID=America/New_York:20250318T183000
DTEND;TZID=America/New_York:20250318T203000
DTSTAMP:20260420T222534
CREATED:20250214T165305Z
LAST-MODIFIED:20250214T165555Z
UID:990001112-1742322600-1742329800@uptownwestervilleinc.com
SUMMARY:Sip & Sketch at Good Vibes March 18
DESCRIPTION:6:30-8:30 p.m.\nJoin a fun and mindful evening at Good Vibes as you create your own unique mandala masterpiece. Class includes all the materials\, instruction and two glasses of wine! Cost: $40 Register Here. March theme: Mandalas. Instructor: Kathy Rausch.
URL:https://uptownwestervilleinc.com/event/sip-sketch-at-good-vibes-march-18/
LOCATION:Good Vibes Winery\, 2 S State St\, Westerville\, OH\, 43081
CATEGORIES:arts workshop,State Street News
ATTACH;FMTTYPE=image/webp:https://uptownwestervilleinc.com/wp-content/uploads/2025/02/3-18-25-sip-sketch-good-vibes-Rausch.webp
ORGANIZER;CN="Good Vibes Winery":MAILTO:info@goodvibeswinery.com
GEO:40.1258532;-82.931318
X-APPLE-STRUCTURED-LOCATION;VALUE=URI;X-ADDRESS=Good Vibes Winery 2 S State St Westerville OH 43081;X-APPLE-RADIUS=500;X-TITLE=2 S State St:geo:-82.931318,40.1258532
END:VEVENT
BEGIN:VEVENT
DTSTART;TZID=America/New_York:20250321T190000
DTEND;TZID=America/New_York:20250321T210000
DTSTAMP:20260420T222534
CREATED:20250306T234119Z
LAST-MODIFIED:20250306T234119Z
UID:990001170-1742583600-1742590800@uptownwestervilleinc.com
SUMMARY:Live music at Good Vibes Winery March 21
DESCRIPTION:Friday night live music: 7-9 p.m.\nCome enjoy Live Music from Ken Schwartz at Good Vibes March 21! \nKen is a local musician who grew up right here in Westerville.  If you like the Eagles\, James Taylor\, Rascal Flatts and Michael Buble you will enjoy his music…. he has a playlist you will want to sign along with. Come check Ken out this Friday.
URL:https://uptownwestervilleinc.com/event/live-music-at-good-vibes-winery-march-21/
LOCATION:Good Vibes Winery\, 2 S State St\, Westerville\, OH\, 43081
CATEGORIES:Live Music,State Street News
ATTACH;FMTTYPE=image/webp:https://uptownwestervilleinc.com/wp-content/uploads/2025/03/3-14-25-ken-schwartz.webp
ORGANIZER;CN="Good Vibes Winery":MAILTO:info@goodvibeswinery.com
GEO:40.1258532;-82.931318
X-APPLE-STRUCTURED-LOCATION;VALUE=URI;X-ADDRESS=Good Vibes Winery 2 S State St Westerville OH 43081;X-APPLE-RADIUS=500;X-TITLE=2 S State St:geo:-82.931318,40.1258532
END:VEVENT
BEGIN:VEVENT
DTSTART;TZID=America/New_York:20250326T183000
DTEND;TZID=America/New_York:20250326T203000
DTSTAMP:20260420T222534
CREATED:20250214T170850Z
LAST-MODIFIED:20250214T170859Z
UID:990001113-1743013800-1743021000@uptownwestervilleinc.com
SUMMARY:Sip & Sketch at North High - Vibrant Succulents
DESCRIPTION:Sip & Sketch – Succulents\n\nMarch Sip & Sketch at North High Brewery\, 250 S. State St.\, in a class organized by the Arts Council of Westerville. Capture the delicate beauty of succulents with vibrant watercolor techniques. Class includes all materials\, instruction and two adult beverages. Cost: $40. Instructor: Jan Fedorenko. Register here.
URL:https://uptownwestervilleinc.com/event/sip-sketch-at-north-high-vibrant-succulents/
LOCATION:North High Brewing Co\, 250 S. State St.\, Westerville\, 43081\, United States
CATEGORIES:arts workshop,State Street News
ATTACH;FMTTYPE=image/webp:https://uptownwestervilleinc.com/wp-content/uploads/2025/02/3-26-sip-sketch-north-high.webp
ORGANIZER;CN="Arts Council of Westerville":MAILTO:artscouncilwesterville@gmail.com
GEO:40.1191639;-82.9282601
X-APPLE-STRUCTURED-LOCATION;VALUE=URI;X-ADDRESS=North High Brewing Co 250 S. State St. Westerville 43081 United States;X-APPLE-RADIUS=500;X-TITLE=250 S. State St.:geo:-82.9282601,40.1191639
END:VEVENT
BEGIN:VEVENT
DTSTART;TZID=America/New_York:20250328T190000
DTEND;TZID=America/New_York:20250328T210000
DTSTAMP:20260420T222534
CREATED:20250307T001825Z
LAST-MODIFIED:20250307T004155Z
UID:990001172-1743188400-1743195600@uptownwestervilleinc.com
SUMMARY:Live music at Good Vibes Winery March 28
DESCRIPTION:Friday night live music: 7-9 p.m.\nCome enjoy Live Music from Mike Wolfe at Good Vibes March 28!  Mike is from right here in Westerville and has been playing guitar and singing for nearly four decades. He plays songs from the ’70s through today and also wrote “Good Vibes Westerville” as a tribute to our Winery
URL:https://uptownwestervilleinc.com/event/live-music-at-good-vibes-winery-march-28/
LOCATION:Good Vibes Winery\, 2 S State St\, Westerville\, OH\, 43081
CATEGORIES:Live Music,State Street News
ATTACH;FMTTYPE=image/webp:https://uptownwestervilleinc.com/wp-content/uploads/2024/11/Mike-Wolfe.webp
ORGANIZER;CN="Good Vibes Winery":MAILTO:info@goodvibeswinery.com
GEO:40.1258532;-82.931318
X-APPLE-STRUCTURED-LOCATION;VALUE=URI;X-ADDRESS=Good Vibes Winery 2 S State St Westerville OH 43081;X-APPLE-RADIUS=500;X-TITLE=2 S State St:geo:-82.931318,40.1258532
END:VEVENT
END:VCALENDAR