BEGIN:VCALENDAR
VERSION:2.0
PRODID:-//Uptown Westerville Inc - ECPv6.15.20//NONSGML v1.0//EN
CALSCALE:GREGORIAN
METHOD:PUBLISH
X-WR-CALNAME:Uptown Westerville Inc
X-ORIGINAL-URL:https://uptownwestervilleinc.com
X-WR-CALDESC:Events for Uptown Westerville Inc
REFRESH-INTERVAL;VALUE=DURATION:PT1H
X-Robots-Tag:noindex
X-PUBLISHED-TTL:PT1H
BEGIN:VTIMEZONE
TZID:America/New_York
BEGIN:DAYLIGHT
TZOFFSETFROM:-0500
TZOFFSETTO:-0400
TZNAME:EDT
DTSTART:20240310T070000
END:DAYLIGHT
BEGIN:STANDARD
TZOFFSETFROM:-0400
TZOFFSETTO:-0500
TZNAME:EST
DTSTART:20241103T060000
END:STANDARD
BEGIN:DAYLIGHT
TZOFFSETFROM:-0500
TZOFFSETTO:-0400
TZNAME:EDT
DTSTART:20250309T070000
END:DAYLIGHT
BEGIN:STANDARD
TZOFFSETFROM:-0400
TZOFFSETTO:-0500
TZNAME:EST
DTSTART:20251102T060000
END:STANDARD
BEGIN:DAYLIGHT
TZOFFSETFROM:-0500
TZOFFSETTO:-0400
TZNAME:EDT
DTSTART:20260308T070000
END:DAYLIGHT
BEGIN:STANDARD
TZOFFSETFROM:-0400
TZOFFSETTO:-0500
TZNAME:EST
DTSTART:20261101T060000
END:STANDARD
END:VTIMEZONE
BEGIN:VEVENT
DTSTART;TZID=America/New_York:20250410T180000
DTEND;TZID=America/New_York:20250410T193000
DTSTAMP:20260420T203636
CREATED:20250409T030204Z
LAST-MODIFIED:20250409T030210Z
UID:990001224-1744308000-1744313400@uptownwestervilleinc.com
SUMMARY:Good Vibes Book Club April 10
DESCRIPTION:Book Club: 6-7:30 p.m.\n\nSpring is here. … Let’s read a good book! This month we will be reading: “Anxious People” by Fredrik Backman. \nCome ready to chat\, have fun and drink some wine. No need to register\, just read the book and show up. The book club is led by our own Jess Colecchi.
URL:https://uptownwestervilleinc.com/event/good-vibes-book-club-april-10/
LOCATION:Good Vibes Winery\, 2 S State St\, Westerville\, OH\, 43081
CATEGORIES:State Street News
ATTACH;FMTTYPE=image/webp:https://uptownwestervilleinc.com/wp-content/uploads/2025/03/3-13-25-good-vibes-book-club.webp
ORGANIZER;CN="Good Vibes Winery":MAILTO:info@goodvibeswinery.com
GEO:40.1258532;-82.931318
X-APPLE-STRUCTURED-LOCATION;VALUE=URI;X-ADDRESS=Good Vibes Winery 2 S State St Westerville OH 43081;X-APPLE-RADIUS=500;X-TITLE=2 S State St:geo:-82.931318,40.1258532
END:VEVENT
BEGIN:VEVENT
DTSTART;TZID=America/New_York:20250411T190000
DTEND;TZID=America/New_York:20250411T210000
DTSTAMP:20260420T203636
CREATED:20250409T025353Z
LAST-MODIFIED:20250409T034628Z
UID:990001223-1744398000-1744405200@uptownwestervilleinc.com
SUMMARY:Live music at Good Vibes Winery April 11
DESCRIPTION:Mike Wolfe live 7-9 p.m.\nCome enjoy Live Music from Mike Wolfe at Good Vibes April 11!  Mike is from right here in Westerville and has been playing guitar and singing for nearly four decades. He plays songs from the ’70s through today and also wrote “Good Vibes Westerville” as a tribute to our Winery. Think of Margaritaville but with lyrics about Uptown\, and of course Good Vibes Winery.  Always a fun night with Mike in the house!
URL:https://uptownwestervilleinc.com/event/live-music-at-good-vibes-winery-april-11/
LOCATION:Good Vibes Winery\, 2 S State St\, Westerville\, OH\, 43081
CATEGORIES:Live Music,State Street News
ATTACH;FMTTYPE=image/webp:https://uptownwestervilleinc.com/wp-content/uploads/2024/11/Mike-Wolfe.webp
ORGANIZER;CN="Good Vibes Winery":MAILTO:info@goodvibeswinery.com
GEO:40.1258532;-82.931318
X-APPLE-STRUCTURED-LOCATION;VALUE=URI;X-ADDRESS=Good Vibes Winery 2 S State St Westerville OH 43081;X-APPLE-RADIUS=500;X-TITLE=2 S State St:geo:-82.931318,40.1258532
END:VEVENT
BEGIN:VEVENT
DTSTART;TZID=America/New_York:20250415T183000
DTEND;TZID=America/New_York:20250415T203000
DTSTAMP:20260420T203636
CREATED:20250409T031922Z
LAST-MODIFIED:20250409T032033Z
UID:990001225-1744741800-1744749000@uptownwestervilleinc.com
SUMMARY:Sip & Sketch at Good Vibes April 15
DESCRIPTION:6:30-8:30 p.m.\nFeeling Artistic … or just want to come and have fun and drink some wine? Sign up for Sip & Sketch. Cost is only $40 per person which includes all supplies AND 2 glasses of wine. Register at artscouncilofwesterville.com.  Go to Classes\, then Adult Classes and then scroll down to the class you want.  This month — \nInstructor: Erica Darlin \nTheme: Folk Art Animals \nDescription: Learn to depict animals through a stylized lens\, emphasizing patterns\, bold lines\, and bright\, contrasting colors typical of Folk Art traditions. You will have access to a variety of color palettes\, stencils\, and paint pens to help bring your artistic vision to life and add unique details to your animal designs. No experience required. Tickets include all materials\, instruction and two glasses of wine!
URL:https://uptownwestervilleinc.com/event/sip-sketch-at-good-vibes-april-15/
LOCATION:Good Vibes Winery\, 2 S State St\, Westerville\, OH\, 43081
CATEGORIES:arts workshop,State Street News
ATTACH;FMTTYPE=image/webp:https://uptownwestervilleinc.com/wp-content/uploads/2025/04/4-15-25-FolkArtAnimals-at-Good-Vibes.webp
ORGANIZER;CN="Good Vibes Winery":MAILTO:info@goodvibeswinery.com
GEO:40.1258532;-82.931318
X-APPLE-STRUCTURED-LOCATION;VALUE=URI;X-ADDRESS=Good Vibes Winery 2 S State St Westerville OH 43081;X-APPLE-RADIUS=500;X-TITLE=2 S State St:geo:-82.931318,40.1258532
END:VEVENT
BEGIN:VEVENT
DTSTART;TZID=America/New_York:20250417T173000
DTEND;TZID=America/New_York:20250417T193000
DTSTAMP:20260420T203636
CREATED:20250409T135142Z
LAST-MODIFIED:20250409T135946Z
UID:990001229-1744911000-1744918200@uptownwestervilleinc.com
SUMMARY:Tarot reading at Good Vibes Winery April 17
DESCRIPTION:Inspo Studio Tarot card reading\, 5:30-7:30 p.m.\nApril 17 –  We had Inspo Studio in during our Galentine Event in February and they were so popular we are bringing them back!!  So grab your pals and stop in Good Vibes Winery for a free mini Tarot Card reading. What a great way to step into spring!
URL:https://uptownwestervilleinc.com/event/tarot-reading-at-good-vibes-winery-april-17/
LOCATION:Good Vibes Winery\, 2 S State St\, Westerville\, OH\, 43081
CATEGORIES:Live Music,State Street News
ATTACH;FMTTYPE=image/webp:https://uptownwestervilleinc.com/wp-content/uploads/2025/04/4-17-25-Inspo-tarot-at-Good-Vibes.webp
ORGANIZER;CN="Good Vibes Winery":MAILTO:info@goodvibeswinery.com
GEO:40.1258532;-82.931318
X-APPLE-STRUCTURED-LOCATION;VALUE=URI;X-ADDRESS=Good Vibes Winery 2 S State St Westerville OH 43081;X-APPLE-RADIUS=500;X-TITLE=2 S State St:geo:-82.931318,40.1258532
END:VEVENT
BEGIN:VEVENT
DTSTART;TZID=America/New_York:20250418T183000
DTEND;TZID=America/New_York:20250418T203000
DTSTAMP:20260420T203636
CREATED:20250409T034811Z
LAST-MODIFIED:20250409T135509Z
UID:990001227-1745001000-1745008200@uptownwestervilleinc.com
SUMMARY:Live Music at Good Vibes Winery April 18
DESCRIPTION:Annie Hawe live 6:30-8:30 p.m.\nApril 18 – Annie Hawe – Looking for some Friday night fun? Drop by Good Vibes Winery to catch the great sounds of singer/songwriter Annie Hawe. Always Good Vibes when Annie is in the house.
URL:https://uptownwestervilleinc.com/event/live-music-at-good-vibes-winery-april-18/
LOCATION:Good Vibes Winery\, 2 S State St\, Westerville\, OH\, 43081
CATEGORIES:Live Music,State Street News
ATTACH;FMTTYPE=image/webp:https://uptownwestervilleinc.com/wp-content/uploads/2024/11/Annie-Hawe.webp
ORGANIZER;CN="Good Vibes Winery":MAILTO:info@goodvibeswinery.com
GEO:40.1258532;-82.931318
X-APPLE-STRUCTURED-LOCATION;VALUE=URI;X-ADDRESS=Good Vibes Winery 2 S State St Westerville OH 43081;X-APPLE-RADIUS=500;X-TITLE=2 S State St:geo:-82.931318,40.1258532
END:VEVENT
BEGIN:VEVENT
DTSTART;TZID=America/New_York:20250425T183000
DTEND;TZID=America/New_York:20250425T203000
DTSTAMP:20260420T203636
CREATED:20250422T154834Z
LAST-MODIFIED:20250422T154844Z
UID:990001242-1745605800-1745613000@uptownwestervilleinc.com
SUMMARY:Live Music at Good Vibes Winery April 25
DESCRIPTION:Mike Raymond live 6:30-8:30 p.m.\nApril 25 – Mike Raymond – Mike is local and plays with the band Step Back 3. He plays cover songs that you will know and want to sing along with from Oldies\, Classic Rock\, 80’s and Country.  Drop by Good Vibes Winery to catch the great sounds. … It will be a fun night!
URL:https://uptownwestervilleinc.com/event/live-music-at-good-vibes-winery-april-25/
LOCATION:Good Vibes Winery\, 2 S State St\, Westerville\, OH\, 43081
CATEGORIES:Live Music,State Street News
ATTACH;FMTTYPE=image/webp:https://uptownwestervilleinc.com/wp-content/uploads/2025/03/3-7-25-Mike-Raymond-Step-Back-3.webp
ORGANIZER;CN="Good Vibes Winery":MAILTO:info@goodvibeswinery.com
GEO:40.1258532;-82.931318
X-APPLE-STRUCTURED-LOCATION;VALUE=URI;X-ADDRESS=Good Vibes Winery 2 S State St Westerville OH 43081;X-APPLE-RADIUS=500;X-TITLE=2 S State St:geo:-82.931318,40.1258532
END:VEVENT
BEGIN:VEVENT
DTSTART;TZID=America/New_York:20250426T120000
DTEND;TZID=America/New_York:20250426T160000
DTSTAMP:20260420T203636
CREATED:20250204T031559Z
LAST-MODIFIED:20250423T124847Z
UID:990001109-1745668800-1745683200@uptownwestervilleinc.com
SUMMARY:Westerville Art Hop 2025
DESCRIPTION:Enjoy a celebration of multiple art modalities across Uptown during the 2025 Westerville Art Hop! Areas to explore:\n\nAuthors and Illustrators\nFine Art\nGalleries\nSinger-songwriters at multiple locations\nStudent Art in Stores\nPerformance Art\nSidewalk Chalk Art\nand … the Kid’s Art Hop 2025 at Rotary Park\, with crafts and music!
URL:https://uptownwestervilleinc.com/event/westerville-art-hop-2025/
LOCATION:Uptown Westerville District\, 21 S. State St.\, Westerville\, OH\, 43081\, United States
CATEGORIES:Art event,arts workshop
ATTACH;FMTTYPE=image/jpeg:https://uptownwestervilleinc.com/wp-content/uploads/2025/02/Art-Hop-Logo-for-CALENDAR.jpg
ORGANIZER;CN="Uptown Westerville Inc - UWI":MAILTO:dir@uptownwestervilleinc.com
GEO:40.1252264;-82.9317573
X-APPLE-STRUCTURED-LOCATION;VALUE=URI;X-ADDRESS=Uptown Westerville District 21 S. State St. Westerville OH 43081 United States;X-APPLE-RADIUS=500;X-TITLE=21 S. State St.:geo:-82.9317573,40.1252264
END:VEVENT
BEGIN:VEVENT
DTSTART;TZID=America/New_York:20250430T183000
DTEND;TZID=America/New_York:20250430T203000
DTSTAMP:20260420T203636
CREATED:20250409T033827Z
LAST-MODIFIED:20250409T033834Z
UID:990001226-1746037800-1746045000@uptownwestervilleinc.com
SUMMARY:Sip & Sketch - Blooming Lotus at North High
DESCRIPTION:April Sip & Sketch at North High Brewing\n\nTheme: Blooming Lotus \nInstructor: Jan Fedorenko \nDescription: Learn various techniques to capture the delicate petals\, vibrant colors and serene essence of the blooming lotus. Acrylic on canvas. Ticket includes instruction\, all materials\, and two adult beverages. No experience necessary. \nRegister here.
URL:https://uptownwestervilleinc.com/event/sip-sketch-blooming-lotus-at-north-high/
LOCATION:North High Brewing Co\, 250 S. State St.\, Westerville\, 43081\, United States
CATEGORIES:arts workshop,State Street News
ATTACH;FMTTYPE=image/webp:https://uptownwestervilleinc.com/wp-content/uploads/2025/04/4-30-25-sip-sketch-n-high.webp
ORGANIZER;CN="Arts Council of Westerville":MAILTO:artscouncilwesterville@gmail.com
GEO:40.1191639;-82.9282601
X-APPLE-STRUCTURED-LOCATION;VALUE=URI;X-ADDRESS=North High Brewing Co 250 S. State St. Westerville 43081 United States;X-APPLE-RADIUS=500;X-TITLE=250 S. State St.:geo:-82.9282601,40.1191639
END:VEVENT
END:VCALENDAR