BEGIN:VCALENDAR
VERSION:2.0
PRODID:-//Uptown Westerville Inc - ECPv6.15.20//NONSGML v1.0//EN
CALSCALE:GREGORIAN
METHOD:PUBLISH
X-WR-CALNAME:Uptown Westerville Inc
X-ORIGINAL-URL:https://uptownwestervilleinc.com
X-WR-CALDESC:Events for Uptown Westerville Inc
REFRESH-INTERVAL;VALUE=DURATION:PT1H
X-Robots-Tag:noindex
X-PUBLISHED-TTL:PT1H
BEGIN:VTIMEZONE
TZID:America/New_York
BEGIN:DAYLIGHT
TZOFFSETFROM:-0500
TZOFFSETTO:-0400
TZNAME:EDT
DTSTART:20240310T070000
END:DAYLIGHT
BEGIN:STANDARD
TZOFFSETFROM:-0400
TZOFFSETTO:-0500
TZNAME:EST
DTSTART:20241103T060000
END:STANDARD
BEGIN:DAYLIGHT
TZOFFSETFROM:-0500
TZOFFSETTO:-0400
TZNAME:EDT
DTSTART:20250309T070000
END:DAYLIGHT
BEGIN:STANDARD
TZOFFSETFROM:-0400
TZOFFSETTO:-0500
TZNAME:EST
DTSTART:20251102T060000
END:STANDARD
BEGIN:DAYLIGHT
TZOFFSETFROM:-0500
TZOFFSETTO:-0400
TZNAME:EDT
DTSTART:20260308T070000
END:DAYLIGHT
BEGIN:STANDARD
TZOFFSETFROM:-0400
TZOFFSETTO:-0500
TZNAME:EST
DTSTART:20261101T060000
END:STANDARD
END:VTIMEZONE
BEGIN:VEVENT
DTSTART;TZID=America/New_York:20250502T190000
DTEND;TZID=America/New_York:20250502T210000
DTSTAMP:20260420T171935
CREATED:20250422T164322Z
LAST-MODIFIED:20250422T164329Z
UID:990001243-1746212400-1746219600@uptownwestervilleinc.com
SUMMARY:Live music at Good Vibes Winery May 2
DESCRIPTION:Friday night live music: 7-9 p.m.\nCome enjoy Live Music from J & J Recall at Good Vibes May 2! \nA local group from right here in Westerville\, Ohio.  They play the Beatles\, Fleetwood Mac\, Van Morrison and more. It will be a great time\, you don’t want to miss it!
URL:https://uptownwestervilleinc.com/event/live-music-at-good-vibes-winery-may-2/
LOCATION:Good Vibes Winery\, 2 S State St\, Westerville\, OH\, 43081
CATEGORIES:Live Music,State Street News
ATTACH;FMTTYPE=image/webp:https://uptownwestervilleinc.com/wp-content/uploads/2025/01/2-8-25-J-and-J-Recall.webp
ORGANIZER;CN="Good Vibes Winery":MAILTO:info@goodvibeswinery.com
GEO:40.1258532;-82.931318
X-APPLE-STRUCTURED-LOCATION;VALUE=URI;X-ADDRESS=Good Vibes Winery 2 S State St Westerville OH 43081;X-APPLE-RADIUS=500;X-TITLE=2 S State St:geo:-82.931318,40.1258532
END:VEVENT
BEGIN:VEVENT
DTSTART;TZID=America/New_York:20250509T190000
DTEND;TZID=America/New_York:20250509T210000
DTSTAMP:20260420T171935
CREATED:20250422T164719Z
LAST-MODIFIED:20250422T164850Z
UID:990001244-1746817200-1746824400@uptownwestervilleinc.com
SUMMARY:Live music at Good Vibes Winery May 9
DESCRIPTION:Friday night live music: 7-9 p.m.\nCome enjoy Live Music from Ken Schwartz at Good Vibes May 9! \nKen is a local musician who grew up right here in Westerville.  If you like the Eagles\, James Taylor\, Rascal Flatts and Michael Buble you will enjoy his music…. he has a playlist you will want to sign along with. Come check Ken out this Friday.
URL:https://uptownwestervilleinc.com/event/live-music-at-good-vibes-winery-may-9/
LOCATION:Good Vibes Winery\, 2 S State St\, Westerville\, OH\, 43081
CATEGORIES:Live Music,State Street News
ATTACH;FMTTYPE=image/webp:https://uptownwestervilleinc.com/wp-content/uploads/2025/03/3-14-25-ken-schwartz.webp
ORGANIZER;CN="Good Vibes Winery":MAILTO:info@goodvibeswinery.com
GEO:40.1258532;-82.931318
X-APPLE-STRUCTURED-LOCATION;VALUE=URI;X-ADDRESS=Good Vibes Winery 2 S State St Westerville OH 43081;X-APPLE-RADIUS=500;X-TITLE=2 S State St:geo:-82.931318,40.1258532
END:VEVENT
BEGIN:VEVENT
DTSTART;TZID=America/New_York:20250516T190000
DTEND;TZID=America/New_York:20250516T210000
DTSTAMP:20260420T171935
CREATED:20250422T165339Z
LAST-MODIFIED:20250422T165346Z
UID:990001245-1747422000-1747429200@uptownwestervilleinc.com
SUMMARY:Live Music at Good Vibes Winery May 16
DESCRIPTION:Friday night live music: 7-9 p.m.\nMay 16 – Annie Hawe – Looking for some Friday night fun? Drop by Good Vibes Winery to catch the great sounds of singer/songwriter Annie Hawe. Always Good Vibes when Annie is in the house.
URL:https://uptownwestervilleinc.com/event/live-music-at-good-vibes-winery-may-16/
LOCATION:Good Vibes Winery\, 2 S State St\, Westerville\, OH\, 43081
CATEGORIES:Live Music,State Street News
ATTACH;FMTTYPE=image/webp:https://uptownwestervilleinc.com/wp-content/uploads/2024/11/Annie-Hawe.webp
ORGANIZER;CN="Good Vibes Winery":MAILTO:info@goodvibeswinery.com
GEO:40.1258532;-82.931318
X-APPLE-STRUCTURED-LOCATION;VALUE=URI;X-ADDRESS=Good Vibes Winery 2 S State St Westerville OH 43081;X-APPLE-RADIUS=500;X-TITLE=2 S State St:geo:-82.931318,40.1258532
END:VEVENT
BEGIN:VEVENT
DTSTART;TZID=America/New_York:20250524T190000
DTEND;TZID=America/New_York:20250524T213000
DTSTAMP:20260420T171935
CREATED:20241024T140639Z
LAST-MODIFIED:20250421T232752Z
UID:990000977-1748113200-1748122200@uptownwestervilleinc.com
SUMMARY:Saturday Night Live at JC May 24
DESCRIPTION:Saturday night live music: 7-9:30p.m.\n\n\n\n\nMAY 24 – COLIN JOHN live at Java Central. Colin is a virtuoso guitarist and international touring and recording musician – who we all know him at JC for his awesome Blues gigs with LONG TALL DEB. But he is from Hawaii and is a renowned Hawaiian steel guitarist who recently performed at the Kona Steel Guitar Festival on the Big Island. Ethereal\, yes\, but he can really shred on it! Colin will play and discuss the Hawaiian Steel Guitar and its influence on music around the world.
URL:https://uptownwestervilleinc.com/event/saturday-night-live-at-jc-nov-16/
LOCATION:Java Central\, 20 S. State St. #B\, Westerville\, OH\, 43081\, United States
CATEGORIES:Java Central
ATTACH;FMTTYPE=image/webp:https://uptownwestervilleinc.com/wp-content/uploads/2024/10/5-24-25-Colin-John.webp
ORGANIZER;CN="Java Central":MAILTO:andy@javacentral.coffee
GEO:40.12542;-82.93129
X-APPLE-STRUCTURED-LOCATION;VALUE=URI;X-ADDRESS=Java Central 20 S. State St. #B Westerville OH 43081 United States;X-APPLE-RADIUS=500;X-TITLE=20 S. State St. #B:geo:-82.93129,40.12542
END:VEVENT
BEGIN:VEVENT
DTSTART;TZID=America/New_York:20250530T190000
DTEND;TZID=America/New_York:20250530T210000
DTSTAMP:20260420T171935
CREATED:20250422T165707Z
LAST-MODIFIED:20250422T165714Z
UID:990001246-1748631600-1748638800@uptownwestervilleinc.com
SUMMARY:Live music at Good Vibes Winery May 30
DESCRIPTION:Mike Wolfe live 7-9 p.m.\nCome enjoy Live Music from Mike Wolfe at Good Vibes May 30!  Mike is from right here in Westerville and has been playing guitar and singing for nearly four decades. He plays songs from the ’70s through today and also wrote “Good Vibes Westerville” as a tribute to our Winery. Think of Margaritaville but with lyrics about Uptown\, and of course Good Vibes Winery.  Always a fun night with Mike in the house!
URL:https://uptownwestervilleinc.com/event/live-music-at-good-vibes-winery-may-30/
LOCATION:Good Vibes Winery\, 2 S State St\, Westerville\, OH\, 43081
CATEGORIES:Live Music,State Street News
ATTACH;FMTTYPE=image/webp:https://uptownwestervilleinc.com/wp-content/uploads/2024/11/Mike-Wolfe.webp
ORGANIZER;CN="Good Vibes Winery":MAILTO:info@goodvibeswinery.com
GEO:40.1258532;-82.931318
X-APPLE-STRUCTURED-LOCATION;VALUE=URI;X-ADDRESS=Good Vibes Winery 2 S State St Westerville OH 43081;X-APPLE-RADIUS=500;X-TITLE=2 S State St:geo:-82.931318,40.1258532
END:VEVENT
END:VCALENDAR