BEGIN:VCALENDAR
VERSION:2.0
PRODID:-//Uptown Westerville Inc - ECPv6.15.20//NONSGML v1.0//EN
CALSCALE:GREGORIAN
METHOD:PUBLISH
X-WR-CALNAME:Uptown Westerville Inc
X-ORIGINAL-URL:https://uptownwestervilleinc.com
X-WR-CALDESC:Events for Uptown Westerville Inc
REFRESH-INTERVAL;VALUE=DURATION:PT1H
X-Robots-Tag:noindex
X-PUBLISHED-TTL:PT1H
BEGIN:VTIMEZONE
TZID:America/New_York
BEGIN:DAYLIGHT
TZOFFSETFROM:-0500
TZOFFSETTO:-0400
TZNAME:EDT
DTSTART:20240310T070000
END:DAYLIGHT
BEGIN:STANDARD
TZOFFSETFROM:-0400
TZOFFSETTO:-0500
TZNAME:EST
DTSTART:20241103T060000
END:STANDARD
BEGIN:DAYLIGHT
TZOFFSETFROM:-0500
TZOFFSETTO:-0400
TZNAME:EDT
DTSTART:20250309T070000
END:DAYLIGHT
BEGIN:STANDARD
TZOFFSETFROM:-0400
TZOFFSETTO:-0500
TZNAME:EST
DTSTART:20251102T060000
END:STANDARD
BEGIN:DAYLIGHT
TZOFFSETFROM:-0500
TZOFFSETTO:-0400
TZNAME:EDT
DTSTART:20260308T070000
END:DAYLIGHT
BEGIN:STANDARD
TZOFFSETFROM:-0400
TZOFFSETTO:-0500
TZNAME:EST
DTSTART:20261101T060000
END:STANDARD
END:VTIMEZONE
BEGIN:VEVENT
DTSTART;TZID=America/New_York:20250110T190000
DTEND;TZID=America/New_York:20250110T210000
DTSTAMP:20260421T194537
CREATED:20250102T153402Z
LAST-MODIFIED:20250102T153412Z
UID:990001077-1736535600-1736542800@uptownwestervilleinc.com
SUMMARY:Live Music at Good Vibes Winery Jan 10
DESCRIPTION:Friday night live music: 7-9 p.m.\nJAN. 10 – Faye Williams – New to Good Vibes\, Faye is an indie rock artist based out of Columbus. Faye embraces the influences of Nirvana\, Halsy and Eddie Vedder. We look forward to having her play at Good Vibes.
URL:https://uptownwestervilleinc.com/event/live-music-at-good-vibes-winery-jan-10/
LOCATION:Good Vibes Winery\, 2 S State St\, Westerville\, OH\, 43081
CATEGORIES:Live Music,State Street News
ATTACH;FMTTYPE=image/webp:https://uptownwestervilleinc.com/wp-content/uploads/2025/01/1-10-24-Faye-Williams_GVW.webp
ORGANIZER;CN="Good Vibes Winery":MAILTO:info@goodvibeswinery.com
GEO:40.1258532;-82.931318
X-APPLE-STRUCTURED-LOCATION;VALUE=URI;X-ADDRESS=Good Vibes Winery 2 S State St Westerville OH 43081;X-APPLE-RADIUS=500;X-TITLE=2 S State St:geo:-82.931318,40.1258532
END:VEVENT
END:VCALENDAR