BEGIN:VCALENDAR
VERSION:2.0
PRODID:-//Uptown Westerville Inc - ECPv6.15.20//NONSGML v1.0//EN
CALSCALE:GREGORIAN
METHOD:PUBLISH
X-ORIGINAL-URL:https://uptownwestervilleinc.com
X-WR-CALDESC:Events for Uptown Westerville Inc
REFRESH-INTERVAL;VALUE=DURATION:PT1H
X-Robots-Tag:noindex
X-PUBLISHED-TTL:PT1H
BEGIN:VTIMEZONE
TZID:America/New_York
BEGIN:DAYLIGHT
TZOFFSETFROM:-0500
TZOFFSETTO:-0400
TZNAME:EDT
DTSTART:20240310T070000
END:DAYLIGHT
BEGIN:STANDARD
TZOFFSETFROM:-0400
TZOFFSETTO:-0500
TZNAME:EST
DTSTART:20241103T060000
END:STANDARD
BEGIN:DAYLIGHT
TZOFFSETFROM:-0500
TZOFFSETTO:-0400
TZNAME:EDT
DTSTART:20250309T070000
END:DAYLIGHT
BEGIN:STANDARD
TZOFFSETFROM:-0400
TZOFFSETTO:-0500
TZNAME:EST
DTSTART:20251102T060000
END:STANDARD
BEGIN:DAYLIGHT
TZOFFSETFROM:-0500
TZOFFSETTO:-0400
TZNAME:EDT
DTSTART:20260308T070000
END:DAYLIGHT
BEGIN:STANDARD
TZOFFSETFROM:-0400
TZOFFSETTO:-0500
TZNAME:EST
DTSTART:20261101T060000
END:STANDARD
END:VTIMEZONE
BEGIN:VEVENT
DTSTART;TZID=America/New_York:20250301T120000
DTEND;TZID=America/New_York:20250301T170000
DTSTAMP:20260421T050940
CREATED:20250131T135034Z
LAST-MODIFIED:20250204T023832Z
UID:990001107-1740830400-1740848400@uptownwestervilleinc.com
SUMMARY:2025 Uptown Cookie Walk
DESCRIPTION:2025 Cookie Walk: Chocolate Invasion Edition\nEmbark on a delightful journey through the heart of Westerville’s historic district during the annual Uptown Cookie Walk: Chocolate Invasion Edition! Explore 20 unique shops and businesses\, each offering a gourmet cookie or an Anthony Thomas Chocolate treat to make your visit even sweeter. 2025 Cookie Walk attendees will also be given an Uptown Cookie walk shopping bag to hold their treats! Our 2025 Cookie Walk is set for noon-4 p.m. on Saturday\, March 1\, and ticket sales are now open!
URL:https://uptownwestervilleinc.com/event/2025-uptown-cookie-walk/
LOCATION:Uptown Westerville District\, 21 S. State St.\, Westerville\, OH\, 43081\, United States
CATEGORIES:State Street News,Walking Tours
ATTACH;FMTTYPE=image/webp:https://uptownwestervilleinc.com/wp-content/uploads/2024/01/2024-Uptown-Cookie-Walk-blog-size-800x500-1.webp
ORGANIZER;CN="Uptown Westerville Inc - UWI":MAILTO:dir@uptownwestervilleinc.com
GEO:40.1252264;-82.9317573
X-APPLE-STRUCTURED-LOCATION;VALUE=URI;X-ADDRESS=Uptown Westerville District 21 S. State St. Westerville OH 43081 United States;X-APPLE-RADIUS=500;X-TITLE=21 S. State St.:geo:-82.9317573,40.1252264
END:VEVENT
END:VCALENDAR