BEGIN:VCALENDAR
VERSION:2.0
PRODID:-//Uptown Westerville Inc - ECPv6.15.20//NONSGML v1.0//EN
CALSCALE:GREGORIAN
METHOD:PUBLISH
X-ORIGINAL-URL:https://uptownwestervilleinc.com
X-WR-CALDESC:Events for Uptown Westerville Inc
REFRESH-INTERVAL;VALUE=DURATION:PT1H
X-Robots-Tag:noindex
X-PUBLISHED-TTL:PT1H
BEGIN:VTIMEZONE
TZID:America/New_York
BEGIN:DAYLIGHT
TZOFFSETFROM:-0500
TZOFFSETTO:-0400
TZNAME:EDT
DTSTART:20240310T070000
END:DAYLIGHT
BEGIN:STANDARD
TZOFFSETFROM:-0400
TZOFFSETTO:-0500
TZNAME:EST
DTSTART:20241103T060000
END:STANDARD
BEGIN:DAYLIGHT
TZOFFSETFROM:-0500
TZOFFSETTO:-0400
TZNAME:EDT
DTSTART:20250309T070000
END:DAYLIGHT
BEGIN:STANDARD
TZOFFSETFROM:-0400
TZOFFSETTO:-0500
TZNAME:EST
DTSTART:20251102T060000
END:STANDARD
BEGIN:DAYLIGHT
TZOFFSETFROM:-0500
TZOFFSETTO:-0400
TZNAME:EDT
DTSTART:20260308T070000
END:DAYLIGHT
BEGIN:STANDARD
TZOFFSETFROM:-0400
TZOFFSETTO:-0500
TZNAME:EST
DTSTART:20261101T060000
END:STANDARD
END:VTIMEZONE
BEGIN:VEVENT
DTSTART;TZID=America/New_York:20250524T190000
DTEND;TZID=America/New_York:20250524T213000
DTSTAMP:20260420T191000
CREATED:20241024T140639Z
LAST-MODIFIED:20250421T232752Z
UID:990000977-1748113200-1748122200@uptownwestervilleinc.com
SUMMARY:Saturday Night Live at JC May 24
DESCRIPTION:Saturday night live music: 7-9:30p.m.\n\n\n\n\nMAY 24 – COLIN JOHN live at Java Central. Colin is a virtuoso guitarist and international touring and recording musician – who we all know him at JC for his awesome Blues gigs with LONG TALL DEB. But he is from Hawaii and is a renowned Hawaiian steel guitarist who recently performed at the Kona Steel Guitar Festival on the Big Island. Ethereal\, yes\, but he can really shred on it! Colin will play and discuss the Hawaiian Steel Guitar and its influence on music around the world.
URL:https://uptownwestervilleinc.com/event/saturday-night-live-at-jc-nov-16/
LOCATION:Java Central\, 20 S. State St. #B\, Westerville\, OH\, 43081\, United States
CATEGORIES:Java Central
ATTACH;FMTTYPE=image/webp:https://uptownwestervilleinc.com/wp-content/uploads/2024/10/5-24-25-Colin-John.webp
ORGANIZER;CN="Java Central":MAILTO:andy@javacentral.coffee
GEO:40.12542;-82.93129
X-APPLE-STRUCTURED-LOCATION;VALUE=URI;X-ADDRESS=Java Central 20 S. State St. #B Westerville OH 43081 United States;X-APPLE-RADIUS=500;X-TITLE=20 S. State St. #B:geo:-82.93129,40.12542
END:VEVENT
END:VCALENDAR