BEGIN:VCALENDAR
VERSION:2.0
PRODID:-//Uptown Westerville Inc - ECPv6.15.20//NONSGML v1.0//EN
CALSCALE:GREGORIAN
METHOD:PUBLISH
X-WR-CALNAME:Uptown Westerville Inc
X-ORIGINAL-URL:https://uptownwestervilleinc.com
X-WR-CALDESC:Events for Uptown Westerville Inc
REFRESH-INTERVAL;VALUE=DURATION:PT1H
X-Robots-Tag:noindex
X-PUBLISHED-TTL:PT1H
BEGIN:VTIMEZONE
TZID:America/New_York
BEGIN:DAYLIGHT
TZOFFSETFROM:-0500
TZOFFSETTO:-0400
TZNAME:EDT
DTSTART:20250309T070000
END:DAYLIGHT
BEGIN:STANDARD
TZOFFSETFROM:-0400
TZOFFSETTO:-0500
TZNAME:EST
DTSTART:20251102T060000
END:STANDARD
BEGIN:DAYLIGHT
TZOFFSETFROM:-0500
TZOFFSETTO:-0400
TZNAME:EDT
DTSTART:20260308T070000
END:DAYLIGHT
BEGIN:STANDARD
TZOFFSETFROM:-0400
TZOFFSETTO:-0500
TZNAME:EST
DTSTART:20261101T060000
END:STANDARD
BEGIN:DAYLIGHT
TZOFFSETFROM:-0500
TZOFFSETTO:-0400
TZNAME:EDT
DTSTART:20270314T070000
END:DAYLIGHT
BEGIN:STANDARD
TZOFFSETFROM:-0400
TZOFFSETTO:-0500
TZNAME:EST
DTSTART:20271107T060000
END:STANDARD
END:VTIMEZONE
BEGIN:VEVENT
DTSTART;TZID=America/New_York:20260523T120000
DTEND;TZID=America/New_York:20260524T220000
DTSTAMP:20260421T082349
CREATED:20260128T150325Z
LAST-MODIFIED:20260128T150325Z
UID:990002700-1779537600-1779660000@uptownwestervilleinc.com
SUMMARY:2026 OHIO BLACK EXPO Riverfront Culture Fest
DESCRIPTION:OHIO BLACK EXPO Riverfront Culture Fest / Columbus\, OH / Genoa Park / May 23-24\, 2026 / ohioblackexpo.com / The Food. The Music. The Vibe. “There’s no other place to be Memorial Day Weekend” concerts • vendors • food trucks • parade • family zone • networking and more. #BlackExpollence  \nWhat is “BlackExpollence”? If you know… you KNOW! ohioblackexpo.com Every year\, folks from all over the country touch down in CBUS for the OHIO BLACK EXPO Riverfront Culture Fest!  The Food. The Music. The Vibe. There’s no other place to be Memorial Day Weekend! Plan ahead for a weekend getaway\, reunion\, staycation\, baecation\, or just a good time with friends.
URL:https://uptownwestervilleinc.com/event/2026-ohio-black-expo-riverfront-culture-fest/
LOCATION:Genoa Park\, 303 W Broad St\, Columbus\, 43215
CATEGORIES:Art event,Health & Wellness,Holiday events,Live Music
ATTACH;FMTTYPE=image/webp:https://uptownwestervilleinc.com/wp-content/uploads/2026/01/2026-OHIO-BLACK-EXPO-Riverfront-Culture-Fest-in-CBUS800x450.webp
ORGANIZER;CN="Ohio Black Expo":MAILTO:connect@ohioblackexpo.com
GEO:39.9602803;-83.0056594
X-APPLE-STRUCTURED-LOCATION;VALUE=URI;X-ADDRESS=Genoa Park 303 W Broad St Columbus 43215;X-APPLE-RADIUS=500;X-TITLE=303 W Broad St:geo:-83.0056594,39.9602803
END:VEVENT
END:VCALENDAR