BEGIN:VCALENDAR
VERSION:2.0
PRODID:-//Uptown Westerville Inc - ECPv6.15.20//NONSGML v1.0//EN
CALSCALE:GREGORIAN
METHOD:PUBLISH
X-ORIGINAL-URL:https://uptownwestervilleinc.com
X-WR-CALDESC:Events for Uptown Westerville Inc
REFRESH-INTERVAL;VALUE=DURATION:PT1H
X-Robots-Tag:noindex
X-PUBLISHED-TTL:PT1H
BEGIN:VTIMEZONE
TZID:America/New_York
BEGIN:DAYLIGHT
TZOFFSETFROM:-0500
TZOFFSETTO:-0400
TZNAME:EDT
DTSTART:20240310T070000
END:DAYLIGHT
BEGIN:STANDARD
TZOFFSETFROM:-0400
TZOFFSETTO:-0500
TZNAME:EST
DTSTART:20241103T060000
END:STANDARD
BEGIN:DAYLIGHT
TZOFFSETFROM:-0500
TZOFFSETTO:-0400
TZNAME:EDT
DTSTART:20250309T070000
END:DAYLIGHT
BEGIN:STANDARD
TZOFFSETFROM:-0400
TZOFFSETTO:-0500
TZNAME:EST
DTSTART:20251102T060000
END:STANDARD
BEGIN:DAYLIGHT
TZOFFSETFROM:-0500
TZOFFSETTO:-0400
TZNAME:EDT
DTSTART:20260308T070000
END:DAYLIGHT
BEGIN:STANDARD
TZOFFSETFROM:-0400
TZOFFSETTO:-0500
TZNAME:EST
DTSTART:20261101T060000
END:STANDARD
END:VTIMEZONE
BEGIN:VEVENT
DTSTART;TZID=America/New_York:20250318T183000
DTEND;TZID=America/New_York:20250318T203000
DTSTAMP:20260421T015613
CREATED:20250214T165305Z
LAST-MODIFIED:20250214T165555Z
UID:990001112-1742322600-1742329800@uptownwestervilleinc.com
SUMMARY:Sip & Sketch at Good Vibes March 18
DESCRIPTION:6:30-8:30 p.m.\nJoin a fun and mindful evening at Good Vibes as you create your own unique mandala masterpiece. Class includes all the materials\, instruction and two glasses of wine! Cost: $40 Register Here. March theme: Mandalas. Instructor: Kathy Rausch.
URL:https://uptownwestervilleinc.com/event/sip-sketch-at-good-vibes-march-18/
LOCATION:Good Vibes Winery\, 2 S State St\, Westerville\, OH\, 43081
CATEGORIES:arts workshop,State Street News
ATTACH;FMTTYPE=image/webp:https://uptownwestervilleinc.com/wp-content/uploads/2025/02/3-18-25-sip-sketch-good-vibes-Rausch.webp
ORGANIZER;CN="Good Vibes Winery":MAILTO:info@goodvibeswinery.com
GEO:40.1258532;-82.931318
X-APPLE-STRUCTURED-LOCATION;VALUE=URI;X-ADDRESS=Good Vibes Winery 2 S State St Westerville OH 43081;X-APPLE-RADIUS=500;X-TITLE=2 S State St:geo:-82.931318,40.1258532
END:VEVENT
BEGIN:VEVENT
DTSTART;TZID=America/New_York:20250321T190000
DTEND;TZID=America/New_York:20250321T210000
DTSTAMP:20260421T015613
CREATED:20250306T234119Z
LAST-MODIFIED:20250306T234119Z
UID:990001170-1742583600-1742590800@uptownwestervilleinc.com
SUMMARY:Live music at Good Vibes Winery March 21
DESCRIPTION:Friday night live music: 7-9 p.m.\nCome enjoy Live Music from Ken Schwartz at Good Vibes March 21! \nKen is a local musician who grew up right here in Westerville.  If you like the Eagles\, James Taylor\, Rascal Flatts and Michael Buble you will enjoy his music…. he has a playlist you will want to sign along with. Come check Ken out this Friday.
URL:https://uptownwestervilleinc.com/event/live-music-at-good-vibes-winery-march-21/
LOCATION:Good Vibes Winery\, 2 S State St\, Westerville\, OH\, 43081
CATEGORIES:Live Music,State Street News
ATTACH;FMTTYPE=image/webp:https://uptownwestervilleinc.com/wp-content/uploads/2025/03/3-14-25-ken-schwartz.webp
ORGANIZER;CN="Good Vibes Winery":MAILTO:info@goodvibeswinery.com
GEO:40.1258532;-82.931318
X-APPLE-STRUCTURED-LOCATION;VALUE=URI;X-ADDRESS=Good Vibes Winery 2 S State St Westerville OH 43081;X-APPLE-RADIUS=500;X-TITLE=2 S State St:geo:-82.931318,40.1258532
END:VEVENT
END:VCALENDAR