BEGIN:VCALENDAR
VERSION:2.0
PRODID:-//Uptown Westerville Inc - ECPv6.15.20//NONSGML v1.0//EN
CALSCALE:GREGORIAN
METHOD:PUBLISH
X-WR-CALNAME:Uptown Westerville Inc
X-ORIGINAL-URL:https://uptownwestervilleinc.com
X-WR-CALDESC:Events for Uptown Westerville Inc
REFRESH-INTERVAL;VALUE=DURATION:PT1H
X-Robots-Tag:noindex
X-PUBLISHED-TTL:PT1H
BEGIN:VTIMEZONE
TZID:America/New_York
BEGIN:DAYLIGHT
TZOFFSETFROM:-0500
TZOFFSETTO:-0400
TZNAME:EDT
DTSTART:20250309T070000
END:DAYLIGHT
BEGIN:STANDARD
TZOFFSETFROM:-0400
TZOFFSETTO:-0500
TZNAME:EST
DTSTART:20251102T060000
END:STANDARD
BEGIN:DAYLIGHT
TZOFFSETFROM:-0500
TZOFFSETTO:-0400
TZNAME:EDT
DTSTART:20260308T070000
END:DAYLIGHT
BEGIN:STANDARD
TZOFFSETFROM:-0400
TZOFFSETTO:-0500
TZNAME:EST
DTSTART:20261101T060000
END:STANDARD
BEGIN:DAYLIGHT
TZOFFSETFROM:-0500
TZOFFSETTO:-0400
TZNAME:EDT
DTSTART:20270314T070000
END:DAYLIGHT
BEGIN:STANDARD
TZOFFSETFROM:-0400
TZOFFSETTO:-0500
TZNAME:EST
DTSTART:20271107T060000
END:STANDARD
END:VTIMEZONE
BEGIN:VEVENT
DTSTART;TZID=America/New_York:20260301T170000
DTEND;TZID=America/New_York:20260301T190000
DTSTAMP:20260419T111220
CREATED:20251008T105527Z
LAST-MODIFIED:20251008T105527Z
UID:990002184-1772384400-1772391600@uptownwestervilleinc.com
SUMMARY:Westerville Symphony - Masterworks II
DESCRIPTION:Masterworks II is a celebration of bold voices and unforgettable soundscapes\, pairing rarely heard gems with a towering symphonic masterpiece. \nThe evening begins with Gustav Holst’s Japanese Suite\, a vibrant work inspired by his fascination with Eastern music and culture. Though best known for The Planets\, Holst reveals another side of his artistry here — light\, colorful\, and full of rhythmic vitality.\n \nThe program continues with Lou Harrison’s striking Piano Concerto\, performed by the internationally acclaimed pianist Sarah Cahill. Described as “a sterling pianist and an intrepid illuminator of the classical avant-garde” by the New York Times\, Cahill has dedicated her career to championing innovative composers and expanding the piano repertoire. Harrison’s concerto is both lyrical and percussive\, fusing Eastern and Western traditions in a dazzling tour de force. With Cahill at the keyboard\, this promises to be a performance of brilliance and passion. \nAfter intermission\, the Symphony turns to one of the great monuments of the orchestral repertoire: Jean Sibelius’s Symphony No. 7 in C Major. Composed as a single sweeping movement\, this symphony is both intimate and monumental\, unfolding as a seamless arc of sound. Sibelius leads listeners through moments of grandeur\, mystery\, and serenity before closing with one of the most transcendent endings in all of music. \nFrom Holst’s vibrant colors to Harrison’s groundbreaking concerto and Sibelius’s profound Seventh Symphony\, this program offers an evening of discovery and inspiration.
URL:https://uptownwestervilleinc.com/event/westerville-symphony-masterworks-ii/
LOCATION:Otterbein-Cowan Hall\, 30 S. Grove St.\, Westerville\, OH\, 43081\, United States
CATEGORIES:Live Music,Otterbein University
ATTACH;FMTTYPE=image/webp:https://uptownwestervilleinc.com/wp-content/uploads/2025/10/3-1-26-Masterworks-2-16x9-2.webp
ORGANIZER;CN="Westerville Symphony":MAILTO:info@westervillesymphony.org
GEO:40.1247049;-82.9347663
X-APPLE-STRUCTURED-LOCATION;VALUE=URI;X-ADDRESS=Otterbein-Cowan Hall 30 S. Grove St. Westerville OH 43081 United States;X-APPLE-RADIUS=500;X-TITLE=30 S. Grove St.:geo:-82.9347663,40.1247049
END:VEVENT
BEGIN:VEVENT
DTSTART;TZID=America/New_York:20260307T120000
DTEND;TZID=America/New_York:20260307T160000
DTSTAMP:20260419T111220
CREATED:20260202T125559Z
LAST-MODIFIED:20260303T004246Z
UID:990002702-1772884800-1772899200@uptownwestervilleinc.com
SUMMARY:2026 Uptown Cookie Walk
DESCRIPTION:2026 Cookie Walk: Chocolate Invasion Edition\nEmbark on a delightful journey through the heart of Westerville’s historic district during the annual Uptown Cookie Walk: Chocolate Invasion Edition! Explore 25 unique shops and businesses\, each offering a gourmet cookie or an Anthony Thomas Chocolate treat to make your visit even sweeter. Attendees will also be given an Uptown Cookie Walk shopping bag to hold their treats! \nSATURDAY\, MARCH 7\, 2026 ·12-4 PMOPEN TO ALL AGES! TICKETS: $28
URL:https://uptownwestervilleinc.com/event/2026-uptown-cookie-walk/
LOCATION:Uptown Westerville District\, 21 S. State St.\, Westerville\, OH\, 43081\, United States
CATEGORIES:State Street News,Walking Tours
ATTACH;FMTTYPE=image/webp:https://uptownwestervilleinc.com/wp-content/uploads/2026/02/3-7-26-2026-Cookie-Walk-no-price-scaled.webp
ORGANIZER;CN="Uptown Westerville Inc - UWI":MAILTO:dir@uptownwestervilleinc.com
GEO:40.1252264;-82.9317573
X-APPLE-STRUCTURED-LOCATION;VALUE=URI;X-ADDRESS=Uptown Westerville District 21 S. State St. Westerville OH 43081 United States;X-APPLE-RADIUS=500;X-TITLE=21 S. State St.:geo:-82.9317573,40.1252264
END:VEVENT
BEGIN:VEVENT
DTSTART;TZID=America/New_York:20260307T190000
DTEND;TZID=America/New_York:20260307T213000
DTSTAMP:20260419T111220
CREATED:20250930T161515Z
LAST-MODIFIED:20250930T161530Z
UID:990002146-1772910000-1772919000@uptownwestervilleinc.com
SUMMARY:Saturday Night Live at Java Central
DESCRIPTION:Saturday live music: 7 to 9:30p.m. \nLive music at JC! Professional performances by groups or individual singers and musicians. Eclectic genres range from rock\, folk and pop to blues\, jazz\, bluegrass – and more! \nVisit Java Central online at JavaCentral.coffee for more information on which bands are playing on specific weeks.
URL:https://uptownwestervilleinc.com/event/saturday-night-live-at-java-central/2026-03-07/
LOCATION:Java Central\, 20 S. State St. #B\, Westerville\, OH\, 43081\, United States
ATTACH;FMTTYPE=image/webp:https://uptownwestervilleinc.com/wp-content/uploads/2025/09/10-3-25-and-on-Java-Central-SNL_general.webp
ORGANIZER;CN="Java Central":MAILTO:andy@javacentral.coffee
GEO:40.12542;-82.93129
X-APPLE-STRUCTURED-LOCATION;VALUE=URI;X-ADDRESS=Java Central 20 S. State St. #B Westerville OH 43081 United States;X-APPLE-RADIUS=500;X-TITLE=20 S. State St. #B:geo:-82.93129,40.12542
END:VEVENT
END:VCALENDAR