BEGIN:VCALENDAR
VERSION:2.0
PRODID:-//Uptown Westerville Inc - ECPv6.15.20//NONSGML v1.0//EN
CALSCALE:GREGORIAN
METHOD:PUBLISH
X-WR-CALNAME:Uptown Westerville Inc
X-ORIGINAL-URL:https://uptownwestervilleinc.com
X-WR-CALDESC:Events for Uptown Westerville Inc
REFRESH-INTERVAL;VALUE=DURATION:PT1H
X-Robots-Tag:noindex
X-PUBLISHED-TTL:PT1H
BEGIN:VTIMEZONE
TZID:America/New_York
BEGIN:DAYLIGHT
TZOFFSETFROM:-0500
TZOFFSETTO:-0400
TZNAME:EDT
DTSTART:20240310T070000
END:DAYLIGHT
BEGIN:STANDARD
TZOFFSETFROM:-0400
TZOFFSETTO:-0500
TZNAME:EST
DTSTART:20241103T060000
END:STANDARD
BEGIN:DAYLIGHT
TZOFFSETFROM:-0500
TZOFFSETTO:-0400
TZNAME:EDT
DTSTART:20250309T070000
END:DAYLIGHT
BEGIN:STANDARD
TZOFFSETFROM:-0400
TZOFFSETTO:-0500
TZNAME:EST
DTSTART:20251102T060000
END:STANDARD
BEGIN:DAYLIGHT
TZOFFSETFROM:-0500
TZOFFSETTO:-0400
TZNAME:EDT
DTSTART:20260308T070000
END:DAYLIGHT
BEGIN:STANDARD
TZOFFSETFROM:-0400
TZOFFSETTO:-0500
TZNAME:EST
DTSTART:20261101T060000
END:STANDARD
END:VTIMEZONE
BEGIN:VEVENT
DTSTART;TZID=America/New_York:20250509T190000
DTEND;TZID=America/New_York:20250509T220000
DTSTAMP:20260421T031039
CREATED:20250507T172759Z
LAST-MODIFIED:20250507T173719Z
UID:990001590-1746817200-1746828000@uptownwestervilleinc.com
SUMMARY:Dogwood Road live at North High May 9
DESCRIPTION:Dogwood Road will perform live in the Beer Garden at North High Brewing Westerville\, from 7-10 p.m. Friday\, May 9.
URL:https://uptownwestervilleinc.com/event/dogwood-road-live-at-north-high-may-9/
LOCATION:North High Brewing Co\, 250 S. State St.\, Westerville\, 43081\, United States
CATEGORIES:Live Music,State Street News
ATTACH;FMTTYPE=image/webp:https://uptownwestervilleinc.com/wp-content/uploads/2025/05/5-9-25-dogwood-road-n-high.webp
GEO:40.1191639;-82.9282601
X-APPLE-STRUCTURED-LOCATION;VALUE=URI;X-ADDRESS=North High Brewing Co 250 S. State St. Westerville 43081 United States;X-APPLE-RADIUS=500;X-TITLE=250 S. State St.:geo:-82.9282601,40.1191639
END:VEVENT
BEGIN:VEVENT
DTSTART;TZID=America/New_York:20250516T190000
DTEND;TZID=America/New_York:20250516T220000
DTSTAMP:20260421T031039
CREATED:20250507T173310Z
LAST-MODIFIED:20250507T173633Z
UID:990001591-1747422000-1747432800@uptownwestervilleinc.com
SUMMARY:Mike Ray Live at North High Brewing May 16
DESCRIPTION:Mike Ray will perform live in the Beer Garden at North High Brewing Westerville\, from 7-10 p.m. Friday\, May 16.
URL:https://uptownwestervilleinc.com/event/mike-ray-live-at-north-high-brewing-may-16/
LOCATION:North High Brewing Co\, 250 S. State St.\, Westerville\, 43081\, United States
CATEGORIES:Live Music,State Street News
ATTACH;FMTTYPE=image/webp:https://uptownwestervilleinc.com/wp-content/uploads/2025/05/5-16-25-Mike-Ray.webp
GEO:40.1191639;-82.9282601
X-APPLE-STRUCTURED-LOCATION;VALUE=URI;X-ADDRESS=North High Brewing Co 250 S. State St. Westerville 43081 United States;X-APPLE-RADIUS=500;X-TITLE=250 S. State St.:geo:-82.9282601,40.1191639
END:VEVENT
BEGIN:VEVENT
DTSTART;TZID=America/New_York:20250524T190000
DTEND;TZID=America/New_York:20250524T210000
DTSTAMP:20260421T031039
CREATED:20250506T143243Z
LAST-MODIFIED:20250506T145942Z
UID:990001583-1748113200-1748120400@uptownwestervilleinc.com
SUMMARY:Westerville Symphony at the Field of Heroes
DESCRIPTION:A Westerville Symphony concert to celebrate Memorial Day Weekend and our Veterans. Concert will be held within the Veterans Memorial Park and will end with the playing of Taps at sunset.
URL:https://uptownwestervilleinc.com/event/westerville-symphony-at-the-field-of-heroes/
LOCATION:Westerville Sports Complex\, North Cleveland Avenue\, Westerville\, Ohio\, 43081\, United States
CATEGORIES:Holiday events,In the area,Live Music
ATTACH;FMTTYPE=image/webp:https://uptownwestervilleinc.com/wp-content/uploads/2025/05/5-25-25-FOH-WestervilleSymphonyLogoPSW2-flat.webp
GEO:40.133764;-82.9480896
X-APPLE-STRUCTURED-LOCATION;VALUE=URI;X-ADDRESS=Westerville Sports Complex North Cleveland Avenue Westerville Ohio 43081 United States;X-APPLE-RADIUS=500;X-TITLE=North Cleveland Avenue:geo:-82.9480896,40.133764
END:VEVENT
END:VCALENDAR