BEGIN:VCALENDAR
VERSION:2.0
PRODID:-//Uptown Westerville Inc - ECPv6.15.20//NONSGML v1.0//EN
CALSCALE:GREGORIAN
METHOD:PUBLISH
X-ORIGINAL-URL:https://uptownwestervilleinc.com
X-WR-CALDESC:Events for Uptown Westerville Inc
REFRESH-INTERVAL;VALUE=DURATION:PT1H
X-Robots-Tag:noindex
X-PUBLISHED-TTL:PT1H
BEGIN:VTIMEZONE
TZID:America/New_York
BEGIN:DAYLIGHT
TZOFFSETFROM:-0500
TZOFFSETTO:-0400
TZNAME:EDT
DTSTART:20240310T070000
END:DAYLIGHT
BEGIN:STANDARD
TZOFFSETFROM:-0400
TZOFFSETTO:-0500
TZNAME:EST
DTSTART:20241103T060000
END:STANDARD
BEGIN:DAYLIGHT
TZOFFSETFROM:-0500
TZOFFSETTO:-0400
TZNAME:EDT
DTSTART:20250309T070000
END:DAYLIGHT
BEGIN:STANDARD
TZOFFSETFROM:-0400
TZOFFSETTO:-0500
TZNAME:EST
DTSTART:20251102T060000
END:STANDARD
BEGIN:DAYLIGHT
TZOFFSETFROM:-0500
TZOFFSETTO:-0400
TZNAME:EDT
DTSTART:20260308T070000
END:DAYLIGHT
BEGIN:STANDARD
TZOFFSETFROM:-0400
TZOFFSETTO:-0500
TZNAME:EST
DTSTART:20261101T060000
END:STANDARD
END:VTIMEZONE
BEGIN:VEVENT
DTSTART;TZID=America/New_York:20250524T190000
DTEND;TZID=America/New_York:20250524T210000
DTSTAMP:20260421T091947
CREATED:20250506T143243Z
LAST-MODIFIED:20250506T145942Z
UID:990001583-1748113200-1748120400@uptownwestervilleinc.com
SUMMARY:Westerville Symphony at the Field of Heroes
DESCRIPTION:A Westerville Symphony concert to celebrate Memorial Day Weekend and our Veterans. Concert will be held within the Veterans Memorial Park and will end with the playing of Taps at sunset.
URL:https://uptownwestervilleinc.com/event/westerville-symphony-at-the-field-of-heroes/
LOCATION:Westerville Sports Complex\, North Cleveland Avenue\, Westerville\, Ohio\, 43081\, United States
CATEGORIES:Holiday events,In the area,Live Music
ATTACH;FMTTYPE=image/webp:https://uptownwestervilleinc.com/wp-content/uploads/2025/05/5-25-25-FOH-WestervilleSymphonyLogoPSW2-flat.webp
GEO:40.133764;-82.9480896
X-APPLE-STRUCTURED-LOCATION;VALUE=URI;X-ADDRESS=Westerville Sports Complex North Cleveland Avenue Westerville Ohio 43081 United States;X-APPLE-RADIUS=500;X-TITLE=North Cleveland Avenue:geo:-82.9480896,40.133764
END:VEVENT
END:VCALENDAR