BEGIN:VCALENDAR
VERSION:2.0
PRODID:-//Uptown Westerville Inc - ECPv6.15.20//NONSGML v1.0//EN
CALSCALE:GREGORIAN
METHOD:PUBLISH
X-ORIGINAL-URL:https://uptownwestervilleinc.com
X-WR-CALDESC:Events for Uptown Westerville Inc
REFRESH-INTERVAL;VALUE=DURATION:PT1H
X-Robots-Tag:noindex
X-PUBLISHED-TTL:PT1H
BEGIN:VTIMEZONE
TZID:America/New_York
BEGIN:DAYLIGHT
TZOFFSETFROM:-0500
TZOFFSETTO:-0400
TZNAME:EDT
DTSTART:20240310T070000
END:DAYLIGHT
BEGIN:STANDARD
TZOFFSETFROM:-0400
TZOFFSETTO:-0500
TZNAME:EST
DTSTART:20241103T060000
END:STANDARD
BEGIN:DAYLIGHT
TZOFFSETFROM:-0500
TZOFFSETTO:-0400
TZNAME:EDT
DTSTART:20250309T070000
END:DAYLIGHT
BEGIN:STANDARD
TZOFFSETFROM:-0400
TZOFFSETTO:-0500
TZNAME:EST
DTSTART:20251102T060000
END:STANDARD
BEGIN:DAYLIGHT
TZOFFSETFROM:-0500
TZOFFSETTO:-0400
TZNAME:EDT
DTSTART:20260308T070000
END:DAYLIGHT
BEGIN:STANDARD
TZOFFSETFROM:-0400
TZOFFSETTO:-0500
TZNAME:EST
DTSTART:20261101T060000
END:STANDARD
END:VTIMEZONE
BEGIN:VEVENT
DTSTART;TZID=America/New_York:20251019T170000
DTEND;TZID=America/New_York:20251019T190000
DTSTAMP:20260421T214230
CREATED:20251008T103359Z
LAST-MODIFIED:20251008T103359Z
UID:990002181-1760893200-1760900400@uptownwestervilleinc.com
SUMMARY:Westerville Symphony - Masterworks I
DESCRIPTION:The season begins with a concert that is as bold and imaginative as it is beautiful — a true visual and musical spectacle. \n Opening the program is Toast of the Town by Quinn Mason\, one of today’s most exciting young voices in American music. A rising Black composer whose works have already been performed by major orchestras across the country\, Mason writes with wit\, energy\, and heart. His music captures the spirit of a new generation\, and with a title that nods to community and celebration\, Toast of the Town is the perfect way to launch our season here in Westerville.\n \nInternationally acclaimed saxophonist Kenneth Tse then takes center stage in Lowell Liebermann’s Saxophone Concerto\, a brilliant showpiece that blends dazzling virtuosity with soaring lyricism. Tse’s artistry and expressive power promise to make this performance unforgettable. \n After intermission\, French refinement meets theatrical flair in Maurice Ravel’s rarely performed Sémiramis.\n \nAnd to close\, the Symphony unveils a completely reimagined version of Igor Stravinsky’s The Firebird Suite (1919) — paired with stunning new visual projections by Spork Design. This multimedia experience transforms Stravinsky’s legendary score into a breathtaking spectacle of sound and image\, an event unlike anything Westerville has ever seen.\n \nThis Concert Also Includes Our Annual WARM Food Drive!\n \n\n\n\n\n\n\n\n\n\n \nJoin the Westerville Symphony in supporting the Westerville Area Resource Ministry (WARM). Bring nonperishable food items to the concert and help us make a difference in our community while celebrating an unforgettable night of music. \n🎟️ Special Offer: Bring 10 canned goods and receive a free concert ticket at the door! 🎟️  \nIf you would like to support the families WARM serves by donating food or household supplies\, below is a list of the most needed items. \n\n\nCanned meat (chicken\, tuna\, etc) \n\n\nCanned pasta \n\n\nPeanut butter \n\n\nPaper products (toilet paper\, paper towels) \n\n\nCanned beans (any variety) \n\n\nSoups \n\n\nDetergent (laundry\, dishwasher) \n\n\nCondiments (ketchup\, mustard\, mayo\, etc) \n\n\nRice (brown or white) \n\n\nCanned veggies (any variety) \n\n\nThank you for helping the Westerville Symphony be an active partner in our community — bringing great art to the stage and meeting vital food needs for our neighbors. To learn more about the Westerville Area Resource Ministry go to https://warmwesterville.org/
URL:https://uptownwestervilleinc.com/event/westerville-symphony-masterworks-i/
LOCATION:Otterbein-Cowan Hall\, 30 S. Grove St.\, Westerville\, OH\, 43081\, United States
CATEGORIES:Live Music,Otterbein University
ATTACH;FMTTYPE=image/webp:https://uptownwestervilleinc.com/wp-content/uploads/2025/10/10-19-25-Masterworks-I-16x9-1.webp
ORGANIZER;CN="Westerville Symphony":MAILTO:info@westervillesymphony.org
GEO:40.1247049;-82.9347663
X-APPLE-STRUCTURED-LOCATION;VALUE=URI;X-ADDRESS=Otterbein-Cowan Hall 30 S. Grove St. Westerville OH 43081 United States;X-APPLE-RADIUS=500;X-TITLE=30 S. Grove St.:geo:-82.9347663,40.1247049
END:VEVENT
END:VCALENDAR