BEGIN:VCALENDAR
VERSION:2.0
PRODID:-//Uptown Westerville Inc - ECPv6.15.20//NONSGML v1.0//EN
CALSCALE:GREGORIAN
METHOD:PUBLISH
X-ORIGINAL-URL:https://uptownwestervilleinc.com
X-WR-CALDESC:Events for Uptown Westerville Inc
REFRESH-INTERVAL;VALUE=DURATION:PT1H
X-Robots-Tag:noindex
X-PUBLISHED-TTL:PT1H
BEGIN:VTIMEZONE
TZID:America/New_York
BEGIN:DAYLIGHT
TZOFFSETFROM:-0500
TZOFFSETTO:-0400
TZNAME:EDT
DTSTART:20240310T070000
END:DAYLIGHT
BEGIN:STANDARD
TZOFFSETFROM:-0400
TZOFFSETTO:-0500
TZNAME:EST
DTSTART:20241103T060000
END:STANDARD
BEGIN:DAYLIGHT
TZOFFSETFROM:-0500
TZOFFSETTO:-0400
TZNAME:EDT
DTSTART:20250309T070000
END:DAYLIGHT
BEGIN:STANDARD
TZOFFSETFROM:-0400
TZOFFSETTO:-0500
TZNAME:EST
DTSTART:20251102T060000
END:STANDARD
BEGIN:DAYLIGHT
TZOFFSETFROM:-0500
TZOFFSETTO:-0400
TZNAME:EDT
DTSTART:20260308T070000
END:DAYLIGHT
BEGIN:STANDARD
TZOFFSETFROM:-0400
TZOFFSETTO:-0500
TZNAME:EST
DTSTART:20261101T060000
END:STANDARD
END:VTIMEZONE
BEGIN:VEVENT
DTSTART;TZID=America/New_York:20250830T080000
DTEND;TZID=America/New_York:20250830T180000
DTSTAMP:20260420T211848
CREATED:20250624T125029Z
LAST-MODIFIED:20250624T125246Z
UID:990001666-1756540800-1756576800@uptownwestervilleinc.com
SUMMARY:ReUse-a-Palooza
DESCRIPTION:Join your Westerville neighbors in this bi-annual (August and May) free curbside exchange. to give reusable items a new home and purpose. This citywide effort gives reusable items a new home and purpose\, and helps extend the life of our landfill. This is not a garage sale\, as ALL goods are FREE. \nSimply place clean\, usable items you no longer need at your curb for others to take. Furniture\, toys\, clothing\, tools\, and other household items are all welcome. 
URL:https://uptownwestervilleinc.com/event/reuse-a-palooza-2/
LOCATION:City of Westerville\, Westerville\, United States
CATEGORIES:In the area
ATTACH;FMTTYPE=image/webp:https://uptownwestervilleinc.com/wp-content/uploads/2025/06/8-30-25-reuseapalooza.webp
ORGANIZER;CN="Sustainable Westerville":MAILTO:sustainablewesterville1@gmail.com
GEO:40.1308733;-82.9291872
END:VEVENT
END:VCALENDAR