BEGIN:VCALENDAR
VERSION:2.0
PRODID:-//Uptown Westerville Inc - ECPv6.15.20//NONSGML v1.0//EN
CALSCALE:GREGORIAN
METHOD:PUBLISH
X-ORIGINAL-URL:https://uptownwestervilleinc.com
X-WR-CALDESC:Events for Uptown Westerville Inc
REFRESH-INTERVAL;VALUE=DURATION:PT1H
X-Robots-Tag:noindex
X-PUBLISHED-TTL:PT1H
BEGIN:VTIMEZONE
TZID:America/New_York
BEGIN:DAYLIGHT
TZOFFSETFROM:-0500
TZOFFSETTO:-0400
TZNAME:EDT
DTSTART:20240310T070000
END:DAYLIGHT
BEGIN:STANDARD
TZOFFSETFROM:-0400
TZOFFSETTO:-0500
TZNAME:EST
DTSTART:20241103T060000
END:STANDARD
BEGIN:DAYLIGHT
TZOFFSETFROM:-0500
TZOFFSETTO:-0400
TZNAME:EDT
DTSTART:20250309T070000
END:DAYLIGHT
BEGIN:STANDARD
TZOFFSETFROM:-0400
TZOFFSETTO:-0500
TZNAME:EST
DTSTART:20251102T060000
END:STANDARD
BEGIN:DAYLIGHT
TZOFFSETFROM:-0500
TZOFFSETTO:-0400
TZNAME:EDT
DTSTART:20260308T070000
END:DAYLIGHT
BEGIN:STANDARD
TZOFFSETFROM:-0400
TZOFFSETTO:-0500
TZNAME:EST
DTSTART:20261101T060000
END:STANDARD
END:VTIMEZONE
BEGIN:VEVENT
DTSTART;TZID=America/New_York:20251011T090000
DTEND;TZID=America/New_York:20251011T120000
DTSTAMP:20260420T163706
CREATED:20250624T125819Z
LAST-MODIFIED:20250624T125819Z
UID:990001667-1760173200-1760184000@uptownwestervilleinc.com
SUMMARY:Repair Cafe and Electronic/Styrofoam Recycling Event
DESCRIPTION:Repair Cafés are free meeting places and they’re all about repairing things (together). In the place where a Repair Café is located\, you’ll find tools and materials to help you make any repairs you need. On clothes\, furniture\, electrical appliances\, bicycles\, crockery\, appliances\, toys\, et cetera. You’ll also find expert volunteers\, with repair skills in all kinds of fields. \nVisitors bring their broken items from home. Together with the specialists they start making their repairs in the Repair Café. It’s an ongoing learning process. If you have nothing to repair\, you can enjoy a cup of tea or coffee and/or a donut. Or you can lend a hand with someone else’s repair job. You can also get inspired at the reading table – by leafing through books on repairs and DIY. We will also have community tables to share information about recycling\, composting\, repairing\, etc. This year we will be adding a Kid’s Corner!  \nhttps://www.repaircafe.org/en/about/
URL:https://uptownwestervilleinc.com/event/repair-cafe-and-electronic-styrofoam-recycling-event-2/
LOCATION:Otterbein – The Point\, 60 Collegeview Road\, Westerville\, O\, 43081\, United States
CATEGORIES:In the area,Otterbein University
ATTACH;FMTTYPE=image/webp:https://uptownwestervilleinc.com/wp-content/uploads/2025/06/10-11-25-Repair-Cafe.webp
ORGANIZER;CN="Sustainable Westerville":MAILTO:sustainablewesterville1@gmail.com
GEO:40.1228711;-82.9428718
X-APPLE-STRUCTURED-LOCATION;VALUE=URI;X-ADDRESS=Otterbein – The Point 60 Collegeview Road Westerville O 43081 United States;X-APPLE-RADIUS=500;X-TITLE=60 Collegeview Road:geo:-82.9428718,40.1228711
END:VEVENT
BEGIN:VEVENT
DTSTART;TZID=America/New_York:20251011T090000
DTEND;TZID=America/New_York:20251011T120000
DTSTAMP:20260420T163706
CREATED:20250806T005314Z
LAST-MODIFIED:20250806T011308Z
UID:990001957-1760173200-1760184000@uptownwestervilleinc.com
SUMMARY:Repair Café and Electronic/Styrofoam Recycling Event
DESCRIPTION:Bring your broken items from home to Sustainable Westerville and Otterbein University’s Repair Café on Saturday\, Oct. 11\, at The Point at Otterbein. \nThe Repair Café will run from 9 a.m. until noon Oct. 11 at The Point. Together with our volunteer “experts\,” make (or start making) repairs in the Repair Café. It’s an ongoing learning process. If you have nothing to repair\, you can enjoy a cup of tea or coffee. Or you can lend a hand with someone else’s repair job. You can also get inspired at the reading table – by leafing through books on repairs and DIY. \nOur “experts” will work with you to determine if your item is repairable. If it is\, the “expert” and you can work together to fix it. We are highly encouraging this to be a “hands on” experience. We realize this might not always be possible. You do not have to be a Westerville resident to come to the Repair Café. \nPlease bring in no more than 2 repairable or potentially repairable items.Please come in prior to 11:30am to ensure time for evaluation/repairs. \nIf you know or suspect the item needs a specific replacement part such as a new cord\, switch\, a patch\, a button\, etc.\, please bring it with you. We will not have access to purchase items\, though Roush Hardware is right up the road at 609 S. State St. \nPlease know that this is a “walk in” process\, so there may be multiple people being assisted by the “expert” at the same time. This is not a drop-off and pick-up later event. Please have a seat at the table where the “expert” and other “customers” are working. Get to know some of your Westerville neighbors! \nWe cannot guarantee that your item can be fixed\, in some instances the “expert” will guide you to the information you need finishing fixing it at home. In some instances\, it just isn’t fixable. If it is e-waste\, then you may be able to leave it behind at the Electronic Recycling event outside of The Point.
URL:https://uptownwestervilleinc.com/event/repair-cafe-and-electronic-styrofoam-recycling-event-3/
LOCATION:Otterbein – The Point\, 60 Collegeview Road\, Westerville\, O\, 43081\, United States
CATEGORIES:In the area,Live Music,Otterbein University
ATTACH;FMTTYPE=image/png:https://uptownwestervilleinc.com/wp-content/uploads/2025/08/Repair-Cafe-logo-for-Webpage.png
ORGANIZER;CN="Sustainable Westerville":MAILTO:sustainablewesterville1@gmail.com
GEO:40.1228711;-82.9428718
X-APPLE-STRUCTURED-LOCATION;VALUE=URI;X-ADDRESS=Otterbein – The Point 60 Collegeview Road Westerville O 43081 United States;X-APPLE-RADIUS=500;X-TITLE=60 Collegeview Road:geo:-82.9428718,40.1228711
END:VEVENT
END:VCALENDAR