BEGIN:VCALENDAR
VERSION:2.0
PRODID:-//Uptown Westerville Inc - ECPv6.15.20//NONSGML v1.0//EN
CALSCALE:GREGORIAN
METHOD:PUBLISH
X-ORIGINAL-URL:https://uptownwestervilleinc.com
X-WR-CALDESC:Events for Uptown Westerville Inc
REFRESH-INTERVAL;VALUE=DURATION:PT1H
X-Robots-Tag:noindex
X-PUBLISHED-TTL:PT1H
BEGIN:VTIMEZONE
TZID:America/New_York
BEGIN:DAYLIGHT
TZOFFSETFROM:-0500
TZOFFSETTO:-0400
TZNAME:EDT
DTSTART:20250309T070000
END:DAYLIGHT
BEGIN:STANDARD
TZOFFSETFROM:-0400
TZOFFSETTO:-0500
TZNAME:EST
DTSTART:20251102T060000
END:STANDARD
BEGIN:DAYLIGHT
TZOFFSETFROM:-0500
TZOFFSETTO:-0400
TZNAME:EDT
DTSTART:20260308T070000
END:DAYLIGHT
BEGIN:STANDARD
TZOFFSETFROM:-0400
TZOFFSETTO:-0500
TZNAME:EST
DTSTART:20261101T060000
END:STANDARD
BEGIN:DAYLIGHT
TZOFFSETFROM:-0500
TZOFFSETTO:-0400
TZNAME:EDT
DTSTART:20270314T070000
END:DAYLIGHT
BEGIN:STANDARD
TZOFFSETFROM:-0400
TZOFFSETTO:-0500
TZNAME:EST
DTSTART:20271107T060000
END:STANDARD
END:VTIMEZONE
BEGIN:VEVENT
DTSTART;TZID=America/New_York:20260502T190000
DTEND;TZID=America/New_York:20260502T213000
DTSTAMP:20260422T001628
CREATED:20250930T161515Z
LAST-MODIFIED:20250930T161530Z
UID:990002154-1777748400-1777757400@uptownwestervilleinc.com
SUMMARY:Saturday Night Live at Java Central
DESCRIPTION:Saturday live music: 7 to 9:30p.m. \nLive music at JC! Professional performances by groups or individual singers and musicians. Eclectic genres range from rock\, folk and pop to blues\, jazz\, bluegrass – and more! \nVisit Java Central online at JavaCentral.coffee for more information on which bands are playing on specific weeks.
URL:https://uptownwestervilleinc.com/event/saturday-night-live-at-java-central/2026-05-02/
LOCATION:Java Central\, 20 S. State St. #B\, Westerville\, OH\, 43081\, United States
ATTACH;FMTTYPE=image/webp:https://uptownwestervilleinc.com/wp-content/uploads/2025/09/10-3-25-and-on-Java-Central-SNL_general.webp
ORGANIZER;CN="Java Central":MAILTO:andy@javacentral.coffee
GEO:40.12542;-82.93129
X-APPLE-STRUCTURED-LOCATION;VALUE=URI;X-ADDRESS=Java Central 20 S. State St. #B Westerville OH 43081 United States;X-APPLE-RADIUS=500;X-TITLE=20 S. State St. #B:geo:-82.93129,40.12542
END:VEVENT
BEGIN:VEVENT
DTSTART;TZID=America/New_York:20260509T190000
DTEND;TZID=America/New_York:20260509T213000
DTSTAMP:20260422T001628
CREATED:20250930T161515Z
LAST-MODIFIED:20250930T161530Z
UID:990002155-1778353200-1778362200@uptownwestervilleinc.com
SUMMARY:Saturday Night Live at Java Central
DESCRIPTION:Saturday live music: 7 to 9:30p.m. \nLive music at JC! Professional performances by groups or individual singers and musicians. Eclectic genres range from rock\, folk and pop to blues\, jazz\, bluegrass – and more! \nVisit Java Central online at JavaCentral.coffee for more information on which bands are playing on specific weeks.
URL:https://uptownwestervilleinc.com/event/saturday-night-live-at-java-central/2026-05-09/
LOCATION:Java Central\, 20 S. State St. #B\, Westerville\, OH\, 43081\, United States
ATTACH;FMTTYPE=image/webp:https://uptownwestervilleinc.com/wp-content/uploads/2025/09/10-3-25-and-on-Java-Central-SNL_general.webp
ORGANIZER;CN="Java Central":MAILTO:andy@javacentral.coffee
GEO:40.12542;-82.93129
X-APPLE-STRUCTURED-LOCATION;VALUE=URI;X-ADDRESS=Java Central 20 S. State St. #B Westerville OH 43081 United States;X-APPLE-RADIUS=500;X-TITLE=20 S. State St. #B:geo:-82.93129,40.12542
END:VEVENT
BEGIN:VEVENT
DTSTART;TZID=America/New_York:20260516T190000
DTEND;TZID=America/New_York:20260516T213000
DTSTAMP:20260422T001628
CREATED:20250930T161515Z
LAST-MODIFIED:20250930T161530Z
UID:990002156-1778958000-1778967000@uptownwestervilleinc.com
SUMMARY:Saturday Night Live at Java Central
DESCRIPTION:Saturday live music: 7 to 9:30p.m. \nLive music at JC! Professional performances by groups or individual singers and musicians. Eclectic genres range from rock\, folk and pop to blues\, jazz\, bluegrass – and more! \nVisit Java Central online at JavaCentral.coffee for more information on which bands are playing on specific weeks.
URL:https://uptownwestervilleinc.com/event/saturday-night-live-at-java-central/2026-05-16/
LOCATION:Java Central\, 20 S. State St. #B\, Westerville\, OH\, 43081\, United States
ATTACH;FMTTYPE=image/webp:https://uptownwestervilleinc.com/wp-content/uploads/2025/09/10-3-25-and-on-Java-Central-SNL_general.webp
ORGANIZER;CN="Java Central":MAILTO:andy@javacentral.coffee
GEO:40.12542;-82.93129
X-APPLE-STRUCTURED-LOCATION;VALUE=URI;X-ADDRESS=Java Central 20 S. State St. #B Westerville OH 43081 United States;X-APPLE-RADIUS=500;X-TITLE=20 S. State St. #B:geo:-82.93129,40.12542
END:VEVENT
BEGIN:VEVENT
DTSTART;TZID=America/New_York:20260517T120000
DTEND;TZID=America/New_York:20260517T170000
DTSTAMP:20260422T001628
CREATED:20260405T233658Z
LAST-MODIFIED:20260405T234857Z
UID:990003085-1779019200-1779037200@uptownwestervilleinc.com
SUMMARY:Uptown Day Out: Spring 2026
DESCRIPTION:Join Good Vibes Winery\, Blend Candle Co\, and Westerville Florist on Sunday\, May 17th\, between 12pm-5pm to celebrate all things Spring! Enjoy 2 glasses of wine at Good Vibes Winery\, Build Your Own Spring Blooms Bouquet at the Giving Room by Westerville Florist\, and create your own spring scented candle at Blend Candle Co.\nSelect your start time and location at checkout. On May 17th\, go to the location selected to start your day\, and provide your name at the check-in station!
URL:https://uptownwestervilleinc.com/event/uptown-day-out-spring-2026/
LOCATION:Uptown Westerville District\, 21 S. State St.\, Westerville\, OH\, 43081\, United States
ATTACH;FMTTYPE=image/png:https://uptownwestervilleinc.com/wp-content/uploads/2026/03/ChatGPT-Image-Mar-27-2026-12_12_14-PM.png
ORGANIZER;CN="Westerville Florist":MAILTO:westervilleflorist14@gmail.com
GEO:40.1252264;-82.9317573
X-APPLE-STRUCTURED-LOCATION;VALUE=URI;X-ADDRESS=Uptown Westerville District 21 S. State St. Westerville OH 43081 United States;X-APPLE-RADIUS=500;X-TITLE=21 S. State St.:geo:-82.9317573,40.1252264
END:VEVENT
BEGIN:VEVENT
DTSTART;TZID=America/New_York:20260522T180000
DTEND;TZID=America/New_York:20260522T210000
DTSTAMP:20260422T001628
CREATED:20260420T164642Z
LAST-MODIFIED:20260420T164929Z
UID:990003133-1779472800-1779483600@uptownwestervilleinc.com
SUMMARY:Fourth Fridays in Uptown Westerville 2026
DESCRIPTION:Join Westerville’s monthly community festival as we take over State Street throughout historic Uptown for the 2026 Season of Fourth Friday! \nThe event themes are as followed: \n\nMay: Westerville Art Hop\nJune: America’s 250th Celebration\nJuly: Summer Fun\nAugust: School Spirit\nSeptember: Fall Fest\nOctober: Midnight Madness\n\nJoin us as Westerville closes State Street and invites the community to gather and enjoy a summer concer series at City Hall\, entertainment\, food trucks\, popup vendors\, the Uptown DORA\, and your favorite Uptown Westerville resturants and retial shopping. \nCheck out much more detail about our Fourth Friday festivals and make sure you join us!
URL:https://uptownwestervilleinc.com/event/fourth-fridays-in-uptown-westerville-2026/2026-05-22/
LOCATION:Uptown Westerville District\, 21 S. State St.\, Westerville\, OH\, 43081\, United States
CATEGORIES:4th Friday
ATTACH;FMTTYPE=image/png:https://uptownwestervilleinc.com/wp-content/uploads/2026/04/May-22-June-26-July-24-August-28-September-25-October-23-e1776703748650.png
ORGANIZER;CN="Uptown Westerville Inc - UWI":MAILTO:dir@uptownwestervilleinc.com
GEO:40.1252264;-82.9317573
X-APPLE-STRUCTURED-LOCATION;VALUE=URI;X-ADDRESS=Uptown Westerville District 21 S. State St. Westerville OH 43081 United States;X-APPLE-RADIUS=500;X-TITLE=21 S. State St.:geo:-82.9317573,40.1252264
END:VEVENT
BEGIN:VEVENT
DTSTART;TZID=America/New_York:20260523T190000
DTEND;TZID=America/New_York:20260523T213000
DTSTAMP:20260422T001628
CREATED:20250930T161515Z
LAST-MODIFIED:20250930T161530Z
UID:990002157-1779562800-1779571800@uptownwestervilleinc.com
SUMMARY:Saturday Night Live at Java Central
DESCRIPTION:Saturday live music: 7 to 9:30p.m. \nLive music at JC! Professional performances by groups or individual singers and musicians. Eclectic genres range from rock\, folk and pop to blues\, jazz\, bluegrass – and more! \nVisit Java Central online at JavaCentral.coffee for more information on which bands are playing on specific weeks.
URL:https://uptownwestervilleinc.com/event/saturday-night-live-at-java-central/2026-05-23/
LOCATION:Java Central\, 20 S. State St. #B\, Westerville\, OH\, 43081\, United States
ATTACH;FMTTYPE=image/webp:https://uptownwestervilleinc.com/wp-content/uploads/2025/09/10-3-25-and-on-Java-Central-SNL_general.webp
ORGANIZER;CN="Java Central":MAILTO:andy@javacentral.coffee
GEO:40.12542;-82.93129
X-APPLE-STRUCTURED-LOCATION;VALUE=URI;X-ADDRESS=Java Central 20 S. State St. #B Westerville OH 43081 United States;X-APPLE-RADIUS=500;X-TITLE=20 S. State St. #B:geo:-82.93129,40.12542
END:VEVENT
BEGIN:VEVENT
DTSTART;TZID=America/New_York:20260530T190000
DTEND;TZID=America/New_York:20260530T213000
DTSTAMP:20260422T001628
CREATED:20250930T161515Z
LAST-MODIFIED:20250930T161530Z
UID:990002158-1780167600-1780176600@uptownwestervilleinc.com
SUMMARY:Saturday Night Live at Java Central
DESCRIPTION:Saturday live music: 7 to 9:30p.m. \nLive music at JC! Professional performances by groups or individual singers and musicians. Eclectic genres range from rock\, folk and pop to blues\, jazz\, bluegrass – and more! \nVisit Java Central online at JavaCentral.coffee for more information on which bands are playing on specific weeks.
URL:https://uptownwestervilleinc.com/event/saturday-night-live-at-java-central/2026-05-30/
LOCATION:Java Central\, 20 S. State St. #B\, Westerville\, OH\, 43081\, United States
ATTACH;FMTTYPE=image/webp:https://uptownwestervilleinc.com/wp-content/uploads/2025/09/10-3-25-and-on-Java-Central-SNL_general.webp
ORGANIZER;CN="Java Central":MAILTO:andy@javacentral.coffee
GEO:40.12542;-82.93129
X-APPLE-STRUCTURED-LOCATION;VALUE=URI;X-ADDRESS=Java Central 20 S. State St. #B Westerville OH 43081 United States;X-APPLE-RADIUS=500;X-TITLE=20 S. State St. #B:geo:-82.93129,40.12542
END:VEVENT
END:VCALENDAR