BEGIN:VCALENDAR
VERSION:2.0
PRODID:-//Uptown Westerville Inc - ECPv6.15.20//NONSGML v1.0//EN
CALSCALE:GREGORIAN
METHOD:PUBLISH
X-ORIGINAL-URL:https://uptownwestervilleinc.com
X-WR-CALDESC:Events for Uptown Westerville Inc
REFRESH-INTERVAL;VALUE=DURATION:PT1H
X-Robots-Tag:noindex
X-PUBLISHED-TTL:PT1H
BEGIN:VTIMEZONE
TZID:America/New_York
BEGIN:DAYLIGHT
TZOFFSETFROM:-0500
TZOFFSETTO:-0400
TZNAME:EDT
DTSTART:20250309T070000
END:DAYLIGHT
BEGIN:STANDARD
TZOFFSETFROM:-0400
TZOFFSETTO:-0500
TZNAME:EST
DTSTART:20251102T060000
END:STANDARD
BEGIN:DAYLIGHT
TZOFFSETFROM:-0500
TZOFFSETTO:-0400
TZNAME:EDT
DTSTART:20260308T070000
END:DAYLIGHT
BEGIN:STANDARD
TZOFFSETFROM:-0400
TZOFFSETTO:-0500
TZNAME:EST
DTSTART:20261101T060000
END:STANDARD
BEGIN:DAYLIGHT
TZOFFSETFROM:-0500
TZOFFSETTO:-0400
TZNAME:EDT
DTSTART:20270314T070000
END:DAYLIGHT
BEGIN:STANDARD
TZOFFSETFROM:-0400
TZOFFSETTO:-0500
TZNAME:EST
DTSTART:20271107T060000
END:STANDARD
END:VTIMEZONE
BEGIN:VEVENT
DTSTART;TZID=America/New_York:20260208T140000
DTEND;TZID=America/New_York:20260208T160000
DTSTAMP:20260419T162423
CREATED:20260119T213950Z
LAST-MODIFIED:20260119T214008Z
UID:990002683-1770559200-1770566400@uptownwestervilleinc.com
SUMMARY:WSHS Theatre 'Dead Man Walking' matinee
DESCRIPTION:Westerville South High School Theatre students will present “Dead Man Walking” Feb. 5-8 at South\, 303 S. Otterbein Ave. \nPerformances will be at 7 p.m. Thursday-Saturday\, Feb. 5-8\, and at 2 p.m. Sunday\, Feb. 8. ASL interpretation will be offered for the Feb. 8 performance. \nAbout the play: \nDead Man Walking\n\nBased on the life and experiences of Sister Helen Prejean and her time as a chaplain on death row in rural Louisiana. When Sister Helen is given her first assignment to be a spiritual advisor she learns and teaches empathy\, compassion\, consequences and truth to not only Matt in his final days\, but those that surround him as well\, including the victim’s families. This drama will be a mixture of photos\, videos and live action in a theatrical format brand new to South Theatre. \nTickets are available here.
URL:https://uptownwestervilleinc.com/event/wshs-theatre-dead-man-walking-matinee/
LOCATION:Westerville South High School Theatre\, 303 S. Otterbein Ave\, Westerville\, OH\, 43081
CATEGORIES:In the area,School Events
ATTACH;FMTTYPE=image/webp:https://uptownwestervilleinc.com/wp-content/uploads/2026/01/2-5-26-DMW-Poster-crop.webp
GEO:40.1177811;-82.9231795
X-APPLE-STRUCTURED-LOCATION;VALUE=URI;X-ADDRESS=Westerville South High School Theatre 303 S. Otterbein Ave Westerville OH 43081;X-APPLE-RADIUS=500;X-TITLE=303 S. Otterbein Ave:geo:-82.9231795,40.1177811
END:VEVENT
END:VCALENDAR