BEGIN:VCALENDAR
VERSION:2.0
PRODID:-//Uptown Westerville Inc - ECPv6.15.20//NONSGML v1.0//EN
CALSCALE:GREGORIAN
METHOD:PUBLISH
X-WR-CALNAME:Uptown Westerville Inc
X-ORIGINAL-URL:https://uptownwestervilleinc.com
X-WR-CALDESC:Events for Uptown Westerville Inc
REFRESH-INTERVAL;VALUE=DURATION:PT1H
X-Robots-Tag:noindex
X-PUBLISHED-TTL:PT1H
BEGIN:VTIMEZONE
TZID:America/New_York
BEGIN:DAYLIGHT
TZOFFSETFROM:-0500
TZOFFSETTO:-0400
TZNAME:EDT
DTSTART:20250309T070000
END:DAYLIGHT
BEGIN:STANDARD
TZOFFSETFROM:-0400
TZOFFSETTO:-0500
TZNAME:EST
DTSTART:20251102T060000
END:STANDARD
BEGIN:DAYLIGHT
TZOFFSETFROM:-0500
TZOFFSETTO:-0400
TZNAME:EDT
DTSTART:20260308T070000
END:DAYLIGHT
BEGIN:STANDARD
TZOFFSETFROM:-0400
TZOFFSETTO:-0500
TZNAME:EST
DTSTART:20261101T060000
END:STANDARD
BEGIN:DAYLIGHT
TZOFFSETFROM:-0500
TZOFFSETTO:-0400
TZNAME:EDT
DTSTART:20270314T070000
END:DAYLIGHT
BEGIN:STANDARD
TZOFFSETFROM:-0400
TZOFFSETTO:-0500
TZNAME:EST
DTSTART:20271107T060000
END:STANDARD
END:VTIMEZONE
BEGIN:VEVENT
DTSTART;TZID=America/New_York:20260315T140000
DTEND;TZID=America/New_York:20260315T160000
DTSTAMP:20260419T155837
CREATED:20260119T220546Z
LAST-MODIFIED:20260119T221424Z
UID:990002686-1773583200-1773590400@uptownwestervilleinc.com
SUMMARY:WSHS 'Boeing\, Boeing' matinee
DESCRIPTION:Westerville South High School Theatre students will present the comedy “Boeing\, Boeing ” March 12-15 at South\, 303 S. Otterbein Ave. \nThis is a Black Box production with limited seating. \nPerformances will be at 7 p.m. Thursday-Saturday\, March 12-14\, and at 2 p.m. March 15. \nAbout the play: \nBoeing\, Boeing\n\nThis 1960s French farce adapted for the English-speaking stage features self-styled Parisian lothario Bernard\, who has Italian\, German and American fiancées\, each a beautiful airline hostess with frequent “layovers.” He keeps “one up\, one down\, and one pending” – until unexpected schedule changes bring all three to Paris\, and Bernard’s apartment\, at the same time. \n\n\nTickets are available here.
URL:https://uptownwestervilleinc.com/event/wshs-boeing-boeing-matinee/
LOCATION:Westerville South High School Theatre\, 303 S. Otterbein Ave\, Westerville\, OH\, 43081
CATEGORIES:In the area,School Events
ATTACH;FMTTYPE=image/webp:https://uptownwestervilleinc.com/wp-content/uploads/2026/01/3-12-26-WSHS-Boeing-Boeing.webp
GEO:40.1177811;-82.9231795
X-APPLE-STRUCTURED-LOCATION;VALUE=URI;X-ADDRESS=Westerville South High School Theatre 303 S. Otterbein Ave Westerville OH 43081;X-APPLE-RADIUS=500;X-TITLE=303 S. Otterbein Ave:geo:-82.9231795,40.1177811
END:VEVENT
END:VCALENDAR