BEGIN:VCALENDAR
VERSION:2.0
PRODID:-//Uptown Westerville Inc - ECPv6.15.20//NONSGML v1.0//EN
CALSCALE:GREGORIAN
METHOD:PUBLISH
X-ORIGINAL-URL:https://uptownwestervilleinc.com
X-WR-CALDESC:Events for Uptown Westerville Inc
REFRESH-INTERVAL;VALUE=DURATION:PT1H
X-Robots-Tag:noindex
X-PUBLISHED-TTL:PT1H
BEGIN:VTIMEZONE
TZID:America/New_York
BEGIN:DAYLIGHT
TZOFFSETFROM:-0500
TZOFFSETTO:-0400
TZNAME:EDT
DTSTART:20240310T070000
END:DAYLIGHT
BEGIN:STANDARD
TZOFFSETFROM:-0400
TZOFFSETTO:-0500
TZNAME:EST
DTSTART:20241103T060000
END:STANDARD
BEGIN:DAYLIGHT
TZOFFSETFROM:-0500
TZOFFSETTO:-0400
TZNAME:EDT
DTSTART:20250309T070000
END:DAYLIGHT
BEGIN:STANDARD
TZOFFSETFROM:-0400
TZOFFSETTO:-0500
TZNAME:EST
DTSTART:20251102T060000
END:STANDARD
BEGIN:DAYLIGHT
TZOFFSETFROM:-0500
TZOFFSETTO:-0400
TZNAME:EDT
DTSTART:20260308T070000
END:DAYLIGHT
BEGIN:STANDARD
TZOFFSETFROM:-0400
TZOFFSETTO:-0500
TZNAME:EST
DTSTART:20261101T060000
END:STANDARD
END:VTIMEZONE
BEGIN:VEVENT
DTSTART;TZID=America/New_York:20250110T190000
DTEND;TZID=America/New_York:20250110T210000
DTSTAMP:20260423T114205
CREATED:20250102T153402Z
LAST-MODIFIED:20250102T153412Z
UID:990001077-1736535600-1736542800@uptownwestervilleinc.com
SUMMARY:Live Music at Good Vibes Winery Jan 10
DESCRIPTION:Friday night live music: 7-9 p.m.\nJAN. 10 – Faye Williams – New to Good Vibes\, Faye is an indie rock artist based out of Columbus. Faye embraces the influences of Nirvana\, Halsy and Eddie Vedder. We look forward to having her play at Good Vibes.
URL:https://uptownwestervilleinc.com/event/live-music-at-good-vibes-winery-jan-10/
LOCATION:Good Vibes Winery\, 2 S State St\, Westerville\, OH\, 43081
CATEGORIES:Live Music,State Street News
ATTACH;FMTTYPE=image/webp:https://uptownwestervilleinc.com/wp-content/uploads/2025/01/1-10-24-Faye-Williams_GVW.webp
ORGANIZER;CN="Good Vibes Winery":MAILTO:info@goodvibeswinery.com
GEO:40.1258532;-82.931318
X-APPLE-STRUCTURED-LOCATION;VALUE=URI;X-ADDRESS=Good Vibes Winery 2 S State St Westerville OH 43081;X-APPLE-RADIUS=500;X-TITLE=2 S State St:geo:-82.931318,40.1258532
END:VEVENT
BEGIN:VEVENT
DTSTART;TZID=America/New_York:20250117T190000
DTEND;TZID=America/New_York:20250117T210000
DTSTAMP:20260423T114205
CREATED:20250102T144038Z
LAST-MODIFIED:20250102T144855Z
UID:990001075-1737140400-1737147600@uptownwestervilleinc.com
SUMMARY:Live Music at Good Vibes Winery Jan 17
DESCRIPTION:Friday night live music: 7-9 p.m.\nJAN. 17 – Annie Hawe – Looking for some Friday night fun? Drop by Good Vibes Winery to catch the great sounds of singer/songwriter Annie Hawe. Always Good Vibes when Annie is in the house.
URL:https://uptownwestervilleinc.com/event/live-music-at-good-vibes-winery-jan-17/
LOCATION:Good Vibes Winery\, 2 S State St\, Westerville\, OH\, 43081
CATEGORIES:Holiday events,Live Music,State Street News
ATTACH;FMTTYPE=image/webp:https://uptownwestervilleinc.com/wp-content/uploads/2024/11/Annie-Hawe.webp
ORGANIZER;CN="Good Vibes Winery":MAILTO:info@goodvibeswinery.com
GEO:40.1258532;-82.931318
X-APPLE-STRUCTURED-LOCATION;VALUE=URI;X-ADDRESS=Good Vibes Winery 2 S State St Westerville OH 43081;X-APPLE-RADIUS=500;X-TITLE=2 S State St:geo:-82.931318,40.1258532
END:VEVENT
BEGIN:VEVENT
DTSTART;TZID=America/New_York:20250121T183000
DTEND;TZID=America/New_York:20250121T203000
DTSTAMP:20260423T114205
CREATED:20250113T211045Z
LAST-MODIFIED:20250113T211743Z
UID:990001089-1737484200-1737491400@uptownwestervilleinc.com
SUMMARY:Sip & Sketch at Good Vibes Jan 21
DESCRIPTION:6:30-8:30 p.m.\nFeeling Artistic…or just want to come and have fun and drink some wine? Sign up for Sip & Sketch. Cost is only $40 per person which includes all supplies AND 2 glasses of wine. Register at www.artscouncilofwesterville.com.  Go to Classes\, then Adult Classes and then scroll down to the class you want.  This month: Water Color Greeting Cards – with the look of Stained Glass. … Experiment with watercolors and tape to create a set of 5 greeting cards with a stained-glass motif. Instructor: Erica Darlin \nThis looks really cool especially because you can play with whatever color palate you want.
URL:https://uptownwestervilleinc.com/event/sip-sketch-at-good-vibes-jan-21/
LOCATION:Good Vibes Winery\, 2 S State St\, Westerville\, OH\, 43081
CATEGORIES:arts workshop,State Street News
ATTACH;FMTTYPE=image/webp:https://uptownwestervilleinc.com/wp-content/uploads/2025/01/1-21-24-GreetingCardsStainedGlass.webp
ORGANIZER;CN="Good Vibes Winery":MAILTO:info@goodvibeswinery.com
GEO:40.1258532;-82.931318
X-APPLE-STRUCTURED-LOCATION;VALUE=URI;X-ADDRESS=Good Vibes Winery 2 S State St Westerville OH 43081;X-APPLE-RADIUS=500;X-TITLE=2 S State St:geo:-82.931318,40.1258532
END:VEVENT
BEGIN:VEVENT
DTSTART;TZID=America/New_York:20250124T190000
DTEND;TZID=America/New_York:20250124T210000
DTSTAMP:20260423T114205
CREATED:20241025T013424Z
LAST-MODIFIED:20241025T014141Z
UID:990001050-1737745200-1737752400@uptownwestervilleinc.com
SUMMARY:Historical Society: World of William Fouse
DESCRIPTION:The World of WIlliam Fouse will be the program for the Westerville Historical Society’s January meeting\, set for 7 p.m. Friday\, Jan. 24 in the meeting rooms at the Westerville Public Library\, 126 S. State St. \nLearn how educator and activist Fouse broke barriers and left Westerville with a powerful legacy for Black history and American history. \nFouse was the first Black graduate of Westerville High School and the first Black graduate of Otterbein University. He spent much of his life fighting for equal educational opportunities for Black students — but he didn’t do it alone. \nThe stories of Fouse and his support network provide insight into the legacies of racism and slavery\, the leadership and creativity of local Black activists\, and their lives’ continuing relevance for today. \nThis presentation will be given by Westerville History Museum Specialist Kathryn Kaslow\, and is based on the Museum’ s The World of William Fouse. The exhibit will be open for meeting attendees to browse\, 30 minutes before the start of the program.
URL:https://uptownwestervilleinc.com/event/historical-society-world-of-william-fouse/
LOCATION:Hanby House\, 160 W. Main St.\, Westerville\, OH\, 43081\, United States
CATEGORIES:Holiday events,Local history
ATTACH;FMTTYPE=image/webp:https://uptownwestervilleinc.com/wp-content/uploads/2024/10/1-24-25-WHS-Fouse-program.webp
ORGANIZER;CN="Westerville Historical Society":MAILTO:WHSpres@westervillehistory.org
GEO:40.0807273;-82.813418
X-APPLE-STRUCTURED-LOCATION;VALUE=URI;X-ADDRESS=Hanby House 160 W. Main St. Westerville OH 43081 United States;X-APPLE-RADIUS=500;X-TITLE=160 W. Main St.:geo:-82.813418,40.0807273
END:VEVENT
BEGIN:VEVENT
DTSTART;TZID=America/New_York:20250124T190000
DTEND;TZID=America/New_York:20250124T210000
DTSTAMP:20260423T114205
CREATED:20250102T152230Z
LAST-MODIFIED:20250102T153930Z
UID:990001076-1737745200-1737752400@uptownwestervilleinc.com
SUMMARY:Live music at Good Vibes Winery Jan 24
DESCRIPTION:Friday night live music: 7-9 p.m.\nCome enjoy Live Music from Mike Wolfe at Good Vibes Jan 24!  Mike is from right here in Westerville and has been playing guitar and singing for nearly four decades. He plays songs from the ’70s through today and also wrote “Good Vibes Westerville” as a tribute to our Winery
URL:https://uptownwestervilleinc.com/event/live-music-at-good-vibes-winery-jan-24/
LOCATION:Good Vibes Winery\, 2 S State St\, Westerville\, OH\, 43081
CATEGORIES:Live Music,State Street News
ATTACH;FMTTYPE=image/webp:https://uptownwestervilleinc.com/wp-content/uploads/2024/11/Mike-Wolfe.webp
ORGANIZER;CN="Good Vibes Winery":MAILTO:info@goodvibeswinery.com
GEO:40.1258532;-82.931318
X-APPLE-STRUCTURED-LOCATION;VALUE=URI;X-ADDRESS=Good Vibes Winery 2 S State St Westerville OH 43081;X-APPLE-RADIUS=500;X-TITLE=2 S State St:geo:-82.931318,40.1258532
END:VEVENT
BEGIN:VEVENT
DTSTART;TZID=America/New_York:20250129T183000
DTEND;TZID=America/New_York:20250129T203000
DTSTAMP:20260423T114205
CREATED:20250113T213833Z
LAST-MODIFIED:20250113T213842Z
UID:990001090-1738175400-1738182600@uptownwestervilleinc.com
SUMMARY:Sip & Sketch at North High Jan. 29
DESCRIPTION:Sip & Sketch – Northern Lights\n\nSip & Sketch at North High Brewery\, 250 S. State St.\, in a class organized by the Arts Council of Westerville. Capture shimmering curtains of Northern Lights dancing across the night sky on canvas with acrylics. No experience necessary. $40 class fee includes all materials\, instruction and two adult beverages. Instructor: Jan Fedorenko
URL:https://uptownwestervilleinc.com/event/sip-sketch-at-north-high-jan-29/
LOCATION:North High Brewing Co\, 250 S. State St.\, Westerville\, 43081\, United States
CATEGORIES:arts workshop,State Street News
ATTACH;FMTTYPE=image/webp:https://uptownwestervilleinc.com/wp-content/uploads/2025/01/1-29-25-NorthernLights-sip-sketch.webp
ORGANIZER;CN="Arts Council of Westerville":MAILTO:artscouncilwesterville@gmail.com
GEO:40.1191639;-82.9282601
X-APPLE-STRUCTURED-LOCATION;VALUE=URI;X-ADDRESS=North High Brewing Co 250 S. State St. Westerville 43081 United States;X-APPLE-RADIUS=500;X-TITLE=250 S. State St.:geo:-82.9282601,40.1191639
END:VEVENT
BEGIN:VEVENT
DTSTART;TZID=America/New_York:20250131T190000
DTEND;TZID=America/New_York:20250131T210000
DTSTAMP:20260423T114205
CREATED:20250124T161823Z
LAST-MODIFIED:20250124T161831Z
UID:990001103-1738350000-1738357200@uptownwestervilleinc.com
SUMMARY:Live music at Good Vibes Winery Jan 31
DESCRIPTION:Friday night live music: 7-9 p.m.\nCome enjoy Live Music from J & J Recall at Good Vibes Jan 31! \nA local group from right here in Westerville\, Ohio.  They play the Beatles\, Fleetwood Mac\, Van Morrison and more. It will be a great time\, you don’t want to miss it!
URL:https://uptownwestervilleinc.com/event/live-music-at-good-vibes-winery-jan-31/
LOCATION:Good Vibes Winery\, 2 S State St\, Westerville\, OH\, 43081
CATEGORIES:Live Music,State Street News
ATTACH;FMTTYPE=image/webp:https://uptownwestervilleinc.com/wp-content/uploads/2025/01/2-8-25-J-and-J-Recall.webp
ORGANIZER;CN="Good Vibes Winery":MAILTO:info@goodvibeswinery.com
GEO:40.1258532;-82.931318
X-APPLE-STRUCTURED-LOCATION;VALUE=URI;X-ADDRESS=Good Vibes Winery 2 S State St Westerville OH 43081;X-APPLE-RADIUS=500;X-TITLE=2 S State St:geo:-82.931318,40.1258532
END:VEVENT
END:VCALENDAR