BEGIN:VCALENDAR
VERSION:2.0
PRODID:-//Uptown Westerville Inc - ECPv6.15.20//NONSGML v1.0//EN
CALSCALE:GREGORIAN
METHOD:PUBLISH
X-ORIGINAL-URL:https://uptownwestervilleinc.com
X-WR-CALDESC:Events for Uptown Westerville Inc
REFRESH-INTERVAL;VALUE=DURATION:PT1H
X-Robots-Tag:noindex
X-PUBLISHED-TTL:PT1H
BEGIN:VTIMEZONE
TZID:America/New_York
BEGIN:DAYLIGHT
TZOFFSETFROM:-0500
TZOFFSETTO:-0400
TZNAME:EDT
DTSTART:20240310T070000
END:DAYLIGHT
BEGIN:STANDARD
TZOFFSETFROM:-0400
TZOFFSETTO:-0500
TZNAME:EST
DTSTART:20241103T060000
END:STANDARD
BEGIN:DAYLIGHT
TZOFFSETFROM:-0500
TZOFFSETTO:-0400
TZNAME:EDT
DTSTART:20250309T070000
END:DAYLIGHT
BEGIN:STANDARD
TZOFFSETFROM:-0400
TZOFFSETTO:-0500
TZNAME:EST
DTSTART:20251102T060000
END:STANDARD
BEGIN:DAYLIGHT
TZOFFSETFROM:-0500
TZOFFSETTO:-0400
TZNAME:EDT
DTSTART:20260308T070000
END:DAYLIGHT
BEGIN:STANDARD
TZOFFSETFROM:-0400
TZOFFSETTO:-0500
TZNAME:EST
DTSTART:20261101T060000
END:STANDARD
END:VTIMEZONE
BEGIN:VEVENT
DTSTART;TZID=America/New_York:20250801T190000
DTEND;TZID=America/New_York:20250801T210000
DTSTAMP:20260419T172450
CREATED:20250801T152944Z
LAST-MODIFIED:20250801T152949Z
UID:990001931-1754074800-1754082000@uptownwestervilleinc.com
SUMMARY:Live music at Good Vibes Winery Aug 1
DESCRIPTION:Friday night live music: 7-9 p.m.\nCome enjoy Live Music from Ken Schwartz at Good Vibes Aug 1! \nKen is a local musician who grew up right here in Westerville.  If you like the Eagles\, James Taylor\, Rascal Flatts and Michael Buble you will enjoy his music…. he has a playlist you will want to sign along with. Come check Ken out this Friday.
URL:https://uptownwestervilleinc.com/event/live-music-at-good-vibes-winery-aug-1/
LOCATION:Good Vibes Winery\, 2 S State St\, Westerville\, OH\, 43081
CATEGORIES:Live Music,State Street News
ATTACH;FMTTYPE=image/webp:https://uptownwestervilleinc.com/wp-content/uploads/2025/03/3-14-25-ken-schwartz.webp
ORGANIZER;CN="Good Vibes Winery":MAILTO:info@goodvibeswinery.com
GEO:40.1258532;-82.931318
X-APPLE-STRUCTURED-LOCATION;VALUE=URI;X-ADDRESS=Good Vibes Winery 2 S State St Westerville OH 43081;X-APPLE-RADIUS=500;X-TITLE=2 S State St:geo:-82.931318,40.1258532
END:VEVENT
BEGIN:VEVENT
DTSTART;TZID=America/New_York:20250802T130000
DTEND;TZID=America/New_York:20250802T160000
DTSTAMP:20260419T172450
CREATED:20250801T140726Z
LAST-MODIFIED:20250801T140733Z
UID:990001853-1754139600-1754150400@uptownwestervilleinc.com
SUMMARY:Historical Society: Bishop Hanby and the Whiskey Wars
DESCRIPTION:In July\, 1875 Henry Corbin opened a saloon in Westerville and the Whiskey Wars began. Bishop William Hanby had a prominent role in this anti-alcohol battle. There will be presentations at Hanby House on Saturday\, August 2 at 1:30; 2:15 and 3:00 to share some of the stories of these dramatic events in our community’s history and the Hanby connection. The house will be open for tours from 1-4pm. This event is free and open to the public. \n\n\n\n\n\n\n\n\n2025 marks 150 years since the beginning of the Westerville Whiskey Wars which put the community on the map of anti-alcohol “holy places”. Join us as we explore Bishop William Hanby’s action during this turbulent time for our town.
URL:https://uptownwestervilleinc.com/event/historical-society-bishop-hanby-and-the-whiskey-wars/
LOCATION:Hanby House\, 160 W. Main St.\, Westerville\, OH\, 43081\, United States
CATEGORIES:Local history
ATTACH;FMTTYPE=image/webp:https://uptownwestervilleinc.com/wp-content/uploads/2025/06/6-14-25-Hanby-House.webp
ORGANIZER;CN="Westerville Historical Society":MAILTO:WHSpres@westervillehistory.org
GEO:40.0807273;-82.813418
X-APPLE-STRUCTURED-LOCATION;VALUE=URI;X-ADDRESS=Hanby House 160 W. Main St. Westerville OH 43081 United States;X-APPLE-RADIUS=500;X-TITLE=160 W. Main St.:geo:-82.813418,40.0807273
END:VEVENT
BEGIN:VEVENT
DTSTART;TZID=America/New_York:20250808T190000
DTEND;TZID=America/New_York:20250808T210000
DTSTAMP:20260419T172450
CREATED:20250801T153252Z
LAST-MODIFIED:20250801T153258Z
UID:990001932-1754679600-1754686800@uptownwestervilleinc.com
SUMMARY:Live music at Good Vibes Winery Aug 8
DESCRIPTION:Mike Wolfe live 7-9 p.m.\nCome enjoy Live Music from Mike Wolfe at Good Vibes May 30!  Mike is from right here in Westerville and has been playing guitar and singing for nearly four decades. He plays songs from the ’70s through today and also wrote “Good Vibes Westerville” as a tribute to our Winery. Think of Margaritaville but with lyrics about Uptown\, and of course Good Vibes Winery.  Always a fun night with Mike in the house!
URL:https://uptownwestervilleinc.com/event/live-music-at-good-vibes-winery-aug-8/
LOCATION:Good Vibes Winery\, 2 S State St\, Westerville\, OH\, 43081
CATEGORIES:Live Music,State Street News
ATTACH;FMTTYPE=image/webp:https://uptownwestervilleinc.com/wp-content/uploads/2024/11/Mike-Wolfe.webp
ORGANIZER;CN="Good Vibes Winery":MAILTO:info@goodvibeswinery.com
GEO:40.1258532;-82.931318
X-APPLE-STRUCTURED-LOCATION;VALUE=URI;X-ADDRESS=Good Vibes Winery 2 S State St Westerville OH 43081;X-APPLE-RADIUS=500;X-TITLE=2 S State St:geo:-82.931318,40.1258532
END:VEVENT
BEGIN:VEVENT
DTSTART;TZID=America/New_York:20250814T180000
DTEND;TZID=America/New_York:20250814T193000
DTSTAMP:20260419T172450
CREATED:20250801T155401Z
LAST-MODIFIED:20250801T155406Z
UID:990001935-1755194400-1755199800@uptownwestervilleinc.com
SUMMARY:Good Vibes Book Club Aug 14
DESCRIPTION:Book Club: 6-7:30 p.m.\nSummer is here … let’s read a good book! This month we will be reading: Cassandra in Reverse by Holly Smale.  Come ready to chat\, have fun and drink some wine. No need to register\, just read the book and show up.
URL:https://uptownwestervilleinc.com/event/good-vibes-book-club-aug-14/
LOCATION:Good Vibes Winery\, 2 S State St\, Westerville\, OH\, 43081
CATEGORIES:Books & Literature,State Street News
ATTACH;FMTTYPE=image/webp:https://uptownwestervilleinc.com/wp-content/uploads/2025/03/3-13-25-good-vibes-book-club.webp
ORGANIZER;CN="Good Vibes Winery":MAILTO:info@goodvibeswinery.com
GEO:40.1258532;-82.931318
X-APPLE-STRUCTURED-LOCATION;VALUE=URI;X-ADDRESS=Good Vibes Winery 2 S State St Westerville OH 43081;X-APPLE-RADIUS=500;X-TITLE=2 S State St:geo:-82.931318,40.1258532
END:VEVENT
BEGIN:VEVENT
DTSTART;TZID=America/New_York:20250815T190000
DTEND;TZID=America/New_York:20250815T210000
DTSTAMP:20260419T172450
CREATED:20250801T153624Z
LAST-MODIFIED:20250801T153630Z
UID:990001933-1755284400-1755291600@uptownwestervilleinc.com
SUMMARY:Live Music at Good Vibes Winery Aug 15
DESCRIPTION:Friday night live music: 7-9 p.m.\nAug 15 – Annie Hawe – Looking for some Friday night fun? Drop by Good Vibes Winery to catch the great sounds of singer/songwriter Annie Hawe. Always Good Vibes when Annie is in the house.
URL:https://uptownwestervilleinc.com/event/live-music-at-good-vibes-winery-aug-15/
LOCATION:Good Vibes Winery\, 2 S State St\, Westerville\, OH\, 43081
CATEGORIES:Live Music,State Street News
ATTACH;FMTTYPE=image/webp:https://uptownwestervilleinc.com/wp-content/uploads/2024/11/Annie-Hawe.webp
ORGANIZER;CN="Good Vibes Winery":MAILTO:info@goodvibeswinery.com
GEO:40.1258532;-82.931318
X-APPLE-STRUCTURED-LOCATION;VALUE=URI;X-ADDRESS=Good Vibes Winery 2 S State St Westerville OH 43081;X-APPLE-RADIUS=500;X-TITLE=2 S State St:geo:-82.931318,40.1258532
END:VEVENT
BEGIN:VEVENT
DTSTART;TZID=America/New_York:20250819T183000
DTEND;TZID=America/New_York:20250819T203000
DTSTAMP:20260419T172450
CREATED:20250801T161330Z
LAST-MODIFIED:20250801T161335Z
UID:990001945-1755628200-1755635400@uptownwestervilleinc.com
SUMMARY:Sip & Sketch at Good Vibes Aug 19
DESCRIPTION:6:30-8:30 p.m.\nCelebrate the flavors of summer in this class where you’ll paint vibrant\, fruit-inspired designs onto tumbler-style glassware complete with bamboo lids and straws. Ticket includes instruction\, all materials\, and two glasses of wine. No experience necessary. \nInstructor: Erica Darlin \nCost: $40 \nRegister Here
URL:https://uptownwestervilleinc.com/event/sip-sketch-at-good-vibes-aug-19/
LOCATION:Good Vibes Winery\, 2 S State St\, Westerville\, OH\, 43081
CATEGORIES:Art event,arts workshop,In the area,State Street News
ATTACH;FMTTYPE=image/webp:https://uptownwestervilleinc.com/wp-content/uploads/2025/08/8-19-25-sip-and-sketch.webp
ORGANIZER;CN="Good Vibes Winery":MAILTO:info@goodvibeswinery.com
GEO:40.1258532;-82.931318
X-APPLE-STRUCTURED-LOCATION;VALUE=URI;X-ADDRESS=Good Vibes Winery 2 S State St Westerville OH 43081;X-APPLE-RADIUS=500;X-TITLE=2 S State St:geo:-82.931318,40.1258532
END:VEVENT
BEGIN:VEVENT
DTSTART;TZID=America/New_York:20250827T183000
DTEND;TZID=America/New_York:20250827T203000
DTSTAMP:20260419T172450
CREATED:20250801T162023Z
LAST-MODIFIED:20250801T162115Z
UID:990001946-1756319400-1756326600@uptownwestervilleinc.com
SUMMARY:Sip & Sketch at North High Aug. 27
DESCRIPTION:August Sip & Sketch at North High Brewing\n\nUse watercolor pencils to paint beautiful doors from around the world. Ticket includes instruction\, all materials\, and two adult beverages. No experience necessary. \nInstructor: Jan Fedorenko \nTheme: Doorways to Paradise \nCost: $35 \nRegister Here
URL:https://uptownwestervilleinc.com/event/sip-sketch-at-north-high-aug-27/
LOCATION:North High Brewing Co\, 250 S. State St.\, Westerville\, 43081\, United States
CATEGORIES:arts workshop,State Street News
ATTACH;FMTTYPE=image/webp:https://uptownwestervilleinc.com/wp-content/uploads/2025/08/8-27-25-sip-and-sketch-doorways.webp
ORGANIZER;CN="Arts Council of Westerville":MAILTO:artscouncilwesterville@gmail.com
GEO:40.1191639;-82.9282601
X-APPLE-STRUCTURED-LOCATION;VALUE=URI;X-ADDRESS=North High Brewing Co 250 S. State St. Westerville 43081 United States;X-APPLE-RADIUS=500;X-TITLE=250 S. State St.:geo:-82.9282601,40.1191639
END:VEVENT
BEGIN:VEVENT
DTSTART;TZID=America/New_York:20250829T190000
DTEND;TZID=America/New_York:20250829T210000
DTSTAMP:20260419T172450
CREATED:20250801T154638Z
LAST-MODIFIED:20250801T154644Z
UID:990001934-1756494000-1756501200@uptownwestervilleinc.com
SUMMARY:Live Music at Good Vibes Winery Aug 29
DESCRIPTION:Friday night live music: 7-9 p.m.\nAug 29 – Forcynthia – Looking for some Friday night fun? Drop by Good Vibes Winery to catch the great sounds of singer/songwriter duo Forcynthia. It’s a little bit of a blast from the past as they haven’t played here in a few years and we are excited to have them back. Forcynthia performs acoustic rock\, blues and country and you will love their harmonies.
URL:https://uptownwestervilleinc.com/event/live-music-at-good-vibes-winery-aug-29/
LOCATION:Good Vibes Winery\, 2 S State St\, Westerville\, OH\, 43081
CATEGORIES:Live Music,State Street News
ATTACH;FMTTYPE=image/webp:https://uptownwestervilleinc.com/wp-content/uploads/2025/08/8-29-25-Forcynthia.webp
ORGANIZER;CN="Good Vibes Winery":MAILTO:info@goodvibeswinery.com
GEO:40.1258532;-82.931318
X-APPLE-STRUCTURED-LOCATION;VALUE=URI;X-ADDRESS=Good Vibes Winery 2 S State St Westerville OH 43081;X-APPLE-RADIUS=500;X-TITLE=2 S State St:geo:-82.931318,40.1258532
END:VEVENT
END:VCALENDAR