BEGIN:VCALENDAR
VERSION:2.0
PRODID:-//Uptown Westerville Inc - ECPv6.15.20//NONSGML v1.0//EN
CALSCALE:GREGORIAN
METHOD:PUBLISH
X-WR-CALNAME:Uptown Westerville Inc
X-ORIGINAL-URL:https://uptownwestervilleinc.com
X-WR-CALDESC:Events for Uptown Westerville Inc
REFRESH-INTERVAL;VALUE=DURATION:PT1H
X-Robots-Tag:noindex
X-PUBLISHED-TTL:PT1H
BEGIN:VTIMEZONE
TZID:America/New_York
BEGIN:DAYLIGHT
TZOFFSETFROM:-0500
TZOFFSETTO:-0400
TZNAME:EDT
DTSTART:20240310T070000
END:DAYLIGHT
BEGIN:STANDARD
TZOFFSETFROM:-0400
TZOFFSETTO:-0500
TZNAME:EST
DTSTART:20241103T060000
END:STANDARD
BEGIN:DAYLIGHT
TZOFFSETFROM:-0500
TZOFFSETTO:-0400
TZNAME:EDT
DTSTART:20250309T070000
END:DAYLIGHT
BEGIN:STANDARD
TZOFFSETFROM:-0400
TZOFFSETTO:-0500
TZNAME:EST
DTSTART:20251102T060000
END:STANDARD
BEGIN:DAYLIGHT
TZOFFSETFROM:-0500
TZOFFSETTO:-0400
TZNAME:EDT
DTSTART:20260308T070000
END:DAYLIGHT
BEGIN:STANDARD
TZOFFSETFROM:-0400
TZOFFSETTO:-0500
TZNAME:EST
DTSTART:20261101T060000
END:STANDARD
END:VTIMEZONE
BEGIN:VEVENT
DTSTART;TZID=America/New_York:20251101T190000
DTEND;TZID=America/New_York:20251101T201500
DTSTAMP:20260420T030259
CREATED:20250913T144443Z
LAST-MODIFIED:20250913T144443Z
UID:990002062-1762023600-1762028100@uptownwestervilleinc.com
SUMMARY:Uptown Ghost Story Tours 2025 7pm Saturdays
DESCRIPTION:Get ready for a spine-tingling adventure through Uptown Westerville! Our Uptown Ghost Story Tours weave together eerie tales from the community into an unforgettable walking tour full of history\, mystery\, and just the right amount of spooky. \nTeaming up with Uptown Westerville\, Inc.\, members of Good Medicine Productions lead this walking tour that kicks off at the back of Otterbein Cemetery and wraps up at the Old Bag of Nails Pub\, in Uptown’s historic Weyant Building. \nOffered Friday and Saturday nights in late September and October—perfect for ages 9 and up. Don’t miss out on the fun! \nTour meets at THE BACK OF Otterbein Cemetery\, at THE CORNER OF WALNUT AND GROVE streets.\nOtterbein Cemetery\n174 S. Knox St. 43081 \nThere are no physical tickets for this tour.  Get your tickets at the link below. You will receive a confirmation email upon purchase.
URL:https://uptownwestervilleinc.com/event/uptown-ghost-story-tours-2025-7pm-saturdays/2025-11-01/
LOCATION:Uptown Westerville District\, 21 S. State St.\, Westerville\, OH\, 43081\, United States
CATEGORIES:Local history,Walking Tours
ATTACH;FMTTYPE=image/webp:https://uptownwestervilleinc.com/wp-content/uploads/2023/09/Ghost-Story-Tours-16x9-1.webp
ORGANIZER;CN="Uptown Westerville Inc - UWI":MAILTO:dir@uptownwestervilleinc.com
GEO:40.1252264;-82.9317573
X-APPLE-STRUCTURED-LOCATION;VALUE=URI;X-ADDRESS=Uptown Westerville District 21 S. State St. Westerville OH 43081 United States;X-APPLE-RADIUS=500;X-TITLE=21 S. State St.:geo:-82.9317573,40.1252264
END:VEVENT
BEGIN:VEVENT
DTSTART;TZID=America/New_York:20251101T210000
DTEND;TZID=America/New_York:20251101T221500
DTSTAMP:20260420T030259
CREATED:20250913T144027Z
LAST-MODIFIED:20250913T144027Z
UID:990002050-1762030800-1762035300@uptownwestervilleinc.com
SUMMARY:Uptown Ghost Story Tours 2025 9pm Saturdays
DESCRIPTION:Get ready for a spine-tingling adventure through Uptown Westerville! Our Uptown Ghost Story Tours weave together eerie tales from the community into an unforgettable walking tour full of history\, mystery\, and just the right amount of spooky. \nTeaming up with Uptown Westerville\, Inc.\, members of Good Medicine Productions lead this walking tour that kicks off at the back of Otterbein Cemetery and wraps up at the Old Bag of Nails Pub\, in Uptown’s historic Weyant Building. \nOffered Friday and Saturday nights in late September and October—perfect for ages 9 and up. Don’t miss out on the fun! \nTour meets at THE BACK OF Otterbein Cemetery\, at THE CORNER OF WALNUT AND GROVE streets.\nOtterbein Cemetery\n174 S. Knox St. 43081 \nThere are no physical tickets for this tour.  Get your tickets at the link below. You will receive a confirmation email upon purchase.
URL:https://uptownwestervilleinc.com/event/uptown-ghost-story-tours-2025-9pm-saturdays/2025-11-01/
LOCATION:Uptown Westerville District\, 21 S. State St.\, Westerville\, OH\, 43081\, United States
CATEGORIES:Local history,Walking Tours
ATTACH;FMTTYPE=image/webp:https://uptownwestervilleinc.com/wp-content/uploads/2023/09/Ghost-Story-Tours-16x9-1.webp
ORGANIZER;CN="Uptown Westerville Inc - UWI":MAILTO:dir@uptownwestervilleinc.com
GEO:40.1252264;-82.9317573
X-APPLE-STRUCTURED-LOCATION;VALUE=URI;X-ADDRESS=Uptown Westerville District 21 S. State St. Westerville OH 43081 United States;X-APPLE-RADIUS=500;X-TITLE=21 S. State St.:geo:-82.9317573,40.1252264
END:VEVENT
BEGIN:VEVENT
DTSTART;TZID=America/New_York:20251109T140000
DTEND;TZID=America/New_York:20251109T160000
DTSTAMP:20260420T030259
CREATED:20250902T214610Z
LAST-MODIFIED:20250902T232648Z
UID:990001963-1762696800-1762704000@uptownwestervilleinc.com
SUMMARY:Historical Society Annual Meeting & Program: Hoover Reservoir
DESCRIPTION:Annual Meeting and Program \nThe Westerville Historical Society will hold its annual meeting and special program Sunday\, Nov. 9\, in McVay Halt at the Church of the Messiah\, 51 N. State St. \nGary Houtz and John Bokros will present a program about Hoover Reservoir\, including information about the land before the construction\, the impetus for the project and the construction and impact of the dam. \nThis is the Westerville Historical Society’s annual meeting and dessert buffet. Reservations are required and will be accepted after the society’s newsletter goes out in October. \n 
URL:https://uptownwestervilleinc.com/event/historical-society-annual-meeting-program-hoover-reservoir/
LOCATION:Church of the Messiah\, 51 N. State St.\, Westerville\, OH\, 43081\, United States
CATEGORIES:Local history,State Street News
ATTACH;FMTTYPE=image/webp:https://uptownwestervilleinc.com/wp-content/uploads/2025/09/West-Historical-Soci-logo-800x450_calendar.webp
ORGANIZER;CN="Westerville Historical Society":MAILTO:WHSpres@westervillehistory.org
GEO:40.127434;-82.932593
X-APPLE-STRUCTURED-LOCATION;VALUE=URI;X-ADDRESS=Church of the Messiah 51 N. State St. Westerville OH 43081 United States;X-APPLE-RADIUS=500;X-TITLE=51 N. State St.:geo:-82.932593,40.127434
END:VEVENT
END:VCALENDAR