BEGIN:VCALENDAR
VERSION:2.0
PRODID:-//Uptown Westerville Inc - ECPv6.15.20//NONSGML v1.0//EN
CALSCALE:GREGORIAN
METHOD:PUBLISH
X-WR-CALNAME:Uptown Westerville Inc
X-ORIGINAL-URL:https://uptownwestervilleinc.com
X-WR-CALDESC:Events for Uptown Westerville Inc
REFRESH-INTERVAL;VALUE=DURATION:PT1H
X-Robots-Tag:noindex
X-PUBLISHED-TTL:PT1H
BEGIN:VTIMEZONE
TZID:America/New_York
BEGIN:DAYLIGHT
TZOFFSETFROM:-0500
TZOFFSETTO:-0400
TZNAME:EDT
DTSTART:20240310T070000
END:DAYLIGHT
BEGIN:STANDARD
TZOFFSETFROM:-0400
TZOFFSETTO:-0500
TZNAME:EST
DTSTART:20241103T060000
END:STANDARD
BEGIN:DAYLIGHT
TZOFFSETFROM:-0500
TZOFFSETTO:-0400
TZNAME:EDT
DTSTART:20250309T070000
END:DAYLIGHT
BEGIN:STANDARD
TZOFFSETFROM:-0400
TZOFFSETTO:-0500
TZNAME:EST
DTSTART:20251102T060000
END:STANDARD
BEGIN:DAYLIGHT
TZOFFSETFROM:-0500
TZOFFSETTO:-0400
TZNAME:EDT
DTSTART:20260308T070000
END:DAYLIGHT
BEGIN:STANDARD
TZOFFSETFROM:-0400
TZOFFSETTO:-0500
TZNAME:EST
DTSTART:20261101T060000
END:STANDARD
END:VTIMEZONE
BEGIN:VEVENT
DTSTART;TZID=America/New_York:20250919T190000
DTEND;TZID=America/New_York:20250919T210000
DTSTAMP:20260420T030623
CREATED:20250902T213020Z
LAST-MODIFIED:20250902T232554Z
UID:990001962-1758308400-1758315600@uptownwestervilleinc.com
SUMMARY:Historical Society: The Sharp Family and its impact on our community
DESCRIPTION:Kathy Cocuzzi will present a program about the Sharp family and their homes in Westerville. This important founding family of the community were part of the Underground Railroad\, active in the formation of Church of the Messiah\, and donated land for the Old Methodist Cemetery. \nThis program is free and open to the public.
URL:https://uptownwestervilleinc.com/event/historical-society-the-sharp-family-and-its-impact-on-our-community/
LOCATION:Westerville Senior Center-Community Center\, 350 N. Cleveland Ave.\, Westerville\, OH\, 43082\, United States
CATEGORIES:In the area,Local history
ATTACH;FMTTYPE=image/webp:https://uptownwestervilleinc.com/wp-content/uploads/2025/09/West-Historical-Soci-logo-800x450_calendar.webp
ORGANIZER;CN="Westerville Historical Society":MAILTO:WHSpres@westervillehistory.org
GEO:40.1353192;-82.9452059
X-APPLE-STRUCTURED-LOCATION;VALUE=URI;X-ADDRESS=Westerville Senior Center-Community Center 350 N. Cleveland Ave. Westerville OH 43082 United States;X-APPLE-RADIUS=500;X-TITLE=350 N. Cleveland Ave.:geo:-82.9452059,40.1353192
END:VEVENT
END:VCALENDAR